BEGIN:VCALENDAR
VERSION:2.0
PRODID:-//jEvents 1.5 for Joomla//EN
BEGIN:VEVENT
CALSCALE:GREGORIAN
METHOD:PUBLISH

UID:3715f09b6e12a05ff159c0452498a352
CATEGORIES:Alap szeminÃ¡rium 
SUMMARY:TarjÃ¡nyiN: Biologika ALAP tanfolyam 1/4 (MarosvÃ¡sÃ¡rhely)
LOCATION:MarosvÃ¡sÃ¡rhely
DESCRIPTION;ENCODING=QUOTED-PRINTABLE:<p>&nbsp;</p><p><b><span style="font-size: 12pt;">BIOLOGIKA (ÃšJ MEDICINA) 
 TRÃ‰NING</span></b></p><p><b><span style="font-size: 12pt;">4 napos<span cl
 ass="Apple-converted-space">&nbsp;</span>ALA<span class="Apple-converted-sp
 ace"></span>P tanfolyam<span class="Apple-converted-space"> </span></span><
 /b><b><span style="font-size: 12pt;"><span style="color: #003366;">MarosvÃ¡
 sÃ¡rhely</span></span></b></p><p><b><span style="font-size: 12pt;">&nbsp;</
 span></b></p><p><span style="font-size: 10pt;">tÃ©makÃ¶r: </span><span styl
 e="font-size: 10pt;">az agy mÅ±kÃ¶dÃ©se, a tudatszÅ±kÃ¼lÃ©s jelensÃ©ge, tÃº
 lÃ©lÃ©si dinamikÃ¡k, a Szerv Atlasz hasznÃ¡lata, hormonszint Ã©s Ã©letvitel
  </span><span style="font-size: 10pt;"></span></p><p><span style="font-size
 : 10pt;">daganatok, sorvadÃ¡sok Ã©s mÃ¡s elvÃ¡ltozÃ¡sok, biolÃ³giai Ã©rtelm
 Ã¼k, cÃ©ljuk, rendeltetÃ©sÃ¼k Ã©s lefolyÃ¡suk.&nbsp;</span></p><p><span sty
 le="font-size: 10pt;">trÃ©ner:<span class="Apple-converted-space"> <strong>
 TarjÃ¡nyi Nanetta,&nbsp;</strong></span></span><a target="_blank" href="par
 tnereink/tarjanyi-nanetta.html">http://biologika.hu/partnereink/tarjanyi-na
 netta.html</a></p><p><span style="font-size: 10pt;">helyszÃ­n:<strong><span
  class="Apple-converted-space"> MarosvÃ¡sÃ¡rhely,&nbsp;</span></strong></sp
 an><span style="font-size: 10pt;">szervezÃ©s alatt, fÃ¼gg a lÃ©tszÃ¡mtÃ³l -
  tovÃ¡bbi informÃ¡ciÃ³ e-mailben</span></p><p><span style="font-size: 10pt;
 ">idÅ‘tartam: <strong>4 nap</strong>, jÃºlius 9-10, augusztus 27-28.<br /><
 br />haladÃ³: <strong>2 nap </strong>Å‘sszel<br /></span></p><p><span style
 ="font-size: 10pt;">ebÃ©dszÃ¼net: <strong>13</strong></span><strong><span s
 tyle="font-size: 10pt;">-14 Ã³rÃ¡ig</span></strong>&nbsp;</p><p><span style
 ="font-size: 10pt;">kÃ©rdÃ©sek, vÃ¡laszok: <strong>1</strong><strong>8-19</
 strong> <strong>Ã³rÃ¡ig</strong><br /></span></p><p><span style="font-size:
  10pt;">bontÃ¡si lehetÅ‘sÃ©g: van<br /></span></p><p><span style="font-size
 : 10pt;">elÅ‘feltÃ©tel:<span class="Apple-converted-space">&nbsp;</span></s
 pan><b><a href="http://eloadas.biologika.hu" target="_blank" style="color: 
 #1155cc;"><span style="font-size: 10pt;">5 biolÃ³giai termÃ©szettÃ¶rvÃ©ny</
 span></a></b><span style="font-size: 10pt;"><span class="Apple-converted-sp
 ace">&nbsp;</span>online, ingyenes elÅ‘adÃ¡s megtekintÃ©se legalÃ¡bb kÃ©tsz
 er<br /></span></p><p><span style="font-size: 10pt;"><br /></span></p><p><s
 pan style="font-size: 10pt;">kedvezmÃ©nyes tanfolyamdÃ­jak: <br /><br /></s
 pan></p><p><span style="font-size: 10pt;">2016. jÃºlius 1. elÅ‘tti jelentke
 zÃ©s Ã©s foglalÃ³ befizetÃ©se esetÃ©n a tanfolyam Ã¡ra: <strong>300RON </st
 rong>(kÃ¼lÃ¶n szervezÃ©s, lÃ©tszÃ¡mminimummal Ã©rvÃ©nyes az Ã¡r)<strong><br
  /></strong></span></p><p><span style="font-size: 10pt;">IsmÃ©tlÅ‘knek: <st
 rong>150 RON</strong> (50%-os kedvezmÃ©ny)</span></p><p>&nbsp;</p><p><span 
 style="font-size: 10pt;">2016. jÃºlius 1. utÃ¡n a tanfolyam Ã¡ra: <strong>4
 00 RON</strong></span></p><p><span style="font-size: 10pt;">IsmÃ©tlÅ‘knek: 
 <strong>200 RON</strong> (50%-os kedvezmÃ©ny)</span></p><p><span style="fon
 t-size: 10pt;"><strong><span style="color: #800000;"><br /></span></strong>
 </span></p><p><span style="font-size: 10pt;">jelentkezÃ©s:<span class="Appl
 e-converted-space">&nbsp;</span></span><b><span style="color: #800000;"><sp
 an style="font-size: 10pt;">Ã­rÃ¡sos elÅ‘regisztrÃ¡ciÃ³ kÃ¶telezÅ‘</span></
 span></b><span style="font-size: 10pt;"><span class="Apple-converted-space"
 >&nbsp;</span>a <a href="javascript:mctmp(0);">
 <script language='JavaScri
 pt' type='text/javascript'>
 <!--
 var prefix = 'm&#97;&#105;lt&#111;:';
 v
 ar suffix = '';
 var attribs = '';
 var path = 'hr' + 'ef' + '=';
 var addy
 47718 = 'r&#101;zs&#111;.t&#101;gl&#97;s' + '&#64;';
 addy47718 = addy47718
  + 'bbsl&#105;f&#101;' + '&#46;' + 'n&#101;t';
 document.write( '<a ' + pat
 h + '\'' + prefix + addy47718 + suffix + '\'' + attribs + '>' );
 document.
 write( addy47718 );
 document.write( '<\/a>' );
 //-->
 </script><script la
 nguage='JavaScript' type='text/javascript'>
 <!--
 document.write( '<span s
 tyle=\'display: none;\'>' );
 //-->
 </script>Ez az email cÃ­m vÃ©dett a sp
 am robotoktÃ³l, a megtekintÃ©sÃ©hez engedÃ©lyezni kell a Javascriptet.
 <sc
 ript language='JavaScript' type='text/javascript'>
 <!--
 document.write( '
 </' );
 document.write( 'span>' );
 //-->
 </script></a> e-mail cÃ­men <br 
 /></span></p><p><span style="font-size: 10pt;">tovÃ¡bbi programok (klub, ko
 nzultÃ¡ciÃ³): SzilÃ¡gynagyfaluban, KolozsvÃ¡ron, hamarosan NagyvÃ¡radon is:
  a BBSLife honlapjÃ¡n Ã©s facebook oldalÃ¡n:</span></p><p><a href="https://
 www.facebook.com/BBSLife-590093897763401/events">https://www.facebook.com/B
 BSLife-590093897763401/events</a></p><p>&nbsp;</p><p><span style="font-size
 : 10pt;">A tanfolyam cÃ©lja, hogy alapokat adjon a biolÃ³giai termÃ©szettÃ¶
 rvÃ©nyek megismerÃ©sÃ©hez, a testben lezajlÃ³ folyamatok megÃ©rtÃ©sÃ©hez. A
 z elsajÃ¡tÃ­tÃ¡st agykontrollos alapok biztosÃ­tjÃ¡k. A biolÃ³gia termÃ©sze
 ttÃ¶rvÃ©nyei hitrendszerÃ¼nktÅ‘l fÃ¼ggetlenÃ¼l mÅ±kÃ¶dnek, egyÃ©nileg ellen
 Å‘rizhetÅ‘ek akÃ¡r visszamenÅ‘leg is. A tanfolyami ismeretek elsajÃ¡tÃ­tÃ¡s
 a Ãºj rÃ¡lÃ¡tÃ¡st biztosÃ­t a betegsÃ©gek helyes Ã©rtelmezÃ©sÃ©re. SegÃ­tsÃ
 ©get nyÃºjt megalapozott dÃ¶ntÃ©seket hozni az egyÃ©n szÃ¡mÃ¡ra sajÃ¡t egÃ©
 szsÃ©ge Ã©rdekÃ©ben. A biologika ismeretÃ©nek egyik legnagyobb elÅ‘nye, hog
 y kÃ©pessÃ© vÃ¡lunk a komolyabb elvÃ¡ltozÃ¡sok kialakulÃ¡sÃ¡t megakadÃ¡lyoz
 ni, a mÃ¡r folyamatban lÃ©vÅ‘ket a legÃ©sszerÅ±bben kezelni.</span></p><p><
 span style="font-size: 10pt;">A tanfolyam nem gyÃ³gymÃ³d, nem gyÃ³gyÃ­t, ne
 m kÃ©szÃ­t fel gyÃ³gyÃ­tÃ³ tevÃ©kenysÃ©g vÃ©gzÃ©sÃ©re. Az ismeretanyag az Ã
 ¶nmagÃ¡Ã©rt felelÅ‘ssÃ©get vÃ¡llalÃ³ laikusoknak szÃ³l. Ennek hiÃ¡nya akÃ¡r
  az egÃ©szsÃ©g megÅ‘rzÃ©sÃ©nek, helyreÃ¡llÃ­tÃ¡sÃ¡nak gÃ¡tjÃ¡vÃ¡ is vÃ¡lhat
 . MegÃ©rteni a bennÃ¼k zajlÃ³ Ã©rzelmi Ã©s testi folyamatokat egy Ãºj, minÅ
 ‘sÃ©gibb, Ã¡ltalunk irÃ¡nyÃ­tott Ã©letvitel alapjÃ¡t jelentheti. Megszabadu
 lni hiedelmeinktÅ‘l, fÃ©lelmeinktÅ‘l, betegsÃ©gtudatunktÃ³l egy magunkkal c
 ipelt teher letÃ©telÃ©t jelenti.</span></p><p><span style="font-size: 10pt;
 ">A tanfolyam nem csak testi szinten tÃ¡rja fel az elvÃ¡ltozÃ¡sokat, hanem 
 megmutatja lelki szinten is a kivÃ¡ltÃ³ okokat, Ã©rzelmi kilengÃ©seket. A t
 rÃ©ning Barnai Roberto Ã¡ltal kÃ©szÃ­tett Szerv Atlasz tudÃ¡sanyagÃ¡n alapu
 l.</span></p><p><span style="font-size: 10pt;"><br /></span></p><p><span st
 yle="font-size: 10pt;">A tanfolyam tematikÃ¡ja:</span></p><p><span style="f
 ont-size: 10pt;">A tanfolyam <strong>agykontrollos alapokon</strong> zajlik
  a jobb megyjegyezhetÅ‘sÃ©g Ã©s megÃ©rtÃ©s Ã©rdekÃ©ben.</span></p><p><stron
 g><span style="font-size: 10pt;"><br />1. nap</span></strong></p><p><span s
 tyle="font-size: 10pt;">Az automatikus agy mÅ±kÃ¶dÃ©se</span></p><p><span s
 tyle="font-size: 10pt;">Az Ã¶t biolÃ³giai termÃ©szettÃ¶rvÃ©ny - Dr. Ryke Ge
 erd Hammer munkÃ¡ssÃ¡ga</span></p><p><span style="font-size: 10pt;">Barnai 
 Roberto: Biologika Szerv Atlasz felÃ©pÃ­tÃ©se Ã©s hasznÃ¡lata</span></p><p>
 <span style="font-size: 10pt;">TovÃ¡bbi szakirodalom Ã©s tÃ¡jÃ©kozÃ³dÃ¡si p
 ontok</span></p><p><span style="font-size: 10pt;"></span><strong><span styl
 e="font-size: 10pt;">2. nap</span></strong></p><p><span style="font-size: 1
 0pt;">BiolÃ³giai elvÃ¡ltozÃ¡sok, betegsÃ©glefutÃ¡sok szervenkÃ©nt</span></p
 ><p><span style="font-size: 10pt;">A tudat lezÃ¡rÃ³ funkciÃ³jÃ¡nak elkerÃ¼l
 Ã©se</span></p><p><strong><span style="font-size: 10pt;">3. nap</span></str
 ong></p><p><span style="font-size: 10pt;">A biolÃ³giai elvÃ¡ltozÃ¡sok, bete
 gsÃ©glefutÃ¡sok szervenkÃ©nt</span></p><p><span style="font-size: 10pt;">Ho
 rmonÃ¡llapot Ã©s Ã©letvitel</span></p><p><strong><span style="font-size: 10
 pt;">4. nap</span></strong></p><p><span style="font-size: 10pt;">MentÃ¡lis 
 kÃ¼lÃ¶nprogramok</span></p><p><span style="font-size: 10pt;">Hangulatzavaro
 k Ã©s elmebajok - a leggyakoribb tÃ¼netek hÃ¡tterÃ©vel. (MegzavarodottsÃ¡g,
  kÃ©nyszeres sÃ©rtegetÃ©s, Ã©rtÃ©kÃ­tÃ©leti zavarok, mÃ¡nia, depressziÃ³, s
 kizofrÃ©nia, fÃ³biÃ¡k Ã©s paranoiÃ¡k.)</span></p><p>&nbsp;</p><p><span styl
 e="font-size: 10pt;">Tananyag: Biologika Szerv Atlasz</span></p><p><span st
 yle="font-size: 10pt;">A Szerv Atlasz megvÃ¡sÃ¡rolhatÃ³ a webshopban vagy a
  trÃ©ningen. </span></p><p><span style="font-size: 10pt;"><br /></span></p>
 <p><span style="font-size: 10pt;">JelentkezÃ©skor add meg:</span></p><p><sp
 an style="font-size: 10pt;">1.) a trÃ©ning nevÃ©t, helyszÃ­nÃ©t Ã©s idÅ‘pon
 tjÃ¡t</span></p><p><span style="font-size: 10pt;">2.) pontos nevedet</span>
 </p><p><span style="font-size: 10pt;">3.) mobil szÃ¡modat</span></p><p><spa
 n style="font-size: 10pt;">4.) e-mail cÃ­medet</span></p><p><span style="fo
 nt-size: 10pt;">5.) kedvezmÃ©ny alapjÃ¡t (ha jogosult vagy)</span></p>
CONTACT:
 
 
 
 
 Ez az email cÃ­m vÃ©dett a spam robotoktÃ³l, a megtekintÃ©sÃ©hez engedÃ©lyezni kell a Javascriptet.
 
 
 

DTSTAMP:20260424T231117Z
DTSTART:20160709T080000Z
DTEND:20160709T170000Z
SEQUENCE:0
TRANSP:OPAQUE
END:VEVENT
END:VCALENDAR