BEGIN:VCALENDAR
VERSION:2.0
PRODID:-//jEvents 1.5 for Joomla//EN
BEGIN:VEVENT
CALSCALE:GREGORIAN
METHOD:PUBLISH

UID:dae7ae985a7cc00124365e41504efa21
CATEGORIES:Alap szeminÃ¡rium 
SUMMARY:OrlikI: Biologika IntenzÃ­v Tanfolyam 1/4 (Szeged)
LOCATION:Szeged, szervezÃ©s alatt
DESCRIPTION;ENCODING=QUOTED-PRINTABLE:<p>&nbsp;</p><p><b><span style="font-size: 12pt;">BIOLOGIKA (GNM ÃšJ MEDICI
 NA) TRÃ‰NING</span></b></p><p><b><span style="font-size: 12pt;">3 nap ALAP 
 + 1 nap HALADÃ“ tanfolyam<span class="Apple-converted-space"> </span></span
 ></b><b><span style="font-size: 12pt;"><span style="color: #003366;">Szeged
 en</span></span></b></p><p><b><span style="font-size: 12pt;">&nbsp;</span><
 /b></p><p><span style="font-size: 10pt;">tÃ©makÃ¶r: daganatok, sorvadÃ¡sok 
 Ã©s mÃ¡s elvÃ¡ltozÃ¡sok, biolÃ³giai Ã©rtelmÃ¼k, cÃ©ljuk, rendeltetÃ©sÃ¼k Ã©
 s lefolyÃ¡suk, hangulatzavarok Ã©s elmebajok<br /></span></p><p><span style
 ="font-size: 10pt;">elnevezÃ©s: Biologika (Ãšj Medicina)<span class="Apple-
 converted-space"> tanfolyam</span></span></p><p><span style="font-size: 10p
 t;">kategÃ³ria: biologika</span>&nbsp;</p><p><span style="font-size: 10pt;"
 >lÃ©tszÃ¡mkorlÃ¡t: <b><span style="color: #800000;"><span style="font-size:
  10pt;">nincs</span></span></b></span>&nbsp;</p><p><span style="font-size: 
 10pt;">trÃ©ner:<span class="Apple-converted-space">&nbsp;</span></span><spa
 n style="font-size: 10pt;"><strong>Orlik Ilona</strong>,</span> <span style
 ="text-decoration: underline;"><a href="partnereink/orlik-ilona-biologika.h
 tml">http://biologika.hu/partnereink/orlik-ilona-biologika.html</a></span><
 /p><p><span style="font-size: 10pt;">helyszÃ­n:<strong><span class="Apple-c
 onverted-space"> Szeged</span></strong></span><span style="font-size: 10pt;
 ">, szervezÃ©s alatt</span>, <span style="font-size: 10pt;">fÃ¼gg a lÃ©tszÃ
 ¡mtÃ³l - tovÃ¡bbi informÃ¡ciÃ³ e-mailben</span></p><p><span style="font-siz
 e: 10pt;">idÅ‘tartam: <strong>4 nap</strong>, 2016. jÃºlius 18-21.<br /></s
 pan></p><p><span style="font-size: 10pt;">ebÃ©dszÃ¼net: <strong>12-13</stro
 ng></span><span style="font-size: 10pt;"> <strong>Ã³rÃ¡ig</strong></span>&n
 bsp;</p><p><span style="font-size: 10pt;">bontÃ¡si lehetÅ‘sÃ©g: nincs&nbsp;
 <br /></span></p><p><span style="font-size: 10pt;">&nbsp;</span></p><p><spa
 n style="font-size: 10pt;">elÅ‘feltÃ©tel:<span class="Apple-converted-space
 ">&nbsp;</span></span><span style="font-size: 10pt;"><a target="_blank" hre
 f="http://www.alapismeretek.biologika.hu">www.alapismeretek.biologika.hu</a
 ></span><span style="font-size: 10pt;"><span class="Apple-converted-space">
 &nbsp;</span>online, ingyenes elÅ‘adÃ¡s megtekintÃ©se legalÃ¡bb kÃ©tszer<br
  /></span></p><p><span style="font-size: 10pt;">rÃ©szvÃ©teli dÃ­j: (4 nap):
  <strong>40.000.-Ft / fÅ‘ / 4 nap</strong></span></p><p><span style="font-s
 ize: 10pt;">jelentkezÃ©si hatÃ¡ridÅ‘:<strong> jÃºlius 14.<br /></strong></s
 pan></p><p><span style="font-size: 10pt;">KedvezmÃ©nyes tanfolyamdÃ­jak:</s
 pan></p><p><span style="font-size: 10pt;">- IdÅ‘ben regisztrÃ¡lÃ³ kedvezmÃ©
 nye: 1000Ft/fÅ‘ /nap (mÃ¡s kedvezmÃ©nnyel nem vonhatÃ³ Ã¶ssze) </span></p><
 p><span style="font-size: 10pt;">- Kor- Ã©s ismÃ©tlÅ‘ kedvezmÃ©ny: (60 Ã©v 
 felett, valamint ismÃ©tlÅ‘knek) <strong>20.000.-Ft/fÅ‘/4 nap </strong><span
  style="font-size: 10pt;">(mÃ¡s kedvezmÃ©nnyel nem vonhatÃ³ Ã¶ssze) 12-18 k
 Ã¶zÃ¶tti fiatalok rÃ©szÃ©re ingyenes a tanfolyam. <br /></span></span></p><
 p><span style="font-size: 10pt;"><span style="font-size: 10pt;"></span>- Cs
 alÃ¡di kedvezmÃ©ny: 2 kÃ¶zeli, egy hÃ¡ztartÃ¡sban Ã©lÅ‘ csalÃ¡dtag ugyanazo
 n tanfolyamra tÃ¶rtÃ©nÅ‘ jelentkezÃ©se esetÃ©n 20% kedvezmÃ©ny, tehÃ¡t <spa
 n style="font-size: 10pt;"><span style="font-size: 10pt;"><strong>32.000.-F
 t/fÅ‘/4 nap</strong></span></span> (mÃ¡s kedvezmÃ©nnyel nem vonhatÃ³ Ã¶ssze
 )</span></p><p><span style="font-size: 10pt;">- Csoport kedvezmÃ©ny 4 fÅ‘ e
 gyÃ¼tt jelentkezÃ©se esetÃ©n 20% kedvezmÃ©ny, tehÃ¡t <span style="font-size
 : 10pt;"><span style="font-size: 10pt;"><span style="font-size: 10pt;"><str
 ong>32.000.-Ft/fÅ‘/4 nap</strong></span></span></span> (mÃ¡s kedvezmÃ©nnyel
  nem vonhatÃ³ Ã¶ssze)<br /></span></p><p><span style="font-size: 10pt;">jel
 entkezÃ©s:<span class="Apple-converted-space">&nbsp;</span></span><b><span 
 style="color: #800000;"><span style="font-size: 10pt;">Ã­rÃ¡sos elÅ‘regiszt
 rÃ¡ciÃ³ kÃ¶telezÅ‘</span></span></b><span style="font-size: 10pt;"><span cl
 ass="Apple-converted-space">&nbsp;</span>az 
 <script language='JavaScript'
  type='text/javascript'>
 <!--
 var prefix = 'm&#97;&#105;lt&#111;:';
 var 
 suffix = '';
 var attribs = '';
 var path = 'hr' + 'ef' + '=';
 var addy328
 9 = '&#105;c&#97;' + '&#64;';
 addy3289 = addy3289 + 'b&#105;&#111;l&#111;g
 &#105;k&#97;' + '&#46;' + 'h&#117;';
 document.write( '<a ' + path + '\'' +
  prefix + addy3289 + suffix + '\'' + attribs + '>' );
 document.write( addy
 3289 );
 document.write( '<\/a>' );
 //-->
 </script><script language='Java
 Script' type='text/javascript'>
 <!--
 document.write( '<span style=\'displ
 ay: none;\'>' );
 //-->
 </script>Ez az email cÃ­m vÃ©dett a spam robotoktÃ
 ³l, a megtekintÃ©sÃ©hez engedÃ©lyezni kell a Javascriptet.
 <script languag
 e='JavaScript' type='text/javascript'>
 <!--
 document.write( '</' );
 docu
 ment.write( 'span>' );
 //-->
 </script> e-mail cÃ­men</span></p><p>&nbsp;<
 /p><p><span style="font-size: 10pt;">A tanfolyam cÃ©lja, hogy alapokat adjo
 n a biolÃ³giai termÃ©szettÃ¶rvÃ©nyek megismerÃ©sÃ©hez, a testben lezajlÃ³ f
 olyamatok megÃ©rtÃ©sÃ©hez. </span><br /><span style="font-size: 10pt;">A bi
 olÃ³gia termÃ©szettÃ¶rvÃ©nyei hitrendszerÃ¼nktÅ‘l fÃ¼ggetlenÃ¼l mÅ±kÃ¶dnek,
  egyÃ©nileg ellenÅ‘rizhetÅ‘ek akÃ¡r visszamenÅ‘leg is. </span><br /><span s
 tyle="font-size: 10pt;">A tanfolyami ismeretek elsajÃ¡tÃ­tÃ¡sa Ãºj rÃ¡lÃ¡tÃ
 ¡st biztosÃ­t a betegsÃ©gek helyes Ã©rtelmezÃ©sÃ©re. SegÃ­tsÃ©get nyÃºjt me
 galapozott dÃ¶ntÃ©seket hozni az egyÃ©n szÃ¡mÃ¡ra sajÃ¡t egÃ©szsÃ©ge Ã©rdek
 Ã©ben. A Biologika ismeretÃ©nek egyik legnagyobb elÅ‘nye, hogy kÃ©pessÃ© vÃ
 ¡lunk a komolyabb elvÃ¡ltozÃ¡sok kialakulÃ¡sÃ¡t megakadÃ¡lyozni, a mÃ¡r fol
 yamatban lÃ©vÅ‘ket a legÃ©sszerÅ±bben kezelni. </span><br /><span style="fo
 nt-size: 10pt;">A tanfolyam nem gyÃ³gymÃ³d, nem gyÃ³gyÃ­t, nem kÃ©szÃ­t fel
  gyÃ³gyÃ­tÃ³ tevÃ©kenysÃ©g vÃ©gzÃ©sÃ©re. Az ismeretanyag az Ã¶nmagÃ¡Ã©rt fe
 lelÅ‘ssÃ©get vÃ¡llalÃ³ hÃ©tkÃ¶znapi embernek szÃ³l. Ennek hiÃ¡nya akÃ¡r az 
 egÃ©szsÃ©g megÅ‘rzÃ©sÃ©nek, helyreÃ¡llÃ­tÃ¡sÃ¡nak gÃ¡tjÃ¡vÃ¡ is vÃ¡lhat. Me
 gÃ©rteni a bennÃ¼nk zajlÃ³ Ã©rzelmi Ã©s testi folyamatokat egy Ãºj, minÅ‘sÃ
 ©gibb, Ã¡ltalunk irÃ¡nyÃ­tott Ã©letvitel alapjÃ¡t jelentheti. Megszabadulni
  hiedelmeinktÅ‘l, fÃ©lelmeinktÅ‘l, betegsÃ©gtudatunktÃ³l egy magunkkal cipe
 lt teher letÃ©telÃ©t jelenti. </span><br /><span style="font-size: 10pt;">A
  tanfolyam nem csak testi szinten tÃ¡rja fel az elvÃ¡ltozÃ¡sokat, hanem meg
 mutatja lelki szinten is a kivÃ¡ltÃ³ okokat, Ã©rzelmi kilengÃ©seket.</span>
 <br /><span style="font-size: 10pt;">A trÃ©ning Barnai Roberto Ã¡ltal kÃ©sz
 Ã­tett Szerv Atlasz tudÃ¡sanyagÃ¡n alapul.</span><br /><span style="font-si
 ze: 10pt;">&nbsp;</span></p><p><span style="font-size: 10pt;">A tanfolyam t
 ematikÃ¡ja:</span><br /><strong><span style="font-size: 10pt;">1. nap</span
 ></strong><br /><span style="font-size: 10pt;">Az Ã¶t biolÃ³giai termÃ©szet
 tÃ¶rvÃ©ny - Dr. Ryke Geerd Hammer munkÃ¡ssÃ¡ga</span><br /><span style="fon
 t-size: 10pt;">Barnai Roberto: Biologika Szerv Atlasz felÃ©pÃ­tÃ©se Ã©s has
 znÃ¡lata</span><br /><span style="font-size: 10pt;">Az agytÃ¶rzs vezÃ©relte
  mirigyszÃ¶vetes szervek elvÃ¡ltozÃ¡sai</span><br /><span style="font-size:
  10pt;">Az kÃ¶zÃ©pagy vezÃ©relte simaizomszÃ¶vetek elvÃ¡ltozÃ¡sai (miÃ³mÃ¡k
 ) </span><br /><strong><span style="font-size: 10pt;">2. nap</span></strong
 ><br /><span style="font-size: 10pt;">A kisagy vezÃ©relte szervek elvÃ¡ltoz
 Ã¡sai (hÃ¡rtyaszÃ¶vetek, bÅ‘rirha, tejmirigyek)</span><br /><span style="fo
 nt-size: 10pt;">A velÅ‘Ã¡llomÃ¡ny vezÃ©relte szervek elvÃ¡ltozÃ¡sai Ã©s a v
 alÃ³di cisztÃ¡k</span><br /><span style="font-size: 10pt;">KÃ¶tÅ‘szÃ¶vetek,
  vÃ¡zrendszer</span><br /><span style="font-size: 10pt;">A szÃ­v elvÃ¡ltozÃ
 ¡sai</span><br /><span style="font-size: 10pt;">VÃ©r- Ã©s nyirokrendszer (l
 eukÃ©mia)</span><br /><span style="font-size: 10pt;">Magas vÃ©rnyomÃ¡s (ves
 ekÃ©reg elvÃ¡ltozÃ¡sa)</span><br /><span style="font-size: 10pt;">Here Ã©s 
 petefÃ©szekciszta</span><br /><strong><span style="font-size: 10pt;">3. nap
 </span></strong><br /><span style="font-size: 10pt;">A kÃ©regÃ¡llomÃ¡ny vez
 Ã©relte szervek elvÃ¡ltozÃ¡sai</span><br /><span style="font-size: 10pt;">F
 Ã©rfias Ã©s nÅ‘ies hormonÃ¡llapot</span><br /><span style="font-size: 10pt;
 ">FunkciÃ³-kimaradÃ¡sok, bÃ©nulÃ¡sok, cukorszint vÃ¡ltozÃ¡sok</span><br /><
 strong><span style="font-size: 10pt;">4. nap</span></strong><br /><span sty
 le="font-size: 10pt;">MentÃ¡lis kÃ¼lÃ¶nprogramok</span><br /><span style="f
 ont-size: 10pt;">Hangulatzavarok Ã©s elmebajok - a leggyakoribb tÃ¼netek hÃ
 ¡tterÃ©vel.</span><br /><span style="font-size: 10pt;">(MegzavarodottsÃ¡g, 
 kÃ©nyszeres sÃ©rtegetÃ©s, Ã©rtÃ©kÃ­tÃ©leti zavarok, </span><br /><span styl
 e="font-size: 10pt;">mÃ¡nia, depressziÃ³, skizofrÃ©nia, fÃ³biÃ¡k Ã©s parano
 iÃ¡k.)</span><br /><span style="font-size: 10pt;">&nbsp;</span></p><p><span
  style="font-size: 10pt;">Tananyag: Biologika Szerv Atlasz</span><br /><spa
 n style="font-size: 10pt;">Roberto elÅ‘adÃ¡sainak prezentÃ¡ciÃ³s anyaga az 
 Ãºj medicina kÃ©zikÃ¶nyvÃ©vÃ© nÅ‘tte ki magÃ¡t. A Szerv Atlasz mÃ¡sodik kÃ¶
 nyvkiadÃ¡sa megvÃ¡sÃ¡rolhatÃ³ a webshopban vagy a trÃ©ningen. A Szerv Atlas
 z jelenleg az egyetlen Ãºj medicinÃ¡s kÃ©zikÃ¶nyv a vilÃ¡gon. Folyamatban v
 an nÃ©met, angol, francia, orosz, horvÃ¡t, szerb, szlovÃ©n, romÃ¡n, spanyol
  Ã©s lengyel nyelvekre tÃ¶rtÃ©nÅ‘ fordÃ­tÃ¡sa.</span></p><p><span style="fo
 nt-size: 10pt;">JelentkezÃ©skor add meg:</span><br /><span style="font-size
 : 10pt;">1.) a trÃ©ning nevÃ©t, helyszÃ­nÃ©t Ã©s idÅ‘pontjÃ¡t</span><br /><
 span style="font-size: 10pt;">2.) pontos nevedet</span><br /><span style="f
 ont-size: 10pt;">3.) mobil szÃ¡modat</span><br /><span style="font-size: 10
 pt;">4.) e-mail cÃ­medet</span><br /><span style="font-size: 10pt;">5.) ked
 vezmÃ©ny alapjÃ¡t (ha jogosult vagy)</span><br /><span style="font-size: 10
 pt;"><br style="font-size: 10pt;" /></span></p>
CONTACT:
 
 
 
 
 Ez az email cÃ­m vÃ©dett a spam robotoktÃ³l, a megtekintÃ©sÃ©hez engedÃ©lyezni kell a Javascriptet.
 
 
 , +36204838742

DTSTAMP:20260425T033514Z
DTSTART:20160718T070000Z
DTEND:20160718T150000Z
SEQUENCE:0
TRANSP:OPAQUE
END:VEVENT
END:VCALENDAR