BEGIN:VCALENDAR
VERSION:2.0
PRODID:-//jEvents 1.5 for Joomla//EN
BEGIN:VEVENT
CALSCALE:GREGORIAN
METHOD:PUBLISH

UID:c9e7dcb4ae15567791a968824b44640e
CATEGORIES:Alap szeminárium 
SUMMARY:BarnaiR: BIOLOGIKA Kistréning 3/4 (Budapest)
LOCATION:Budapest, szervezés alatt
DESCRIPTION;ENCODING=QUOTED-PRINTABLE:\n\n \nBIOLOGIKA (ÚJ MEDICINA) TRÉNING (kistanfolyam, kistréning)\n4 nap
 os tanfolyam&nbsp;Budapesten \n\n\n\n\n\n\nelnevezés: Biologika (új medic
 ina) kistréning\n\n\ntréner:&nbsp;Barnai Roberto, http://biologika.hu/par
 tnereink/barnai-roberto.html &nbsp;\n\n\nidőtartam: 4 nap, 2017. március 
 3-4-5-6.\n\n\n&nbsp;\n\n\nFelhívjuk szíves figyelmét, hogy ez egy több 
 napos tréning,&nbsp;\n\n\ntovábbi információ az első napnál, ide katt
 intva.\n\n\n&nbsp;\n
CONTACT:
 
 
 
 
 Ez az email cím védett a spam robotoktól, a megtekintéséhez engedélyezni kell a Javascriptet.
 
 
 

DTSTAMP:20260419T203918Z
DTSTART:20170305T090000Z
DTEND:20170305T170000Z
SEQUENCE:0
TRANSP:OPAQUE
END:VEVENT
END:VCALENDAR