BEGIN:VCALENDAR
VERSION:2.0
PRODID:-//jEvents 1.5 for Joomla//EN
BEGIN:VEVENT
CALSCALE:GREGORIAN
METHOD:PUBLISH

UID:88430a568a4ad6fd41b329fb6987e36d
CATEGORIES:Alap szeminÃ¡rium 
SUMMARY:ElekNoÃ©mi: Biologika IntenzÃ­v Tanfolyam 1/4 (Budapest)
LOCATION:Budapest, szervezÃ©s alatt
DESCRIPTION;ENCODING=QUOTED-PRINTABLE:<p>&nbsp;</p><p><b><span style="font-size: 12pt;">BIOLOGIKA (ÃšJ MEDICINA) 
 TRÃ‰NING <span style="color: #ff00ff;">- HÃ‰TKÃ–ZNAP</span><br /></span></b
 ></p><p><b><span style="font-size: 12pt;">3 nap ALAP + 1 nap HALADÃ“ tanfol
 yam<span class="Apple-converted-space"> </span></span></b><b><span style="f
 ont-size: 12pt;"><span style="color: #003366;">Budapesten</span></span></b>
 </p><p><b><span style="font-size: 12pt;">&nbsp;</span></b></p><p><span styl
 e="font-size: 10pt;">tÃ©makÃ¶r: daganatok, sorvadÃ¡sok Ã©s mÃ¡s elvÃ¡ltozÃ¡
 sok, biolÃ³giai Ã©rtelmÃ¼k, cÃ©ljuk, rendeltetÃ©sÃ¼k Ã©s lefolyÃ¡suk, hangu
 latzavarok Ã©s elmebajok<br /></span></p><p><span style="font-size: 10pt;">
 elnevezÃ©s: Biologika (Ãšj Medicina)<span class="Apple-converted-space"> ta
 nfolyam</span></span></p><p><span style="font-size: 10pt;">kategÃ³ria: biol
 ogika</span>&nbsp;</p><p><span style="font-size: 10pt;">lÃ©tszÃ¡mkorlÃ¡t: <
 b><span style="color: #800000;"><span style="font-size: 10pt;">nincs</span>
 </span></b></span>&nbsp;</p><p><span style="font-size: 10pt;">trÃ©ner:<span
  class="Apple-converted-space"> </span></span><span style="font-size: 10pt;
 "><strong>Elek NoÃ©mi&nbsp;</strong><a target="_blank" href="partnereink/el
 ek-noemi-ujmedicina-konzulensek.html">http://biologika.hu/partnereink/elek-
 noemi-ujmedicina-konzulensek.html</a> </span><a target="_blank" href="partn
 ereink/elek-noemi-ujmedicina-konzulensek.html"></a></p><p><span style="font
 -size: 10pt;">helyszÃ­n:<strong><span class="Apple-converted-space"> Budape
 st</span></strong></span><span style="font-size: 10pt;">, szervezÃ©s alatt<
 /span>, <span style="font-size: 10pt;">fÃ¼gg a lÃ©tszÃ¡mtÃ³l - tovÃ¡bbi inf
 ormÃ¡ciÃ³ e-mailben</span></p><p><span style="font-size: 10pt;">idÅ‘tartam:
  <strong>4 nap</strong>, 2017. februÃ¡r 9-10.; 13-14.<br /></span></p><p><s
 pan style="font-size: 10pt;">ebÃ©dszÃ¼net: <strong>13-14</strong></span><sp
 an style="font-size: 10pt;"> <strong>Ã³rÃ¡ig</strong></span>&nbsp;</p><p><s
 pan style="font-size: 10pt;">bontÃ¡si lehetÅ‘sÃ©g: nincs&nbsp;<br /></span>
 </p><p><span style="font-size: 10pt;">&nbsp;</span></p><p><span style="font
 -size: 10pt;">elÅ‘feltÃ©tel:<span class="Apple-converted-space">&nbsp;</spa
 n></span><span style="font-size: 10pt;"><a target="_blank" href="http://www
 .alapismeretek.biologika.hu">www.alapismeretek.biologika.hu</a></span><span
  style="font-size: 10pt;"><span class="Apple-converted-space">&nbsp;</span>
 online, ingyenes elÅ‘adÃ¡s megtekintÃ©se legalÃ¡bb kÃ©tszer<br /></span></p
 ><p><span style="font-size: 10pt;">rÃ©szvÃ©teli dÃ­j: (4 nap): <strong>60.0
 00,-Ft / fÅ‘ / 4 nap<br /></strong></span></p><p><span style="font-size: 10
 pt;">jelentkezÃ©si hatÃ¡ridÅ‘:<strong><span style="color: #000000;"> 2017. 
 februÃ¡r 7.</span><br /></strong></span></p><p><span style="font-size: 10pt
 ;">KedvezmÃ©nyes tanfolyamdÃ­jak:<br />2016. december 20-ig tÃ¶rtÃ©nÅ‘ regi
 sztrÃ¡ciÃ³ esetÃ©n: <strong>40.000,-Ft</strong> / fÅ‘ / 4 nap<strong><br />
 </strong>2017. januÃ¡r 16-ig tÃ¶rtÃ©nÅ‘ regisztrÃ¡ciÃ³ esetÃ©n: <strong>50.
 000,-Ft</strong> / fÅ‘ / 4 nap<br /><br /></span></p><p><span style="font-s
 ize: 10pt;">jelentkezÃ©s:<span class="Apple-converted-space">&nbsp;</span><
 /span><b><span style="color: #800000;"><span style="font-size: 10pt;">Ã­rÃ¡
 sos elÅ‘regisztrÃ¡ciÃ³ kÃ¶telezÅ‘</span></span></b><span style="font-size: 
 10pt;"><span class="Apple-converted-space">&nbsp;</span>a <a target="_blank
 " href="mailto:%
 <script language='JavaScript' type='text/javascript'>
 <!
 --
 var prefix = 'm&#97;&#105;lt&#111;:';
 var suffix = '';
 var attribs = 
 '';
 var path = 'hr' + 'ef' + '=';
 var addy94577 = '20n&#111;&#101;m&#105;
 ' + '&#64;';
 addy94577 = addy94577 + 'b&#105;&#111;l&#111;g&#105;k&#97;' +
  '&#46;' + 'h&#117;';
 document.write( '<a ' + path + '\'' + prefix + addy9
 4577 + suffix + '\'' + attribs + '>' );
 document.write( addy94577 );
 docu
 ment.write( '<\/a>' );
 //-->
 </script><script language='JavaScript' type=
 'text/javascript'>
 <!--
 document.write( '<span style=\'display: none;\'>'
  );
 //-->
 </script>Ez az email cÃ­m vÃ©dett a spam robotoktÃ³l, a megteki
 ntÃ©sÃ©hez engedÃ©lyezni kell a Javascriptet.
 <script language='JavaScript
 ' type='text/javascript'>
 <!--
 document.write( '</' );
 document.write( '
 span>' );
 //-->
 </script>">
 <script language='JavaScript' type='text/jav
 ascript'>
 <!--
 var prefix = 'm&#97;&#105;lt&#111;:';
 var suffix = '';
 v
 ar attribs = '';
 var path = 'hr' + 'ef' + '=';
 var addy45174 = 'n&#111;&#
 101;m&#105;' + '&#64;';
 addy45174 = addy45174 + 'b&#105;&#111;l&#111;g&#10
 5;k&#97;' + '&#46;' + 'h&#117;';
 document.write( '<a ' + path + '\'' + pre
 fix + addy45174 + suffix + '\'' + attribs + '>' );
 document.write( addy451
 74 );
 document.write( '<\/a>' );
 //-->
 </script><script language='JavaSc
 ript' type='text/javascript'>
 <!--
 document.write( '<span style=\'display
 : none;\'>' );
 //-->
 </script>Ez az email cÃ­m vÃ©dett a spam robotoktÃ³l
 , a megtekintÃ©sÃ©hez engedÃ©lyezni kell a Javascriptet.
 <script language=
 'JavaScript' type='text/javascript'>
 <!--
 document.write( '</' );
 docume
 nt.write( 'span>' );
 //-->
 </script></a> e-mail cÃ­men</span></p><p><span
  style="font-size: 10pt;">A tanfolyam cÃ©lja, hogy alapokat adjon a biolÃ³g
 iai termÃ©szettÃ¶rvÃ©nyek megismerÃ©sÃ©hez, a testben lezajlÃ³ folyamatok m
 egÃ©rtÃ©sÃ©hez. </span><br /><span style="font-size: 10pt;">A biolÃ³gia ter
 mÃ©szettÃ¶rvÃ©nyei hitrendszerÃ¼nktÅ‘l fÃ¼ggetlenÃ¼l mÅ±kÃ¶dnek, egyÃ©nileg
  ellenÅ‘rizhetÅ‘ek akÃ¡r visszamenÅ‘leg is. </span><br /><span style="font-
 size: 10pt;">A tanfolyami ismeretek elsajÃ¡tÃ­tÃ¡sa Ãºj rÃ¡lÃ¡tÃ¡st biztosÃ
 ­t a betegsÃ©gek helyes Ã©rtelmezÃ©sÃ©re. SegÃ­tsÃ©get nyÃºjt megalapozott 
 dÃ¶ntÃ©seket hozni az egyÃ©n szÃ¡mÃ¡ra sajÃ¡t egÃ©szsÃ©ge Ã©rdekÃ©ben. A Bi
 ologika ismeretÃ©nek egyik legnagyobb elÅ‘nye, hogy kÃ©pessÃ© vÃ¡lunk a kom
 olyabb elvÃ¡ltozÃ¡sok kialakulÃ¡sÃ¡t megakadÃ¡lyozni, a mÃ¡r folyamatban lÃ
 ©vÅ‘ket a legÃ©sszerÅ±bben kezelni. </span><br /><span style="font-size: 10
 pt;">A tanfolyam nem gyÃ³gymÃ³d, nem gyÃ³gyÃ­t, nem kÃ©szÃ­t fel gyÃ³gyÃ­tÃ
 ³ tevÃ©kenysÃ©g vÃ©gzÃ©sÃ©re. Az ismeretanyag az Ã¶nmagÃ¡Ã©rt felelÅ‘ssÃ©ge
 t vÃ¡llalÃ³ hÃ©tkÃ¶znapi embernek szÃ³l. Ennek hiÃ¡nya akÃ¡r az egÃ©szsÃ©g 
 megÅ‘rzÃ©sÃ©nek, helyreÃ¡llÃ­tÃ¡sÃ¡nak gÃ¡tjÃ¡vÃ¡ is vÃ¡lhat. MegÃ©rteni a 
 bennÃ¼nk zajlÃ³ Ã©rzelmi Ã©s testi folyamatokat egy Ãºj, minÅ‘sÃ©gibb, Ã¡lt
 alunk irÃ¡nyÃ­tott Ã©letvitel alapjÃ¡t jelentheti. Megszabadulni hiedelmein
 ktÅ‘l, fÃ©lelmeinktÅ‘l, betegsÃ©gtudatunktÃ³l egy magunkkal cipelt teher le
 tÃ©telÃ©t jelenti. </span><br /><span style="font-size: 10pt;">A tanfolyam 
 nem csak testi szinten tÃ¡rja fel az elvÃ¡ltozÃ¡sokat, hanem megmutatja lel
 ki szinten is a kivÃ¡ltÃ³ okokat, Ã©rzelmi kilengÃ©seket.</span><br /><span
  style="font-size: 10pt;">A trÃ©ning Barnai Roberto Ã¡ltal kÃ©szÃ­tett Szer
 v Atlasz tudÃ¡sanyagÃ¡n alapul.</span><br /><span style="font-size: 10pt;">
 &nbsp;</span></p><p><span style="font-size: 10pt;">A tanfolyam tematikÃ¡ja:
 </span><br /><strong><span style="font-size: 10pt;">1. nap</span></strong><
 br /><span style="font-size: 10pt;">Az Ã¶t biolÃ³giai termÃ©szettÃ¶rvÃ©ny -
  Dr. Ryke Geerd Hammer munkÃ¡ssÃ¡ga</span><br /><span style="font-size: 10p
 t;">Barnai Roberto: Biologika Szerv Atlasz felÃ©pÃ­tÃ©se Ã©s hasznÃ¡lata</s
 pan><br /><span style="font-size: 10pt;">Az agytÃ¶rzs vezÃ©relte mirigyszÃ¶
 vetes szervek elvÃ¡ltozÃ¡sai</span><br /><span style="font-size: 10pt;">Az 
 kÃ¶zÃ©pagy vezÃ©relte simaizomszÃ¶vetek elvÃ¡ltozÃ¡sai (miÃ³mÃ¡k) </span><b
 r /><strong><span style="font-size: 10pt;">2. nap</span></strong><br /><spa
 n style="font-size: 10pt;">A kisagy vezÃ©relte szervek elvÃ¡ltozÃ¡sai (hÃ¡r
 tyaszÃ¶vetek, bÅ‘rirha, tejmirigyek)</span><br /><span style="font-size: 10
 pt;">A velÅ‘Ã¡llomÃ¡ny vezÃ©relte szervek elvÃ¡ltozÃ¡sai Ã©s a valÃ³di cisz
 tÃ¡k</span><br /><span style="font-size: 10pt;">KÃ¶tÅ‘szÃ¶vetek, vÃ¡zrendsz
 er</span><br /><span style="font-size: 10pt;">A szÃ­v elvÃ¡ltozÃ¡sai</span>
 <br /><span style="font-size: 10pt;">VÃ©r- Ã©s nyirokrendszer (leukÃ©mia)</
 span><br /><span style="font-size: 10pt;">Magas vÃ©rnyomÃ¡s (vesekÃ©reg elv
 Ã¡ltozÃ¡sa)</span><br /><span style="font-size: 10pt;">Here Ã©s petefÃ©szek
 ciszta</span><br /><strong><span style="font-size: 10pt;">3. nap</span></st
 rong><br /><span style="font-size: 10pt;">A kÃ©regÃ¡llomÃ¡ny vezÃ©relte sze
 rvek elvÃ¡ltozÃ¡sai</span><br /><span style="font-size: 10pt;">FÃ©rfias Ã©s
  nÅ‘ies hormonÃ¡llapot</span><br /><span style="font-size: 10pt;">FunkciÃ³-
 kimaradÃ¡sok, bÃ©nulÃ¡sok, cukorszint vÃ¡ltozÃ¡sok</span><br /><strong><spa
 n style="font-size: 10pt;">4. nap</span></strong><br /><span style="font-si
 ze: 10pt;">MentÃ¡lis kÃ¼lÃ¶nprogramok</span><br /><span style="font-size: 1
 0pt;">Hangulatzavarok Ã©s elmebajok - a leggyakoribb tÃ¼netek hÃ¡tterÃ©vel.
 </span><br /><span style="font-size: 10pt;">(MegzavarodottsÃ¡g, kÃ©nyszeres
  sÃ©rtegetÃ©s, Ã©rtÃ©kÃ­tÃ©leti zavarok, </span><br /><span style="font-siz
 e: 10pt;">mÃ¡nia, depressziÃ³, skizofrÃ©nia, fÃ³biÃ¡k Ã©s paranoiÃ¡k.)</spa
 n><br /><span style="font-size: 10pt;">&nbsp;</span></p><p><span style="fon
 t-size: 10pt;">Tananyag: Biologika Szerv Atlasz</span><br /><span style="fo
 nt-size: 10pt;">Roberto elÅ‘adÃ¡sainak prezentÃ¡ciÃ³s anyaga az Ãºj medicin
 a kÃ©zikÃ¶nyvÃ©vÃ© nÅ‘tte ki magÃ¡t. A Szerv Atlasz megvÃ¡sÃ¡rolhatÃ³ a web
 shopban vagy a trÃ©ningen. A Szerv Atlasz jelenleg az egyetlen Ãºj medicinÃ
 ¡s kÃ©zikÃ¶nyv a vilÃ¡gon.</span></p><p><span style="font-size: 10pt;">Jele
 ntkezÃ©skor add meg:</span><br /><span style="font-size: 10pt;">1.) a trÃ©n
 ing nevÃ©t, helyszÃ­nÃ©t Ã©s idÅ‘pontjÃ¡t</span><br /><span style="font-siz
 e: 10pt;">2.) pontos nevedet</span><br /><span style="font-size: 10pt;">3.)
  mobil szÃ¡modat</span><br /><span style="font-size: 10pt;">4.) e-mail cÃ­m
 edet</span><br /><span style="font-size: 10pt;">5.) kedvezmÃ©ny alapjÃ¡t (h
 a jogosult vagy)</span><br /><span style="font-size: 10pt;"><br style="font
 -size: 10pt;" /></span></p>
CONTACT:
 
 
 
 
 Ez az email cÃ­m vÃ©dett a spam robotoktÃ³l, a megtekintÃ©sÃ©hez engedÃ©lyezni kell a Javascriptet.
 
 
 ; +36703603980

DTSTAMP:20260424T145623Z
DTSTART:20170209T090000Z
DTEND:20170209T160000Z
SEQUENCE:0
TRANSP:OPAQUE
END:VEVENT
END:VCALENDAR