BEGIN:VCALENDAR
VERSION:2.0
PRODID:-//jEvents 1.5 for Joomla//EN
BEGIN:VEVENT
CALSCALE:GREGORIAN
METHOD:PUBLISH

UID:88430a568a4ad6fd41b329fb6987e36d
CATEGORIES:Alap szeminárium 
SUMMARY:ElekNoémi: Biologika Intenzív Tanfolyam 1/4 (Budapest)
LOCATION:Budapest, szervezés alatt
DESCRIPTION;ENCODING=QUOTED-PRINTABLE:\n\n&nbsp;\n\n\nBIOLOGIKA (ÚJ MEDICINA) TRÉNING - HÉTKÖZNAP\n\n\n\n3 na
 p ALAP + 1 nap HALADÓ tanfolyam Budapesten\n\n\n&nbsp;\n\n\ntémakör: dag
 anatok, sorvadások és más elváltozások, biológiai értelmük, céljuk
 , rendeltetésük és lefolyásuk, hangulatzavarok és elmebajok\n\n\n\neln
 evezés: Biologika (Új Medicina) tanfolyam\n\n\nkategória: biologika&nbsp
 ;\n\n\nlétszámkorlát: nincs&nbsp;\n\n\ntréner: Elek Noémi&nbsp;http://
 biologika.hu/partnereink/elek-noemi-ujmedicina-konzulensek.html \n\n\nhelys
 zín: Budapest, szervezés alatt, függ a létszámtól - további informá
 ció e-mailben\n\n\nidőtartam: 4 nap, 2017. február 9-10.; 13-14.\n\n\n\n
 ebédszünet: 13-14 óráig&nbsp;\n\n\nbontási lehetőség: nincs&nbsp;\n\
 n\n\n&nbsp;\n\n\nelőfeltétel:&nbsp;www.alapismeretek.biologika.hu&nbsp;on
 line, ingyenes előadás megtekintése legalább kétszer\n\n\n\nrészvéte
 li díj: (4 nap): 60.000,-Ft / fő / 4 nap\n\n\n\njelentkezési határidő:
  2017. február 7.\n\n\n\nKedvezményes tanfolyamdíjak:\n2016. december 20
 -ig történő regisztráció esetén: 40.000,-Ft / fő / 4 nap\n2017. janu
 ár 16-ig történő regisztráció esetén: 50.000,-Ft / fő / 4 nap\n\n\n
 \n\njelentkezés:&nbsp;írásos előregisztráció kötelező&nbsp;a
CONTACT:
 
 
 
 
 Ez az email cím védett a spam robotoktól, a megtekintéséhez engedélyezni kell a Javascriptet.
 
 
 ; +36703603980

DTSTAMP:20260420T073317Z
DTSTART:20170209T090000Z
DTEND:20170209T160000Z
SEQUENCE:0
TRANSP:OPAQUE
END:VEVENT
END:VCALENDAR