BEGIN:VCALENDAR
VERSION:2.0
PRODID:-//jEvents 1.5 for Joomla//EN
BEGIN:VEVENT
CALSCALE:GREGORIAN
METHOD:PUBLISH

UID:5cba939ae16f94be4da468e01aedd6f4
CATEGORIES:Alap szeminárium 
SUMMARY:ElekNoémi: Biologika Intenzív Tanfolyam 2/4 (Budapest)
LOCATION:Budapest, szervezés alatt
DESCRIPTION;ENCODING=QUOTED-PRINTABLE:\n\nBIOLOGIKA (ÚJ MEDICINA) TRÉNING\n\n\n3 nap ALAP + 1 nap HALADÓ tanfo
 lyam Budapesten\n\n\n\n\n\n\nelnevezés: Biologika (újmedicina) tanfolyam\
 n\n\nidőtartam: 4 nap, 2017. február 9-10; 13-14.\n\n\n\nFigyelem! Ez egy
  több napos tréning, további információ az első napnál, ide kattintv
 a.\n\n\n\n
CONTACT:
 
 
 
 
 Ez az email cím védett a spam robotoktól, a megtekintéséhez engedélyezni kell a Javascriptet.
 
 
 ; +36703603980

DTSTAMP:20260424T085957Z
DTSTART:20170210T090000Z
DTEND:20170210T160000Z
SEQUENCE:0
TRANSP:OPAQUE
END:VEVENT
END:VCALENDAR