BEGIN:VCALENDAR
VERSION:2.0
PRODID:-//jEvents 1.5 for Joomla//EN
BEGIN:VEVENT
CALSCALE:GREGORIAN
METHOD:PUBLISH

UID:4a21c4e568fd20be0c47e9a900605302
CATEGORIES:Alap szeminÃ¡rium 
SUMMARY:ElekNoÃ©mi: Biologika IntenzÃ­v Tanfolyam 1/4 (Budapest)
LOCATION:Budapest, szervezÃ©s alatt
DESCRIPTION;ENCODING=QUOTED-PRINTABLE:<p>&nbsp;</p><p><b><span style="font-size: 12pt;">BIOLOGIKA (GNM ÃšJ MEDICI
 NA) TRÃ‰NING<br /></span></b></p><p><b><span style="font-size: 12pt;">3 nap
  ALAP + 1 nap HALADÃ“ tanfolyam<span class="Apple-converted-space"> </span>
 </span></b><b><span style="font-size: 12pt;"><span style="color: #003366;">
 Budapesten</span></span></b></p><p><b><span style="font-size: 12pt;">&nbsp;
 </span></b></p><p><span style="font-size: 10pt;">tÃ©makÃ¶r: daganatok, sorv
 adÃ¡sok Ã©s mÃ¡s elvÃ¡ltozÃ¡sok, biolÃ³giai Ã©rtelmÃ¼k, cÃ©ljuk, rendeltetÃ
 ©sÃ¼k Ã©s lefolyÃ¡suk, hangulatzavarok Ã©s elmebajok<br /></span></p><p><sp
 an style="font-size: 10pt;">elnevezÃ©s: Biologika (Ãšj Medicina)<span class
 ="Apple-converted-space"> tanfolyam</span></span></p><p><span style="font-s
 ize: 10pt;">kategÃ³ria: biologika</span>&nbsp;</p><p><span style="font-size
 : 10pt;">lÃ©tszÃ¡mkorlÃ¡t: <b><span style="color: #800000;"><span style="fo
 nt-size: 10pt;">nincs</span></span></b></span>&nbsp;</p><p><span style="fon
 t-size: 10pt;">trÃ©ner:<span class="Apple-converted-space"> </span></span><
 span style="font-size: 10pt;"><strong>Elek NoÃ©mi&nbsp;</strong><a target="
 _blank" href="partnereink/elek-noemi-ujmedicina-konzulensek.html">http://bi
 ologika.hu/partnereink/elek-noemi-ujmedicina-konzulensek.html</a> </span><a
  target="_blank" href="partnereink/elek-noemi-ujmedicina-konzulensek.html">
 </a></p><p><span style="font-size: 10pt;">helyszÃ­n:<strong><span class="Ap
 ple-converted-space"> Budapest</span></strong></span><span style="font-size
 : 10pt;">, szervezÃ©s alatt</span>, <span style="font-size: 10pt;">fÃ¼gg a 
 lÃ©tszÃ¡mtÃ³l - tovÃ¡bbi informÃ¡ciÃ³ e-mailben</span></p><p><span style="f
 ont-size: 10pt;">idÅ‘tartam: <strong>4 nap</strong>, 2017. januÃ¡r 20-21-22
 -23.<br /></span></p><p><span style="font-size: 10pt;">ebÃ©dszÃ¼net: <stron
 g>13-14</strong></span><span style="font-size: 10pt;"> <strong>Ã³rÃ¡ig</str
 ong></span>&nbsp;</p><p><span style="font-size: 10pt;">bontÃ¡si lehetÅ‘sÃ©g
 : nincs&nbsp;<br /></span></p><p><span style="font-size: 10pt;">&nbsp;</spa
 n></p><p><span style="font-size: 10pt;">elÅ‘feltÃ©tel:<span class="Apple-co
 nverted-space">&nbsp;</span></span><span style="font-size: 10pt;"><a target
 ="_blank" href="http://www.alapismeretek.biologika.hu">www.alapismeretek.bi
 ologika.hu</a></span><span style="font-size: 10pt;"><span class="Apple-conv
 erted-space">&nbsp;</span>online, ingyenes elÅ‘adÃ¡s megtekintÃ©se legalÃ¡b
 b kÃ©tszer<br /></span></p><p><span style="font-size: 10pt;">rÃ©szvÃ©teli d
 Ã­j: (4 nap): <strong>60.000,-Ft / fÅ‘ / 4 nap<br /></strong></span></p><p>
 <span style="font-size: 10pt;">jelentkezÃ©si hatÃ¡ridÅ‘:<strong><span style
 ="color: #000000;"> 2017. januÃ¡r 17.</span><br /></strong></span></p><p><s
 pan style="font-size: 10pt;">KedvezmÃ©nyes tanfolyamdÃ­jak:<br />2016. dece
 mber 6-ig tÃ¶rtÃ©nÅ‘ regisztrÃ¡ciÃ³ esetÃ©n: <strong>40.000,-Ft</strong> / 
 fÅ‘ / 4 nap<strong><br /></strong>2016. december 31-ig tÃ¶rtÃ©nÅ‘ regisztrÃ
 ¡ciÃ³ esetÃ©n: <strong>50.000,-Ft</strong> / fÅ‘ / 4 nap<br /><br /></span>
 </p><p><span style="font-size: 10pt;">jelentkezÃ©s:<span class="Apple-conve
 rted-space">&nbsp;</span></span><b><span style="color: #800000;"><span styl
 e="font-size: 10pt;">Ã­rÃ¡sos elÅ‘regisztrÃ¡ciÃ³ kÃ¶telezÅ‘</span></span></
 b><span style="font-size: 10pt;"><span class="Apple-converted-space">&nbsp;
 </span>a <a target="_blank" href="mailto:%
 <script language='JavaScript' t
 ype='text/javascript'>
 <!--
 var prefix = 'm&#97;&#105;lt&#111;:';
 var su
 ffix = '';
 var attribs = '';
 var path = 'hr' + 'ef' + '=';
 var addy40570
  = '20n&#111;&#101;m&#105;' + '&#64;';
 addy40570 = addy40570 + 'b&#105;&#1
 11;l&#111;g&#105;k&#97;' + '&#46;' + 'h&#117;';
 document.write( '<a ' + pa
 th + '\'' + prefix + addy40570 + suffix + '\'' + attribs + '>' );
 document
 .write( addy40570 );
 document.write( '<\/a>' );
 //-->
 </script><script l
 anguage='JavaScript' type='text/javascript'>
 <!--
 document.write( '<span 
 style=\'display: none;\'>' );
 //-->
 </script>Ez az email cÃ­m vÃ©dett a s
 pam robotoktÃ³l, a megtekintÃ©sÃ©hez engedÃ©lyezni kell a Javascriptet.
 <s
 cript language='JavaScript' type='text/javascript'>
 <!--
 document.write( 
 '</' );
 document.write( 'span>' );
 //-->
 </script>">
 <script language='
 JavaScript' type='text/javascript'>
 <!--
 var prefix = 'm&#97;&#105;lt&#11
 1;:';
 var suffix = '';
 var attribs = '';
 var path = 'hr' + 'ef' + '=';
 
 var addy4927 = 'n&#111;&#101;m&#105;' + '&#64;';
 addy4927 = addy4927 + 'b&
 #105;&#111;l&#111;g&#105;k&#97;' + '&#46;' + 'h&#117;';
 document.write( '<
 a ' + path + '\'' + prefix + addy4927 + suffix + '\'' + attribs + '>' );
 d
 ocument.write( addy4927 );
 document.write( '<\/a>' );
 //-->
 </script><sc
 ript language='JavaScript' type='text/javascript'>
 <!--
 document.write( '
 <span style=\'display: none;\'>' );
 //-->
 </script>Ez az email cÃ­m vÃ©de
 tt a spam robotoktÃ³l, a megtekintÃ©sÃ©hez engedÃ©lyezni kell a Javascripte
 t.
 <script language='JavaScript' type='text/javascript'>
 <!--
 document.w
 rite( '</' );
 document.write( 'span>' );
 //-->
 </script></a> e-mail cÃ­m
 en</span></p><p><span style="font-size: 10pt;">A tanfolyam cÃ©lja, hogy ala
 pokat adjon a biolÃ³giai termÃ©szettÃ¶rvÃ©nyek megismerÃ©sÃ©hez, a testben 
 lezajlÃ³ folyamatok megÃ©rtÃ©sÃ©hez. </span><br /><span style="font-size: 1
 0pt;">A biolÃ³gia termÃ©szettÃ¶rvÃ©nyei hitrendszerÃ¼nktÅ‘l fÃ¼ggetlenÃ¼l m
 Å±kÃ¶dnek, egyÃ©nileg ellenÅ‘rizhetÅ‘ek akÃ¡r visszamenÅ‘leg is. </span><br
  /><span style="font-size: 10pt;">A tanfolyami ismeretek elsajÃ¡tÃ­tÃ¡sa Ãº
 j rÃ¡lÃ¡tÃ¡st biztosÃ­t a betegsÃ©gek helyes Ã©rtelmezÃ©sÃ©re. SegÃ­tsÃ©get
  nyÃºjt megalapozott dÃ¶ntÃ©seket hozni az egyÃ©n szÃ¡mÃ¡ra sajÃ¡t egÃ©szsÃ
 ©ge Ã©rdekÃ©ben. A Biologika ismeretÃ©nek egyik legnagyobb elÅ‘nye, hogy kÃ
 ©pessÃ© vÃ¡lunk a komolyabb elvÃ¡ltozÃ¡sok kialakulÃ¡sÃ¡t megakadÃ¡lyozni, 
 a mÃ¡r folyamatban lÃ©vÅ‘ket a legÃ©sszerÅ±bben kezelni. </span><br /><span
  style="font-size: 10pt;">A tanfolyam nem gyÃ³gymÃ³d, nem gyÃ³gyÃ­t, nem kÃ
 ©szÃ­t fel gyÃ³gyÃ­tÃ³ tevÃ©kenysÃ©g vÃ©gzÃ©sÃ©re. Az ismeretanyag az Ã¶nma
 gÃ¡Ã©rt felelÅ‘ssÃ©get vÃ¡llalÃ³ hÃ©tkÃ¶znapi embernek szÃ³l. Ennek hiÃ¡nya
  akÃ¡r az egÃ©szsÃ©g megÅ‘rzÃ©sÃ©nek, helyreÃ¡llÃ­tÃ¡sÃ¡nak gÃ¡tjÃ¡vÃ¡ is v
 Ã¡lhat. MegÃ©rteni a bennÃ¼nk zajlÃ³ Ã©rzelmi Ã©s testi folyamatokat egy Ãº
 j, minÅ‘sÃ©gibb, Ã¡ltalunk irÃ¡nyÃ­tott Ã©letvitel alapjÃ¡t jelentheti. Meg
 szabadulni hiedelmeinktÅ‘l, fÃ©lelmeinktÅ‘l, betegsÃ©gtudatunktÃ³l egy magu
 nkkal cipelt teher letÃ©telÃ©t jelenti. </span><br /><span style="font-size
 : 10pt;">A tanfolyam nem csak testi szinten tÃ¡rja fel az elvÃ¡ltozÃ¡sokat,
  hanem megmutatja lelki szinten is a kivÃ¡ltÃ³ okokat, Ã©rzelmi kilengÃ©sek
 et.</span><br /><span style="font-size: 10pt;">A trÃ©ning Barnai Roberto Ã¡
 ltal kÃ©szÃ­tett Szerv Atlasz tudÃ¡sanyagÃ¡n alapul.</span><br /><span styl
 e="font-size: 10pt;">&nbsp;</span></p><p><span style="font-size: 10pt;">A t
 anfolyam tematikÃ¡ja:</span><br /><strong><span style="font-size: 10pt;">1.
  nap</span></strong><br /><span style="font-size: 10pt;">Az Ã¶t biolÃ³giai 
 termÃ©szettÃ¶rvÃ©ny - Dr. Ryke Geerd Hammer munkÃ¡ssÃ¡ga</span><br /><span 
 style="font-size: 10pt;">Barnai Roberto: Biologika Szerv Atlasz felÃ©pÃ­tÃ©
 se Ã©s hasznÃ¡lata</span><br /><span style="font-size: 10pt;">Az agytÃ¶rzs 
 vezÃ©relte mirigyszÃ¶vetes szervek elvÃ¡ltozÃ¡sai</span><br /><span style="
 font-size: 10pt;">Az kÃ¶zÃ©pagy vezÃ©relte simaizomszÃ¶vetek elvÃ¡ltozÃ¡sai
  (miÃ³mÃ¡k) </span><br /><strong><span style="font-size: 10pt;">2. nap</spa
 n></strong><br /><span style="font-size: 10pt;">A kisagy vezÃ©relte szervek
  elvÃ¡ltozÃ¡sai (hÃ¡rtyaszÃ¶vetek, bÅ‘rirha, tejmirigyek)</span><br /><span
  style="font-size: 10pt;">A velÅ‘Ã¡llomÃ¡ny vezÃ©relte szervek elvÃ¡ltozÃ¡s
 ai Ã©s a valÃ³di cisztÃ¡k</span><br /><span style="font-size: 10pt;">KÃ¶tÅ‘
 szÃ¶vetek, vÃ¡zrendszer</span><br /><span style="font-size: 10pt;">A szÃ­v 
 elvÃ¡ltozÃ¡sai</span><br /><span style="font-size: 10pt;">VÃ©r- Ã©s nyirokr
 endszer (leukÃ©mia)</span><br /><span style="font-size: 10pt;">Magas vÃ©rny
 omÃ¡s (vesekÃ©reg elvÃ¡ltozÃ¡sa)</span><br /><span style="font-size: 10pt;"
 >Here Ã©s petefÃ©szekciszta</span><br /><strong><span style="font-size: 10p
 t;">3. nap</span></strong><br /><span style="font-size: 10pt;">A kÃ©regÃ¡ll
 omÃ¡ny vezÃ©relte szervek elvÃ¡ltozÃ¡sai</span><br /><span style="font-size
 : 10pt;">FÃ©rfias Ã©s nÅ‘ies hormonÃ¡llapot</span><br /><span style="font-s
 ize: 10pt;">FunkciÃ³-kimaradÃ¡sok, bÃ©nulÃ¡sok, cukorszint vÃ¡ltozÃ¡sok</sp
 an><br /><strong><span style="font-size: 10pt;">4. nap</span></strong><br /
 ><span style="font-size: 10pt;">MentÃ¡lis kÃ¼lÃ¶nprogramok</span><br /><spa
 n style="font-size: 10pt;">Hangulatzavarok Ã©s elmebajok - a leggyakoribb t
 Ã¼netek hÃ¡tterÃ©vel.</span><br /><span style="font-size: 10pt;">(Megzavaro
 dottsÃ¡g, kÃ©nyszeres sÃ©rtegetÃ©s, Ã©rtÃ©kÃ­tÃ©leti zavarok, </span><br />
 <span style="font-size: 10pt;">mÃ¡nia, depressziÃ³, skizofrÃ©nia, fÃ³biÃ¡k 
 Ã©s paranoiÃ¡k.)</span><br /><span style="font-size: 10pt;">&nbsp;</span></
 p><p><span style="font-size: 10pt;">Tananyag: Biologika Szerv Atlasz</span>
 <br /><span style="font-size: 10pt;">Roberto elÅ‘adÃ¡sainak prezentÃ¡ciÃ³s 
 anyaga az Ãºj medicina kÃ©zikÃ¶nyvÃ©vÃ© nÅ‘tte ki magÃ¡t. A Szerv Atlasz me
 gvÃ¡sÃ¡rolhatÃ³ a webshopban vagy a trÃ©ningen. A Szerv Atlasz jelenleg az 
 egyetlen Ãºj medicinÃ¡s kÃ©zikÃ¶nyv a vilÃ¡gon.</span></p><p><span style="f
 ont-size: 10pt;">JelentkezÃ©skor add meg:</span><br /><span style="font-siz
 e: 10pt;">1.) a trÃ©ning nevÃ©t, helyszÃ­nÃ©t Ã©s idÅ‘pontjÃ¡t</span><br />
 <span style="font-size: 10pt;">2.) pontos nevedet</span><br /><span style="
 font-size: 10pt;">3.) mobil szÃ¡modat</span><br /><span style="font-size: 1
 0pt;">4.) e-mail cÃ­medet</span><br /><span style="font-size: 10pt;">5.) ke
 dvezmÃ©ny alapjÃ¡t (ha jogosult vagy)</span><br /><span style="font-size: 1
 0pt;"><br style="font-size: 10pt;" /></span></p>
CONTACT:
 
 
 
 
 Ez az email cÃ­m vÃ©dett a spam robotoktÃ³l, a megtekintÃ©sÃ©hez engedÃ©lyezni kell a Javascriptet.
 
 
 ; +36703603980

DTSTAMP:20260424T084014Z
DTSTART:20170120T090000Z
DTEND:20170120T160000Z
SEQUENCE:0
TRANSP:OPAQUE
END:VEVENT
END:VCALENDAR