BEGIN:VCALENDAR
VERSION:2.0
PRODID:-//jEvents 1.5 for Joomla//EN
BEGIN:VEVENT
CALSCALE:GREGORIAN
METHOD:PUBLISH

UID:ca6d790802c8848bb38cf43035984fcc
CATEGORIES:Alap szeminÃ¡rium 
SUMMARY:OrlikI: Biologika IntenzÃ­v Tanfolyam 1/4 (Szeged)
LOCATION:Szeged, szervezÃ©s alatt
DESCRIPTION;ENCODING=QUOTED-PRINTABLE:<p>&nbsp;</p><p><b><span style="font-size: 12pt;">BIOLOGIKA (GNM ÃšJ MEDICI
 NA) TRÃ‰NING</span></b></p><p><b><span style="font-size: 12pt;">2 nap ALAP 
 + 2 nap HALADÃ“ tanfolyam<span class="Apple-converted-space"> </span></span
 ></b><b><span style="font-size: 12pt;"><span style="color: #003366;">Szeged
 en</span></span></b></p><p><b><span style="font-size: 12pt;">&nbsp;</span><
 /b></p><p><span style="font-size: 10pt;">tÃ©makÃ¶r: daganatok, sorvadÃ¡sok 
 Ã©s mÃ¡s elvÃ¡ltozÃ¡sok, biolÃ³giai Ã©rtelmÃ¼k, cÃ©ljuk, rendeltetÃ©sÃ¼k Ã©
 s lefolyÃ¡suk, hangulatzavarok Ã©s elmebajok<br /></span></p><p><span style
 ="font-size: 10pt;">trÃ©ner:<span class="Apple-converted-space">&nbsp;</spa
 n></span><span style="font-size: 10pt;"><strong>Orlik Ilona</strong>,</span
 > <span style="text-decoration: underline;"><a href="partnereink/orlik-ilon
 a-biologika.html">http://biologika.hu/partnereink/orlik-ilona-biologika.htm
 l</a></span></p><p><span style="font-size: 10pt;">helyszÃ­n:<strong><span c
 lass="Apple-converted-space"> Szeged</span></strong></span><span style="fon
 t-size: 10pt;">, szervezÃ©s alatt</span>, <span style="font-size: 10pt;">fÃ
 ¼gg a lÃ©tszÃ¡mtÃ³l - tovÃ¡bbi informÃ¡ciÃ³ e-mailben</span></p><p><span st
 yle="font-size: 10pt;">idÅ‘tartam: <strong>4 nap</strong>, 2016. december 1
 5-16; 2017. januÃ¡r 12-13. <br /></span></p><p><span style="font-size: 10pt
 ;">ebÃ©dszÃ¼net: <strong>12-13</strong></span><span style="font-size: 10pt;
 "> <strong>Ã³rÃ¡ig</strong></span>&nbsp;</p><p><span style="font-size: 10pt
 ;">bontÃ¡si lehetÅ‘sÃ©g: nincs&nbsp;<br /></span></p><p><span style="font-s
 ize: 10pt;">elÅ‘feltÃ©tel:<span class="Apple-converted-space">&nbsp;</span>
 </span><span style="font-size: 10pt;"><a target="_blank" href="http://www.a
 lapismeretek.biologika.hu">www.alapismeretek.biologika.hu</a></span><span s
 tyle="font-size: 10pt;"><span class="Apple-converted-space">&nbsp;</span>on
 line, ingyenes elÅ‘adÃ¡s megtekintÃ©se legalÃ¡bb kÃ©tszer<br /></span></p><
 p><span style="font-size: 10pt;">rÃ©szvÃ©teli dÃ­j: (4 nap): <strong>40.000
 .-Ft/fÅ‘/4 nap <br /></strong></span></p><p><span style="font-size: 10pt;">
 jelentkezÃ©si hatÃ¡ridÅ‘:<strong> december 9..<br /></strong></span></p><p>
 <span style="font-size: 10pt;">KedvezmÃ©nyes tanfolyamdÃ­jak:</span></p><p>
 <span style="font-size: 10pt;">- 10% kedvezmÃ©ny a jelentkezÃ©si hatÃ¡ridÅ‘
 ig regisztrÃ¡lÃ³knak: <strong>36.000Ft/fÅ‘/4 nap</strong><br />- 20% csopor
 tkedvezmÃ©ny 4 fÅ‘ egyÃ¼tt jelentkezÃ©se esetÃ©n tehÃ¡t <strong>32.000.-Ft/
 fÅ‘/4 nap</strong><br />- 25% kedvezmÃ©ny</span> <span style="font-size: 10
 pt;">2 kÃ¶zeli, egy hÃ¡ztartÃ¡sban Ã©lÅ‘ csalÃ¡dtag ugyanazon tanfolyamra t
 Ã¶rtÃ©nÅ‘ jelentkezÃ©se esetÃ©n tehÃ¡t <strong>30.000.-Ft/fÅ‘/4 nap</strong
 ></span><br /><span style="font-size: 10pt;">- 35% 60 Ã©v feletti korkedvez
 mÃ©ny: <strong>26.000.-Ft/fÅ‘/4 nap</strong><br />- 50% kedvezmÃ©ny: az ism
 Ã©tlÅ‘knek: <strong>20.000 Ft/4 nap</strong><br />- 100% 12-18 kÃ¶zÃ¶tti fi
 atalok rÃ©szÃ©re ingyenes a tanfolyam.<br /><br />Az egyes kedvezmÃ©nyek ne
 m vonhatÃ³k Ã¶ssze.<br />A felsorolt dÃ­jak: nettÃ³ Ã¡rak.</span></p><p><sp
 an style="font-size: 10pt;">jelentkezÃ©s:<span class="Apple-converted-space
 ">&nbsp;</span></span><b><span style="color: #800000;"><span style="font-si
 ze: 10pt;">Ã­rÃ¡sos elÅ‘regisztrÃ¡ciÃ³ kÃ¶telezÅ‘</span></span></b><span st
 yle="font-size: 10pt;"><span class="Apple-converted-space">&nbsp;</span>az 
 
 <script language='JavaScript' type='text/javascript'>
 <!--
 var prefix =
  'm&#97;&#105;lt&#111;:';
 var suffix = '';
 var attribs = '';
 var path = 
 'hr' + 'ef' + '=';
 var addy93978 = '&#105;c&#97;' + '&#64;';
 addy93978 = 
 addy93978 + 'b&#105;&#111;l&#111;g&#105;k&#97;' + '&#46;' + 'h&#117;';
 doc
 ument.write( '<a ' + path + '\'' + prefix + addy93978 + suffix + '\'' + att
 ribs + '>' );
 document.write( addy93978 );
 document.write( '<\/a>' );
 //
 -->
 </script><script language='JavaScript' type='text/javascript'>
 <!--
 
 document.write( '<span style=\'display: none;\'>' );
 //-->
 </script>Ez az
  email cÃ­m vÃ©dett a spam robotoktÃ³l, a megtekintÃ©sÃ©hez engedÃ©lyezni k
 ell a Javascriptet.
 <script language='JavaScript' type='text/javascript'>

  <!--
 document.write( '</' );
 document.write( 'span>' );
 //-->
 </script
 > e-mail cÃ­men</span></p><p><span style="font-size: 10pt;">A tanfolyam cÃ©
 lja, hogy alapokat adjon a biolÃ³giai termÃ©szettÃ¶rvÃ©nyek megismerÃ©sÃ©he
 z, a testben lezajlÃ³ folyamatok megÃ©rtÃ©sÃ©hez. </span><br /><span style=
 "font-size: 10pt;">A biolÃ³gia termÃ©szettÃ¶rvÃ©nyei hitrendszerÃ¼nktÅ‘l fÃ
 ¼ggetlenÃ¼l mÅ±kÃ¶dnek, egyÃ©nileg ellenÅ‘rizhetÅ‘ek akÃ¡r visszamenÅ‘leg i
 s. </span><br /><span style="font-size: 10pt;">A tanfolyami ismeretek elsaj
 Ã¡tÃ­tÃ¡sa Ãºj rÃ¡lÃ¡tÃ¡st biztosÃ­t a betegsÃ©gek helyes Ã©rtelmezÃ©sÃ©re.
  SegÃ­tsÃ©get nyÃºjt megalapozott dÃ¶ntÃ©seket hozni az egyÃ©n szÃ¡mÃ¡ra sa
 jÃ¡t egÃ©szsÃ©ge Ã©rdekÃ©ben. A Biologika ismeretÃ©nek egyik legnagyobb elÅ
 ‘nye, hogy kÃ©pessÃ© vÃ¡lunk a komolyabb elvÃ¡ltozÃ¡sok kialakulÃ¡sÃ¡t mega
 kadÃ¡lyozni, a mÃ¡r folyamatban lÃ©vÅ‘ket a legÃ©sszerÅ±bben kezelni. </spa
 n><br /><span style="font-size: 10pt;">A tanfolyam nem gyÃ³gymÃ³d, nem gyÃ³
 gyÃ­t, nem kÃ©szÃ­t fel gyÃ³gyÃ­tÃ³ tevÃ©kenysÃ©g vÃ©gzÃ©sÃ©re. Az ismereta
 nyag az Ã¶nmagÃ¡Ã©rt felelÅ‘ssÃ©get vÃ¡llalÃ³ hÃ©tkÃ¶znapi embernek szÃ³l. 
 Ennek hiÃ¡nya akÃ¡r az egÃ©szsÃ©g megÅ‘rzÃ©sÃ©nek, helyreÃ¡llÃ­tÃ¡sÃ¡nak gÃ
 ¡tjÃ¡vÃ¡ is vÃ¡lhat. MegÃ©rteni a bennÃ¼nk zajlÃ³ Ã©rzelmi Ã©s testi folyam
 atokat egy Ãºj, minÅ‘sÃ©gibb, Ã¡ltalunk irÃ¡nyÃ­tott Ã©letvitel alapjÃ¡t je
 lentheti. Megszabadulni hiedelmeinktÅ‘l, fÃ©lelmeinktÅ‘l, betegsÃ©gtudatunk
 tÃ³l egy magunkkal cipelt teher letÃ©telÃ©t jelenti. </span><br /><span sty
 le="font-size: 10pt;">A tanfolyam nem csak testi szinten tÃ¡rja fel az elvÃ
 ¡ltozÃ¡sokat, hanem megmutatja lelki szinten is a kivÃ¡ltÃ³ okokat, Ã©rzelm
 i kilengÃ©seket.</span><br /><span style="font-size: 10pt;">A trÃ©ning Barn
 ai Roberto Ã¡ltal kÃ©szÃ­tett Szerv Atlasz tudÃ¡sanyagÃ¡n alapul.</span><br
  /><span style="font-size: 10pt;">&nbsp;</span></p><p><span style="font-siz
 e: 10pt;">A tanfolyam tematikÃ¡ja:</span><br /><strong><span style="font-si
 ze: 10pt;">1. nap</span></strong><br /><span style="font-size: 10pt;">Az Ã¶
 t biolÃ³giai termÃ©szettÃ¶rvÃ©ny - Dr. Ryke Geerd Hammer munkÃ¡ssÃ¡ga</span
 ><br /><span style="font-size: 10pt;">Barnai Roberto: Biologika Szerv Atlas
 z felÃ©pÃ­tÃ©se Ã©s hasznÃ¡lata</span><br /><span style="font-size: 10pt;">
 Az agytÃ¶rzs vezÃ©relte mirigyszÃ¶vetes szervek elvÃ¡ltozÃ¡sai</span><br />
 <span style="font-size: 10pt;">Az kÃ¶zÃ©pagy vezÃ©relte simaizomszÃ¶vetek e
 lvÃ¡ltozÃ¡sai (miÃ³mÃ¡k) </span><br /><strong><span style="font-size: 10pt;
 ">2. nap</span></strong><br /><span style="font-size: 10pt;">A kisagy vezÃ©
 relte szervek elvÃ¡ltozÃ¡sai (hÃ¡rtyaszÃ¶vetek, bÅ‘rirha, tejmirigyek)</spa
 n><br /><span style="font-size: 10pt;">A velÅ‘Ã¡llomÃ¡ny vezÃ©relte szervek
  elvÃ¡ltozÃ¡sai Ã©s a valÃ³di cisztÃ¡k</span><br /><span style="font-size: 
 10pt;">KÃ¶tÅ‘szÃ¶vetek, vÃ¡zrendszer</span><br /><span style="font-size: 10
 pt;">A szÃ­v elvÃ¡ltozÃ¡sai</span><br /><span style="font-size: 10pt;">VÃ©r
 - Ã©s nyirokrendszer (leukÃ©mia)</span><br /><span style="font-size: 10pt;"
 >Magas vÃ©rnyomÃ¡s (vesekÃ©reg elvÃ¡ltozÃ¡sa)</span><br /><span style="font
 -size: 10pt;">Here Ã©s petefÃ©szekciszta</span><br /><strong><span style="f
 ont-size: 10pt;">3. nap</span></strong><br /><span style="font-size: 10pt;"
 >A kÃ©regÃ¡llomÃ¡ny vezÃ©relte szervek elvÃ¡ltozÃ¡sai</span><br /><span sty
 le="font-size: 10pt;">FÃ©rfias Ã©s nÅ‘ies hormonÃ¡llapot</span><br /><span 
 style="font-size: 10pt;">FunkciÃ³-kimaradÃ¡sok, bÃ©nulÃ¡sok, cukorszint vÃ¡
 ltozÃ¡sok</span><br /><strong><span style="font-size: 10pt;">4. nap</span><
 /strong><br /><span style="font-size: 10pt;">MentÃ¡lis kÃ¼lÃ¶nprogramok</sp
 an><br /><span style="font-size: 10pt;">Hangulatzavarok Ã©s elmebajok - a l
 eggyakoribb tÃ¼netek hÃ¡tterÃ©vel.</span><br /><span style="font-size: 10pt
 ;">(MegzavarodottsÃ¡g, kÃ©nyszeres sÃ©rtegetÃ©s, Ã©rtÃ©kÃ­tÃ©leti zavarok, 
 </span><br /><span style="font-size: 10pt;">mÃ¡nia, depressziÃ³, skizofrÃ©n
 ia, fÃ³biÃ¡k Ã©s paranoiÃ¡k.)</span><br /><span style="font-size: 10pt;">&n
 bsp;</span></p><p><span style="font-size: 10pt;">Tananyag: Biologika Szerv 
 Atlasz</span><br /><span style="font-size: 10pt;">Roberto elÅ‘adÃ¡sainak pr
 ezentÃ¡ciÃ³s anyaga az Ãºj medicina kÃ©zikÃ¶nyvÃ©vÃ© nÅ‘tte ki magÃ¡t. A Sz
 erv Atlasz megvÃ¡sÃ¡rolhatÃ³ a webshopban vagy a trÃ©ningen. A Szerv Atlasz
  jelenleg az egyetlen Ãºj medicinÃ¡s kÃ©zikÃ¶nyv a vilÃ¡gon.</span></p><p><
 span style="font-size: 10pt;">JelentkezÃ©skor add meg:</span><br /><span st
 yle="font-size: 10pt;">1.) a trÃ©ning nevÃ©t, helyszÃ­nÃ©t Ã©s idÅ‘pontjÃ¡t
 </span><br /><span style="font-size: 10pt;">2.) pontos nevedet</span><br />
 <span style="font-size: 10pt;">3.) mobil szÃ¡modat</span><br /><span style=
 "font-size: 10pt;">4.) e-mail cÃ­medet</span><br /><span style="font-size: 
 10pt;">5.) kedvezmÃ©ny alapjÃ¡t (ha jogosult vagy)</span><br /><span style=
 "font-size: 10pt;"><br style="font-size: 10pt;" /></span></p>
CONTACT:
 
 
 
 
 Ez az email cÃ­m vÃ©dett a spam robotoktÃ³l, a megtekintÃ©sÃ©hez engedÃ©lyezni kell a Javascriptet.
 
 
 , +36204838742

DTSTAMP:20260420T042445Z
DTSTART:20161215T080000Z
DTEND:20161215T160000Z
SEQUENCE:0
TRANSP:OPAQUE
END:VEVENT
END:VCALENDAR