BEGIN:VCALENDAR
VERSION:2.0
PRODID:-//jEvents 1.5 for Joomla//EN
BEGIN:VEVENT
CALSCALE:GREGORIAN
METHOD:PUBLISH

UID:a39a2cc347e6617d7ba521ec41013438
CATEGORIES:Egyéb kapcsolódó tanfolyam
SUMMARY:HusseinÉ: Érzelmi Feloldás Technika 1/2 (Szentendre)
LOCATION:Szentendre, szervezés alatt
DESCRIPTION;ENCODING=QUOTED-PRINTABLE:<p>&nbsp;</p><p><b><span style="font-size: 12pt;">ÉFT - ÉRZELMI FELOLDÁS
  TECHNIKA</span></b><span style="font-size: 12pt;"> - avagy "a kezed mindig
  kéznél van"</span><b><span style="font-size: 12pt;"><br /></span></b><b>
 <span style="font-size: 12pt;">2 napos tanfolyam<span class="Apple-converte
 d-space"> </span></span></b><b><span style="font-size: 12pt;"><span style="
 color: #003366;">Szentendrén</span></span></b></p><p><b><span style="font-
 size: 12pt;"><br /></span></b><span style="font-size: 10pt;">kategória: EF
 T, pszicho-akkupresszúra, konfliktusoldás</span>&nbsp;</p><p><span style=
 "font-size: 10pt;">típus: intenzív tréning,<span class="Apple-converted-
 space"> gyakorlati </span>tanfolyam</span>&nbsp;</p><p><span style="font-si
 ze: 10pt;">tréner:<span class="Apple-converted-space">&nbsp;</span></span>
 <span style="font-size: 10pt;"><strong>Hussein Éva</strong>, </span><span 
 style="text-decoration: underline;"><a href="partnereink/hussein-eva.html" 
 target="_blank">http://biologika.hu/partnereink/hussein-eva.html</a></span>
 </p><p><span style="font-size: 10pt;">helyszín:<strong><span class="Apple-
 converted-space"> Szentendre</span></strong></span><span style="font-size: 
 10pt;">, szervezés alatt</span></p><p><span style="font-size: 10pt;">időt
 artam: 2 nap, <strong>2017. február 18-19.</strong></span></p><p><span sty
 le="font-size: 10pt;">előfeltétel: nincsen, de előnyös az<span class="A
 pple-converted-space">&nbsp;</span></span><b><a href="http://eloadas.biolog
 ika.hu" target="_blank" style="color: #1155cc;"><span style="font-size: 10p
 t;">5 biológiai természettörvény</span></a></b><span style="font-size: 
 10pt;"><span class="Apple-converted-space">&nbsp;</span>online, ingyenes el
 őadás megtekintése</span></p><p>&nbsp;</p><p><span style="font-size: 10p
 t;">részvételi díj:<span class="Apple-converted-space">&nbsp;</span><b>1
 0.000,- Ft/nap/fő</b></span><span style="font-size: 10pt;"></span></p><p><
 span style="font-size: 10pt;">jelentkezés:<span class="Apple-converted-spa
 ce">&nbsp;</span></span><b><span style="color: #800000;"><span style="font-
 size: 10pt;">írásos előregisztráció </span></span></b><span style="fon
 t-size: 10pt;">a<span class="Apple-converted-space">&nbsp;</span>leírás a
 ljánál megadott e-mail címen</span><span style="font-size: 10pt;">&nbsp;
 </span></p><p style="text-align: left;"><span style="font-size: 10pt;"><str
 ong><br />Leírás:<br /></strong></span></p><p><span style="font-size: 10p
 t;">A tanfolyam kellő elméleti és gyakorlati ismeretet biztosít ahhoz, 
 hogy energia-blokkjaidat feloldhasd, valamint a fizikai vagy a lelki elvál
 tozás, tünet alapján megtalálhasd és ugyancsak feloldhasd a kiváltó 
 lelki konfliktust is.</span></p><p style="text-align: left;">&nbsp;</p><p><
 span style="font-size: 10pt;">Ez a két napos, intenzív tréning azért j
 tt létre, mert nagyon gyakran azt tapasztalom, hogy az elváltozásban é
 rintett személy a Biologika (Új Medicina) ismerete alapján megtalálja u
 gyan az elváltozást, "betegséget" kiváltó lelki konfliktusát, ám a t
 eljes és végleges megoldáshoz szüksége van segítségre, főként viss
 zaeső konfliktus-aktivitás esetén. Ezt a segítséget adja meg az ÉFT (
 pszicho-akupresszúra).</span><br /><span style="font-size: 10pt;">Az EFT e
 gy olyan energia-pszichológiai módszer, amellyel szinte percek alatt megs
 züntethetők fájdalmas, (akár gyerekkori) gyötrő érzelmek, lelki trau
 mák által okozott energia-blokkok.</span><br /><span style="font-size: 10
 pt;">Pl.: szorongás, pánik, depresszió, poszttraumás stressz, fóbiák,
  függőségek, gyász, kudarc, veszteség, düh, harag, önértékelési p
 roblémák, fájdalmak, görcsök, asztmás roham, alvási zavarok, félele
 m....és még sok-sok más probléma.</span><br /><span style="font-size: 1
 0pt;">Gyors, hatásos, könnyű elsajátítani, és bárhol, bármikor alka
 lmazható. Az ÉFT lehetőségei korlátlanok, alkalmas krízistünetek (le
 lki, fizikai közérzet) elviselhetővé tételére is...</span></p><p styl
 e="text-align: left;">&nbsp;</p><p><span style="font-size: 10pt;">Az első 
 nap megismerkedünk a pszicho-akupresszúra elméletével, bemutatásra ker
 ül néhány csoportos gyakorlat. Ezt követően a részt vevők páros és
  egyéni gyakorlatok során sajátítják el a módszert.</span><br /><span
  style="font-size: 10pt;">A második napon teljes egészében gyakorlati na
 p, ahol technikai részleteket is tanulunk, mialatt mindenki folyamatos seg
 ítséget kap a saját és mások lelki blokkjainak oldásához. Előképze
 ttség nem szükséges, de a Biologika (Új Medicina) ismerete előny lehet
 . Az ÉFT gyors rendkívül hatékony és könnyen megtanulható.</span></p
 ><p style="text-align: left;">&nbsp;</p><p><span style="font-size: 10pt;">C
 élom, hogy minél több ember megismerhesse és rendszeresen alkalmazhassa
  ezt a módszert a testi és lelki egészsége érdekében.&nbsp;</span></p
 ><p style="text-align: left;"><span style="font-size: 10pt;"><br />Mindenki
 t szeretettel várok a tréningen!&nbsp;</span></p><p style="text-align: le
 ft;"><span style="font-size: 10pt;">Üdvözlettel, Hussein Éva, tréner</s
 pan></p><p><span style="font-size: 10pt;"></span><span style="font-size: 10
 pt;"><br /></span></p><p><span style="font-size: 10pt;">Jelentkezéskor add
  meg:</span><br /><span style="font-size: 10pt;"> 1.) a tréning nevét, he
 lyszínét és időpontját(!)</span><br /><span style="font-size: 10pt;"> 
 2.) pontos nevedet</span><br /><span style="font-size: 10pt;"> 3.) mobil sz
 ámodat</span><br /><span style="font-size: 10pt;">4.) e-mail címedet</spa
 n></p>
CONTACT:
 
 
 
 
 Ez az email cím védett a spam robotoktól, a megtekintéséhez engedélyezni kell a Javascriptet.
 
 
 ; +36306618398

DTSTAMP:20260424T114351Z
DTSTART:20170218T090000Z
DTEND:20170218T160000Z
SEQUENCE:0
TRANSP:OPAQUE
END:VEVENT
END:VCALENDAR