BEGIN:VCALENDAR
VERSION:2.0
PRODID:-//jEvents 1.5 for Joomla//EN
BEGIN:VEVENT
CALSCALE:GREGORIAN
METHOD:PUBLISH

UID:e9d0c0bb7f1d7d7e14bd2d3f644b8593
CATEGORIES:Egyéb kapcsolódó tanfolyam
SUMMARY:HusseinÉ: Érzelmi Feloldás Technika 1/2 (Szentendre)
LOCATION:Szentendre, szervezés alatt
DESCRIPTION;ENCODING=QUOTED-PRINTABLE:<p>&nbsp;</p><p><b><span style="font-size: 12pt;">ÉFT - ÉRZELMI FELOLDÁS
  TECHNIKA</span></b><span style="font-size: 12pt;"> - avagy "a kezed mindig
  kéznél van"</span><b><span style="font-size: 12pt;"><br /></span></b><b>
 <span style="font-size: 12pt;">2 napos tanfolyam<span class="Apple-converte
 d-space"> </span></span></b><b><span style="font-size: 12pt;"><span style="
 color: #003366;">Szentendrén</span></span></b></p><p><b><span style="font-
 size: 12pt;"><br /></span></b><span style="font-size: 10pt;">kategória: EF
 T, pszicho-akkupresszúra, konfliktusoldás</span>&nbsp;</p><p><span style=
 "font-size: 10pt;">típus: intenzív tréning,<span class="Apple-converted-
 space"> gyakorlati </span>tanfolyam</span>&nbsp;</p><p><span style="font-si
 ze: 10pt;">tréner:<span class="Apple-converted-space">&nbsp;</span></span>
 <span style="font-size: 10pt;"><strong>Hussein Éva</strong>, </span><span 
 style="text-decoration: underline;"><a href="partnereink/hussein-eva.html" 
 target="_blank">http://biologika.hu/partnereink/hussein-eva.html</a></span>
 </p><p><span style="font-size: 10pt;">helyszín:<strong><span class="Apple-
 converted-space"> Szentendre</span></strong></span><span style="font-size: 
 10pt;">, szervezés alatt</span></p><p><span style="font-size: 10pt;">időt
 artam: 2 nap, <strong>2017. március 18-19.</strong></span></p><p><span sty
 le="font-size: 10pt;">előfeltétel: nincsen, de előnyös az<span class="A
 pple-converted-space">&nbsp;</span></span><b><a href="http://eloadas.biolog
 ika.hu" target="_blank" style="color: #1155cc;"><span style="font-size: 10p
 t;">5 biológiai természettörvény</span></a></b><span style="font-size: 
 10pt;"><span class="Apple-converted-space">&nbsp;</span>online, ingyenes el
 őadás megtekintése</span></p><p>&nbsp;</p><p><span style="font-size: 10p
 t;">részvételi díj:<span class="Apple-converted-space">&nbsp;</span><b>1
 0.000,- Ft/nap/fő</b></span><span style="font-size: 10pt;"></span></p><p><
 span style="font-size: 10pt;">jelentkezés:<span class="Apple-converted-spa
 ce">&nbsp;</span></span><b><span style="color: #800000;"><span style="font-
 size: 10pt;">írásos előregisztráció </span></span></b><span style="fon
 t-size: 10pt;">a<span class="Apple-converted-space">&nbsp;</span>leírás a
 ljánál megadott e-mail címen</span><span style="font-size: 10pt;">&nbsp;
 </span></p><p><span style="font-size: 10pt;"><strong><br />Leírás:</stron
 g></span><strong><br /></strong><strong><br /></strong><span style="font-si
 ze: 10pt;">A tanfolyam kellő elméleti és gyakorlati ismeretet biztosít 
 ahhoz, hogy energia-blokkjaidat feloldhasd, valamint a fizikai vagy a lelki
  elváltozás, tünet alapján megtalálhasd és ugyancsak feloldhasd a kiv
 áltó lelki konfliktust is.</span></p><p><span style="font-size: 10pt;">Ez
  a két napos, intenzív tréning azért jött létre, mert nagyon gyakran 
 azt tapasztalom, hogy az elváltozásban érintett személy a Biologika (Ú
 j Medicina) ismerete alapján megtalálja ugyan az elváltozást, "betegsé
 get" kiváltó lelki konfliktusát, ám a teljes és végleges megoldáshoz
  szüksége van segítségre, főként visszaeső konfliktus-aktivitás ese
 tén. Ezt a segítséget adja meg az ÉFT (pszicho-akupresszúra).</span><b
 r /><span style="font-size: 10pt;">Az EFT egy olyan energia-pszichológiai 
 módszer, amellyel szinte percek alatt megszüntethetők fájdalmas, (akár
  gyerekkori) gyötrő érzelmek, lelki traumák által okozott energia-blok
 kok.</span><br /><span style="font-size: 10pt;">Pl.: szorongás, pánik, de
 presszió, poszttraumás stressz, fóbiák, függőségek, gyász, kudarc, 
 veszteség, düh, harag, önértékelési problémák, fájdalmak, görcsö
 k, asztmás roham, alvási zavarok, félelem....és még sok-sok más probl
 éma.</span><br /><span style="font-size: 10pt;">Gyors, hatásos, könnyű 
 elsajátítani, és bárhol, bármikor alkalmazható. Az ÉFT lehetőségei
  korlátlanok, alkalmas krízistünetek (lelki, fizikai közérzet) elvisel
 hetővé tételére is...</span></p><p><span style="font-size: 10pt;">Az el
 ső nap megismerkedünk a pszicho-akupresszúra elméletével, bemutatásra
  kerül néhány csoportos gyakorlat. Ezt követően a részt vevők páros
  és egyéni gyakorlatok során sajátítják el a módszert.</span><br /><
 span style="font-size: 10pt;">A második napon teljes egészében gyakorlat
 i nap, ahol technikai részleteket is tanulunk, mialatt mindenki folyamatos
  segítséget kap a saját és mások lelki blokkjainak oldásához. Elők
 pzettség nem szükséges, de a Biologika (Új Medicina) ismerete előny l
 ehet. Az ÉFT gyors rendkívül hatékony és könnyen megtanulható.</span
 ></p><p><span style="font-size: 10pt;">Célom, hogy minél több ember megi
 smerhesse és rendszeresen alkalmazhassa ezt a módszert a testi és lelki 
 egészsége érdekében.&nbsp;</span></p><p>&nbsp;</p><p style="text-align:
  left;"><span style="font-size: 10pt;">Mindenkit szeretettel várok a trén
 ingen!&nbsp;</span></p><p style="text-align: left;"><span style="font-size:
  10pt;">Üdvözlettel, Hussein Éva, tréner</span></p><p><span style="font
 -size: 10pt;"></span><span style="font-size: 10pt;"><br /></span></p><p><sp
 an style="font-size: 10pt;">Jelentkezéskor add meg:</span><br /><span styl
 e="font-size: 10pt;"> 1.) a tréning nevét, helyszínét és időpontját(
 !)</span><br /><span style="font-size: 10pt;"> 2.) pontos nevedet</span><br
  /><span style="font-size: 10pt;"> 3.) mobil számodat</span><br /><span st
 yle="font-size: 10pt;">4.) e-mail címedet</span></p>
CONTACT:
 
 
 
 
 Ez az email cím védett a spam robotoktól, a megtekintéséhez engedélyezni kell a Javascriptet.
 
 
 ; +36306618398

DTSTAMP:20260419T205109Z
DTSTART:20170318T090000Z
DTEND:20170318T160000Z
SEQUENCE:0
TRANSP:OPAQUE
END:VEVENT
END:VCALENDAR