BEGIN:VCALENDAR
VERSION:2.0
PRODID:-//jEvents 1.5 for Joomla//EN
BEGIN:VEVENT
CALSCALE:GREGORIAN
METHOD:PUBLISH

UID:b8b59150540986deff571b757314c246
CATEGORIES:Egyéb kapcsolódó tanfolyam
SUMMARY:HusseinÉ: EFT Érzelmi Feloldás Technika 1/2 (Szentendre)
LOCATION:Szentendre, szervezés alatt
DESCRIPTION;ENCODING=QUOTED-PRINTABLE:\n\n&nbsp;\n\n\nÉFT - ÉRZELMI FELOLDÁS TECHNIKA - avagy "a kezed mindig 
 kéznél van"\n2 napos tanfolyam Szentendrén\n\n\n\nkategória: EFT, pszic
 ho-akkupresszúra, konfliktusoldás&nbsp;\n\n\ntípus: intenzív tréning, 
 gyakorlati tanfolyam&nbsp;\n\n\ntréner:&nbsp;Hussein Éva, http://biologik
 a.hu/partnereink/hussein-eva.html\n\n\nhelyszín: Szentendre, szervezés al
 att\n\n\nidőtartam: 2 nap, 2017. április 22-23.\n\n\nelőfeltétel: nincs
 en, de előnyös az&nbsp;5 biológiai természettörvény&nbsp;online, ingy
 enes előadás megtekintése\n\n\n&nbsp;\n\n\nrészvételi díj:&nbsp;10.00
 0,- Ft/nap/fő\n\n\njelentkezés:&nbsp;írásos előregisztráció a&nbsp;l
 eírás aljánál megadott e-mail címen&nbsp;\n\nLeírás:\n\nA tanfolyam 
 kellő elméleti és gyakorlati ismeretet biztosít ahhoz, hogy energia-blo
 kkjaidat feloldhasd, valamint a fizikai vagy a lelki elváltozás, tünet a
 lapján megtalálhasd és ugyancsak feloldhasd a kiváltó lelki konfliktus
 t is.\n\n\nEz a két napos, intenzív tréning azért jött létre, mert na
 gyon gyakran azt tapasztalom, hogy az elváltozásban érintett személy a 
 Biologika (Új Medicina) ismerete alapján megtalálja ugyan az elváltozá
 st, "betegséget" kiváltó lelki konfliktusát, ám a teljes és végleges
  megoldáshoz szüksége van segítségre, főként visszaeső konfliktus-a
 ktivitás esetén. Ezt a segítséget adja meg az ÉFT (pszicho-akupresszú
 ra).\nAz EFT egy olyan energia-pszichológiai módszer, amellyel szinte per
 cek alatt megszüntethetők fájdalmas, (akár gyerekkori) gyötrő érzelm
 ek, lelki traumák által okozott energia-blokkok.\nPl.: szorongás, pánik
 , depresszió, poszttraumás stressz, fóbiák, függőségek, gyász, kuda
 rc, veszteség, düh, harag, önértékelési problémák, fájdalmak, gör
 csök, asztmás roham, alvási zavarok, félelem....és még sok-sok más p
 robléma.\nGyors, hatásos, könnyű elsajátítani, és bárhol, bármikor
  alkalmazható. Az ÉFT lehetőségei korlátlanok, alkalmas krízistünete
 k (lelki, fizikai közérzet) elviselhetővé tételére is...\n&nbsp;\n\n\
 nAz első nap megismerkedünk a pszicho-akupresszúra elméletével, bemuta
 tásra kerül néhány csoportos gyakorlat. Ezt követően a részt vevők 
 páros és egyéni gyakorlatok során sajátítják el a módszert.\nA más
 odik napon teljes egészében gyakorlati nap, ahol technikai részleteket i
 s tanulunk, mialatt mindenki folyamatos segítséget kap a saját és máso
 k lelki blokkjainak oldásához. Előképzettség nem szükséges, de a Bio
 logika (Új Medicina) ismerete előny lehet. Az ÉFT gyors rendkívül hat
 kony és könnyen megtanulható.\n&nbsp;\n\n\nCélom, hogy minél több em
 ber megismerhesse és rendszeresen alkalmazhassa ezt a módszert a testi é
 s lelki egészsége érdekében. \n\n\nMindenkit szeretettel várok a trén
 ingen!&nbsp;\nÜdvözlettel, Hussein Éva, tréner\n\n\n\n\n\n\nJelentkezé
 skor add meg:\n 1.) a tréning nevét, helyszínét és időpontját(!)\n 2
 .) pontos nevedet\n 3.) mobil számodat\n4.) e-mail címedet\n
CONTACT:
 
 
 
 
 Ez az email cím védett a spam robotoktól, a megtekintéséhez engedélyezni kell a Javascriptet.
 
 
 ; +36306618398

DTSTAMP:20260423T120603Z
DTSTART:20170422T080000Z
DTEND:20170422T150000Z
SEQUENCE:0
TRANSP:OPAQUE
END:VEVENT
END:VCALENDAR