BEGIN:VCALENDAR
VERSION:2.0
PRODID:-//jEvents 1.5 for Joomla//EN
BEGIN:VEVENT
CALSCALE:GREGORIAN
METHOD:PUBLISH

UID:efd6e0368c8cf93f6f1a65ea38ef1292
CATEGORIES:Egyéb kapcsolódó tanfolyam
SUMMARY:HusseinÉ: EFT Érzelmi Feloldás Technika 1/2 (Szentendre)
LOCATION:Szentendre, szervezés alatt
DESCRIPTION;ENCODING=QUOTED-PRINTABLE:<p>&nbsp;</p><p><b><span style="font-size: 12pt;">ÉFT - ÉRZELMI FELOLDÁS
  TECHNIKA</span></b><span style="font-size: 12pt;"> - avagy "a kezed mindig
  kéznél van"</span><b><span style="font-size: 12pt;"><br /></span></b><b>
 <span style="font-size: 12pt;">2 napos tanfolyam<span class="Apple-converte
 d-space"> </span></span></b><b><span style="font-size: 12pt;"><span style="
 color: #003366;">Szentendrén</span></span></b></p><p><b><span style="font-
 size: 12pt;"><br /></span></b><span style="font-size: 10pt;">kategória: EF
 T, pszicho-akkupresszúra, konfliktusoldás</span>&nbsp;</p><p><span style=
 "font-size: 10pt;">típus: intenzív tréning,<span class="Apple-converted-
 space"> gyakorlati </span>tanfolyam</span>&nbsp;</p><p><span style="font-si
 ze: 10pt;">tréner:<span class="Apple-converted-space">&nbsp;</span></span>
 <span style="font-size: 10pt;"><strong>Hussein Éva</strong>, </span><span 
 style="text-decoration: underline;"><a href="partnereink/hussein-eva.html" 
 target="_blank">http://biologika.hu/partnereink/hussein-eva.html</a></span>
 </p><p><span style="font-size: 10pt;">helyszín:<strong><span class="Apple-
 converted-space"> Szentendre</span></strong></span><span style="font-size: 
 10pt;">, szervezés alatt</span></p><p><span style="font-size: 10pt;">időt
 artam: 2 nap, <strong>2017. május 20-21.</strong></span></p><p><span style
 ="font-size: 10pt;">előfeltétel: nincsen, de előnyös az<span class="App
 le-converted-space">&nbsp;</span></span><b><a href="http://eloadas.biologik
 a.hu" target="_blank" style="color: #1155cc;"><span style="font-size: 10pt;
 ">5 biológiai természettörvény</span></a></b><span style="font-size: 10
 pt;"><span class="Apple-converted-space">&nbsp;</span>online, ingyenes elő
 adás megtekintése</span></p><p>&nbsp;</p><p><span style="font-size: 10pt;
 ">részvételi díj:<span class="Apple-converted-space">&nbsp;</span><b>10.
 000,- Ft/nap/fő</b></span><span style="font-size: 10pt;"></span></p><p><sp
 an style="font-size: 10pt;">jelentkezés:<span class="Apple-converted-space
 ">&nbsp;</span></span><b><span style="color: #800000;"><span style="font-si
 ze: 10pt;">írásos előregisztráció </span></span></b><span style="font-
 size: 10pt;">a<span class="Apple-converted-space">&nbsp;</span>leírás alj
 ánál megadott e-mail címen</span><span style="font-size: 10pt;">&nbsp;</
 span></p><p><span style="font-size: 10pt;"><strong><br />Leírás:<br /><br
  /></strong></span><span style="font-size: 10pt;">A tanfolyam kellő elmél
 eti és gyakorlati ismeretet biztosít ahhoz, hogy energia-blokkjaidat felo
 ldhasd, valamint a fizikai vagy a lelki elváltozás, tünet alapján megta
 lálhasd és ugyancsak feloldhasd a kiváltó lelki konfliktust is.</span><
 /p><p><span style="font-size: 10pt;">Ez a két napos, intenzív tréning az
 ért jött létre, mert nagyon gyakran azt tapasztalom, hogy az elváltozá
 sban érintett személy a Biologika (Új Medicina) ismerete alapján megtal
 álja ugyan az elváltozást, "betegséget" kiváltó lelki konfliktusát, 
 ám a teljes és végleges megoldáshoz szüksége van segítségre, főké
 nt visszaeső konfliktus-aktivitás esetén. Ezt a segítséget adja meg az
  ÉFT (pszicho-akupresszúra).</span><br /><span style="font-size: 10pt;">A
 z EFT egy olyan energia-pszichológiai módszer, amellyel szinte percek ala
 tt megszüntethetők fájdalmas, (akár gyerekkori) gyötrő érzelmek, lel
 ki traumák által okozott energia-blokkok.</span><br /><span style="font-s
 ize: 10pt;">Pl.: szorongás, pánik, depresszió, poszttraumás stressz, f
 biák, függőségek, gyász, kudarc, veszteség, düh, harag, önértéke
 lési problémák, fájdalmak, görcsök, asztmás roham, alvási zavarok, 
 félelem....és még sok-sok más probléma.</span><br /><span style="font-
 size: 10pt;">Gyors, hatásos, könnyű elsajátítani, és bárhol, bármik
 or alkalmazható. Az ÉFT lehetőségei korlátlanok, alkalmas krízistüne
 tek (lelki, fizikai közérzet) elviselhetővé tételére is...</span></p>
 <p><span style="font-size: 10pt;">Az első nap megismerkedünk a pszicho-ak
 upresszúra elméletével, bemutatásra kerül néhány csoportos gyakorlat
 . Ezt követően a részt vevők páros és egyéni gyakorlatok során saj
 títják el a módszert.</span><br /><span style="font-size: 10pt;">A más
 odik napon teljes egészében gyakorlati nap, ahol technikai részleteket i
 s tanulunk, mialatt mindenki folyamatos segítséget kap a saját és máso
 k lelki blokkjainak oldásához. Előképzettség nem szükséges, de a Bio
 logika (Új Medicina) ismerete előny lehet. Az ÉFT gyors rendkívül hat
 kony és könnyen megtanulható.</span></p><p><span style="font-size: 10pt
 ;">Célom, hogy minél több ember megismerhesse és rendszeresen alkalmazh
 assa ezt a módszert a testi és lelki egészsége érdekében. <br /></spa
 n></p><p>&nbsp;</p><p style="text-align: left;"><span style="font-size: 10p
 t;">Mindenkit szeretettel várok a tréningen!&nbsp;</span></p><p style="te
 xt-align: left;"><span style="font-size: 10pt;">Üdvözlettel, Hussein Éva
 , tréner</span></p><p><span style="font-size: 10pt;"></span><span style="f
 ont-size: 10pt;"><br /></span></p><p><span style="font-size: 10pt;">Jelentk
 ezéskor add meg:</span><br /><span style="font-size: 10pt;"> 1.) a trénin
 g nevét, helyszínét és időpontját(!)</span><br /><span style="font-si
 ze: 10pt;"> 2.) pontos nevedet</span><br /><span style="font-size: 10pt;"> 
 3.) mobil számodat</span><br /><span style="font-size: 10pt;">4.) e-mail c
 ímedet</span></p>
CONTACT:
 
 
 
 
 Ez az email cím védett a spam robotoktól, a megtekintéséhez engedélyezni kell a Javascriptet.
 
 
 ; +36306618398

DTSTAMP:20260419T134445Z
DTSTART:20170520T080000Z
DTEND:20170520T150000Z
SEQUENCE:0
TRANSP:OPAQUE
END:VEVENT
END:VCALENDAR