BEGIN:VCALENDAR
VERSION:2.0
PRODID:-//jEvents 1.5 for Joomla//EN
BEGIN:VEVENT
CALSCALE:GREGORIAN
METHOD:PUBLISH

UID:38667fd37700adaee8595715e395aa44
CATEGORIES:Egyéb kapcsolódó tanfolyam
SUMMARY:HusseinÉ: EFT Érzelmi Feloldás Technika 2/2 (Szentendre)
LOCATION:Szentendre, szervezés alatt
DESCRIPTION;ENCODING=QUOTED-PRINTABLE:<p><strong><span style="font-size: 12pt;">ÉFT - ÉRZELMI FELOLDÁS TECHNIK
 A -</span></strong><span style="font-size: 12pt;"> </span><span style="font
 -size: 12pt;">avagy "a kezed mindig kéznél van" </span><strong><span styl
 e="font-size: 12pt;"> <br /></span></strong><span style="font-size: 12pt;">
 </span></p><p><strong><span style="font-size: 12pt;">2 napos tanfolyam <spa
 n style="color: #000080;">Szentendrén</span><br /></span></strong></p><p>&
 nbsp;</p><p><span style="font-size: 10pt;">időtartam: <span style="color: 
 #000000;"><strong>2 nap 2017. május 20-21.<br /></strong></span></span></p
 ><p><span style="font-size: 10pt;">Figyelem! Ez egy több napos tréning, t
 ovábbi információ az első napnál, <a href="icalrepeat.detail/2017/05/2
 0/3961/" target="_blank"><strong>ide kattintva</strong></a>.</span></p><p>&
 nbsp;</p>
CONTACT:
 
 
 
 
 Ez az email cím védett a spam robotoktól, a megtekintéséhez engedélyezni kell a Javascriptet.
 
 
 ; +36306618398

DTSTAMP:20260419T134611Z
DTSTART:20170521T080000Z
DTEND:20170521T150000Z
SEQUENCE:0
TRANSP:OPAQUE
END:VEVENT
END:VCALENDAR