BEGIN:VCALENDAR
VERSION:2.0
PRODID:-//jEvents 1.5 for Joomla//EN
BEGIN:VEVENT
CALSCALE:GREGORIAN
METHOD:PUBLISH

UID:e7a2513afb62ab5772ea136d2d1feaae
CATEGORIES:Egyéb kapcsolódó tanfolyam
SUMMARY:HusseinÉ: EFT Érzelmi Feloldás Technika 1/2 (Szentendre)
LOCATION:Szentendre, szervezés alatt
DESCRIPTION;ENCODING=QUOTED-PRINTABLE:<p>&nbsp;</p><p><b><span style="font-size: 12pt;">EFT - ÉRZELMI FELOLDÁS 
 TECHNIKA</span></b><span style="font-size: 12pt;"> - avagy "a kezed mindig 
 kéznél van"</span><b><span style="font-size: 12pt;"><br /></span></b><b><
 span style="font-size: 12pt;">2 napos tanfolyam<span class="Apple-converted
 -space"> </span></span></b><b><span style="font-size: 12pt;"><span style="c
 olor: #003366;">Szentendrén</span></span></b></p><p><b><span style="font-s
 ize: 12pt;"><br /></span></b><span style="font-size: 10pt;">kategória: EFT
 , pszicho-akkupresszúra, konfliktusoldás</span>&nbsp;</p><p><span style="
 font-size: 10pt;">típus: intenzív tréning,<span class="Apple-converted-s
 pace"> gyakorlati </span>tanfolyam</span>&nbsp;</p><p><span style="font-siz
 e: 10pt;">tréner:<span class="Apple-converted-space">&nbsp;</span></span><
 span style="font-size: 10pt;"><strong>Hussein Éva</strong>, </span><span s
 tyle="text-decoration: underline;"><a href="partnereink/hussein-eva.html" t
 arget="_blank">http://biologika.hu/partnereink/hussein-eva.html</a></span><
 /p><p><span style="font-size: 10pt;">helyszín:<strong><span class="Apple-c
 onverted-space"> Szentendre</span></strong></span><span style="font-size: 1
 0pt;">, szervezés alatt</span></p><p><span style="font-size: 10pt;">időta
 rtam: 2 nap, <strong>2017. június 17-18.</strong></span></p><p><span style
 ="font-size: 10pt;">előfeltétel: nincsen, de előnyös az<span class="App
 le-converted-space">&nbsp;</span></span><b><a href="http://eloadas.biologik
 a.hu" target="_blank" style="color: #1155cc;"><span style="font-size: 10pt;
 ">5 biológiai természettörvény</span></a></b><span style="font-size: 10
 pt;"><span class="Apple-converted-space">&nbsp;</span>online, ingyenes elő
 adás megtekintése</span></p><p>&nbsp;</p><p><span style="font-size: 10pt;
 ">részvételi díj:<span class="Apple-converted-space">&nbsp;</span><b>10.
 000,- Ft/nap/fő</b></span><span style="font-size: 10pt;"></span></p><p><sp
 an style="font-size: 10pt;">jelentkezés:<span class="Apple-converted-space
 ">&nbsp;</span></span><b><span style="color: #800000;"><span style="font-si
 ze: 10pt;">írásos előregisztráció </span></span></b><span style="font-
 size: 10pt;">a<span class="Apple-converted-space">&nbsp;</span>leírás alj
 ánál megadott e-mail címen</span><span style="font-size: 10pt;">&nbsp;</
 span></p><p><span style="font-size: 10pt;"><strong><br />Leírás:<br /><br
  /></strong></span></p><p style="text-align: left;"><span style="font-size:
  10pt;"><span style="font-size: 10pt;">A tanfolyam kellő elméleti és gya
 korlati ismeretet biztosít ahhoz, hogy energia-blokkjaidat feloldhasd, val
 amint a fizikai vagy a lelki elváltozás, tünet alapján megtalálhasd é
 s ugyancsak feloldhasd a kiváltó lelki konfliktust is.</span></span></p><
 p><span style="font-size: 10pt;">Ez a két napos, intenzív tréning azért
  jött létre, mert nagyon gyakran azt tapasztalom, hogy az elváltozásban
  érintett személy a Biologika (Új Medicina) ismerete alapján megtalálj
 a ugyan az elváltozást, "betegséget" kiváltó lelki konfliktusát, ám 
 a teljes és végleges megoldáshoz szüksége van segítségre, főként v
 isszaeső konfliktus-aktivitás esetén. Ezt a segítséget adja meg az ÉF
 T (pszicho-akupresszúra).</span><br /><span style="font-size: 10pt;">Az EF
 T egy olyan energia-pszichológiai módszer, amellyel szinte percek alatt m
 egszüntethetők fájdalmas, (akár gyerekkori) gyötrő érzelmek, lelki t
 raumák által okozott energia-blokkok.</span><br /><span style="font-size:
  10pt;">Pl.: szorongás, pánik, depresszió, poszttraumás stressz, fóbi
 k, függőségek, gyász, kudarc, veszteség, düh, harag, önértékelés
 i problémák, fájdalmak, görcsök, asztmás roham, alvási zavarok, fél
 elem....és még sok-sok más probléma.</span><br /><span style="font-size
 : 10pt;">Gyors, hatásos, könnyű elsajátítani, és bárhol, bármikor a
 lkalmazható. Az ÉFT lehetőségei korlátlanok, alkalmas krízistünetek 
 (lelki, fizikai közérzet) elviselhetővé tételére is...</span></p><p><
 span style="font-size: 10pt;">Az első nap megismerkedünk a pszicho-akupre
 sszúra elméletével, bemutatásra kerül néhány csoportos gyakorlat. Ez
 t követően a részt vevők páros és egyéni gyakorlatok során sajátí
 tják el a módszert.</span><br /><span style="font-size: 10pt;">A második
  napon teljes egészében gyakorlati nap, ahol technikai részleteket is ta
 nulunk, mialatt mindenki folyamatos segítséget kap a saját és mások le
 lki blokkjainak oldásához. Előképzettség nem szükséges, de a Biologi
 ka (Új Medicina) ismerete előny lehet. Az ÉFT gyors rendkívül hatékon
 y és könnyen megtanulható.</span></p><p><span style="font-size: 10pt;">C
 élom, hogy minél több ember megismerhesse és rendszeresen alkalmazhassa
  ezt a módszert a testi és lelki egészsége érdekében. </span></p><p s
 tyle="text-align: left;"><span style="font-size: 10pt;"><br />Mindenkit sze
 retettel várok a tréningen!&nbsp;</span></p><p style="text-align: left;">
 <span style="font-size: 10pt;">Üdvözlettel, Hussein Éva, tréner</span><
 /p><p><span style="font-size: 10pt;"></span><span style="font-size: 10pt;">
 <br /></span></p><p><span style="font-size: 10pt;">Jelentkezéskor add meg:
 </span><br /><span style="font-size: 10pt;"> 1.) a tréning nevét, helysz
 nét és időpontját(!)</span><br /><span style="font-size: 10pt;"> 2.) p
 ontos nevedet</span><br /><span style="font-size: 10pt;"> 3.) mobil számod
 at</span><br /><span style="font-size: 10pt;">4.) e-mail címedet</span></p
 >
CONTACT:
 
 
 
 
 Ez az email cím védett a spam robotoktól, a megtekintéséhez engedélyezni kell a Javascriptet.
 
 
 ; +36306618398

DTSTAMP:20260419T152453Z
DTSTART:20170617T080000Z
DTEND:20170617T150000Z
SEQUENCE:0
TRANSP:OPAQUE
END:VEVENT
END:VCALENDAR