BEGIN:VCALENDAR
VERSION:2.0
PRODID:-//jEvents 1.5 for Joomla//EN
BEGIN:VEVENT
CALSCALE:GREGORIAN
METHOD:PUBLISH

UID:e10cfd23e1432df3c0c88a9168de76c0
CATEGORIES:Haladó szeminárium 
SUMMARY:EgriBiologikaKör: Biologika HALADÓ tanfolyam 1/2 (Budapest)
LOCATION:Budapest, Flow Stúdió 1071, Dembinszky utca 29. I/12.
DESCRIPTION;ENCODING=QUOTED-PRINTABLE:\n\n&nbsp;\n\n\nBIOLOGIKA (ÚJ MEDICINA) TANFOLYAM \n\n\n\n2 napos HALADÓ 
 tanfolyam BUDAPESTEN\n\n\n\n\n \n\n\ntémakör: hangulatzavarok és elmebaj
 ok&nbsp; \n\n\n\nelnevezés: Biologika (Új Medicina) haladó tanfolyam\n\n
 \ntréner: Pindrok Beáta&nbsp; \n\n\nhelyszín: Budapest, Flow Stúdió&nb
 sp;1071, Dembinszky utca 29. I/12.\n\n\n\nidőtartam: 2 nap, 2017. február
  25-26.\n\n\nelőfeltétel: A 2 napos haladó tanfolyamon való részvétel
  feltétele a 4 napos alaptanfolyam elvégzése, - vagy az Egri Biologika k
 lub által, vagy a Biologika Szabadegyetem által szervezett tanfolyamok eg
 yikén - és az Énlelő Alapítvány C. Kulcsok, 2 napos képzésén való
  részvétel \n\n\n\nA tananyag és prezentációs anyag a Biologika Szerv 
 Atlasz. Ha szeretne beletekinteni itt megteheti: www.szervatlasz.hu\n\n\nr
 szvételi díj: 30 000 Ft/fő/2nap\n\nKedvezmények:-&nbsp;Családi kedvez
 mény:&nbsp;2 közeli, egy háztartásban élő családtag, ugyanazon tanfo
 lyamra történő jelentkezése esetén 20% kedvezmény-&nbsp;Diák kedvezm
 ény:&nbsp;12-18 év közötti diákok részére ingyenes a tanfolyam&nbsp;
 -&nbsp;Koránkelő kedvezmény: 1 000 Ft/fő/nap kedvezmény (családi kedv
 ezmény esetén 700Ft/nap kedvezmény). Ennek igénybevételéhez a teljes 
 összeget a tanfolyam előtt 3 héttel szükséges kifizetni. \n\n\n\njelen
 tkezés:&nbsp;írásos előregisztráció kötelező ezen a Jelentkezési l
 apon.\n\n\n\n\nEz a két nap bemutatja agyunk viselkedési és hangulati v
 laszait a megoldhatatlannak tűnő élethelyzetekre, ezen állapotok jelle
 mzőit, kialakulásának okait és megoldásait.\n\n\nA tanfolyam célja, h
 ogy \n- Az elmezavarok kialakulásának, funkciójának, értelmének, megj
 elenési formáinak megismerésén keresztül, meglássuk ezen állapotok c
 élszerűségét, és automatizmusát a túlélés érdekében. \n- Az eset
 példákon és film bejátszásokon keresztül felismerhető tudássá vál
 jon a mindennapokban.\n- A tanfolyam alatt kirajzolódó új nézőpontokon
 , és megoldási módokon keresztül megértéssel és elfogadással tudjun
 k fordulni az ilyen állapotok felé, amelynek egyik előnye, hogy nagymér
 tékben csökkenthetjük konfliktusaink számát.\n\n\n\n&nbsp;\n\n\nA TANF
 OLYAM TEMATIKÁJA: \n\n1. nap\n- Mi az elmezavar, közös jellemzők\n- Hog
 yan és miért jönnek létre a hangulat- és elmezavarok?\n- Mi az a konst
 elláció?\n- A témával kapcsolatos fogalom meghatározások.\n- Kialakul
 ásuk oka, agyi folyamata.\n- Hatásuk a testben zajló elváltozásokra.\n
 - Agytörzsi konstellációk kialakulásának okai, értelme, megnyilvánul
 ási formái, megoldások.\n- &nbsp;Kisagyi konstellációk kialakulásána
 k okai, értelme, megnyilvánulási formái, megoldások.\n2. nap\n- Skizof
 rénia\n- Velőállományi konstellációk kialakulásának okai, értelme,
  megnyilvánulási formái, megoldások.\n- Megalomán, cezaromán, nárcis
 ztikus viselkedés.\n- Kéregállományi konstellációk csoportjai, jellem
 zői.\n- Paranoiák, mánia, depresszió, infantilizmus.\n- Mérleg szabál
 yok.\n- Nemi/birtok zónás konstellációk, anorexia-, bulémia-, posztmor
 tális-szuicid-, nympho-, casanova-, autista-, agresszív konstelláció.\n
 - Nem konstellációs agyi programok (fóbiák, homoszexualitás)\n\n\n&nbs
 p;\n\n\n&nbsp;Szeretettel várunk tanfolyamunkon!\n
CONTACT:
 
 
 
 
 Ez az email cím védett a spam robotoktól, a megtekintéséhez engedélyezni kell a Javascriptet.
 
 
 , +36302079509

DTSTAMP:20260424T173801Z
DTSTART:20170225T090000Z
DTEND:20170225T160000Z
SEQUENCE:0
TRANSP:OPAQUE
END:VEVENT
END:VCALENDAR