BEGIN:VCALENDAR
VERSION:2.0
PRODID:-//jEvents 1.5 for Joomla//EN
BEGIN:VEVENT
CALSCALE:GREGORIAN
METHOD:PUBLISH

UID:5c01be18826905db4453838e68044a06
CATEGORIES:Haladó szeminárium 
SUMMARY:EgriBiologikaKör: Biologika HALADÓ tanfolyam 2/2 (Makó)
LOCATION:Makó, szervezés alatt
DESCRIPTION;ENCODING=QUOTED-PRINTABLE:<p>&nbsp;</p><p style="color: #000000; font-family: 'Helvetica', 'Arial', s
 ans-serif; font-size: 11px; font-style: normal; font-variant: normal; font-
 weight: 400; letter-spacing: normal; line-height: normal; text-indent: 0px;
  text-transform: none; white-space: normal; word-spacing: 0px;"><b><span st
 yle="font-size: 12pt;">BIOLOGIKA (GNM ÚJ MEDICINA) TANFOLYAM&nbsp;</span><
 /b></p><p><b><span style="font-size: 12pt;">2 napos<span class="Apple-conve
 rted-space"> HALADÓ ta</span>nfolyam<span class="Apple-converted-space">&n
 bsp;<span class="Apple-converted-space"> </span><b style="color: #000000; f
 ont-family: 'Helvetica', 'Arial', sans-serif; font-size: 11px; font-style: 
 normal; font-variant: normal; letter-spacing: normal; line-height: normal; 
 text-indent: 0px; text-transform: none; white-space: normal; word-spacing: 
 0px; background-color: #ffffff;"><span style="font-size: 12pt;"><span style
 ="color: #003366;">MAKÓN</span></span></b></span></span></b></p><p><span s
 tyle="font-size: 10pt;"><br />elnevezés: <span style="color: #000000; font
 -family: 'Helvetica', 'Arial', sans-serif; font-size: 13px; font-style: nor
 mal; font-variant: normal; font-weight: 400; letter-spacing: normal; line-h
 eight: normal; text-indent: 0px; text-transform: none; white-space: normal;
  word-spacing: 0px; display: inline !important; float: none; background-col
 or: #ffffff;">Biologika (Új Medicina)</span><span class="Apple-converted-s
 pace" style="color: #000000; font-family: 'Helvetica', 'Arial', sans-serif;
  font-size: 13px; font-style: normal; font-variant: normal; font-weight: 40
 0; letter-spacing: normal; line-height: normal; text-indent: 0px; text-tran
 sform: none; white-space: normal; word-spacing: 0px; background-color: #fff
 fff;"><span class="Apple-converted-space"> haladó </span>tanfolyam</span>&
 nbsp;</span></p><p><span style="font-size: 10pt;">időtartam: <span style="
 color: #000000;"><strong>2 nap</strong>, <span style="margin: 0px; padding:
  0px; border: 0px none; outline: 0px none; font-size: 13.3333px; color: inh
 erit; background: transparent none repeat scroll 0% 0%;"><strong style="mar
 gin: 0px; padding: 0px; border: 0px none; outline: 0px none; font-size: 13.
 3333px; color: inherit; background: transparent none repeat scroll 0% 0%;">
 </strong><b>2017. február 11-12.</b></span><b> <br /></b><span style="colo
 r: #000000; font-family: 'Helvetica', 'Arial', sans-serif; font-size: 11px;
  font-style: normal; font-variant: normal; font-weight: 400; letter-spacing
 : normal; line-height: normal; text-indent: 0px; text-transform: none; whit
 e-space: normal; word-spacing: 0px; display: inline !important; float: none
 ; background-color: #ffffff;"></span> </span></span></p><p><span style="fon
 t-size: 10pt;">Figyelem! Ez egy több napos tréning, további információ
  az első napnál, <a href="icalrepeat.detail/2017/02/11/3969/" target="_bl
 ank">ide kattintva</a></span><span style="font-size: 10pt;">.</span></p>
CONTACT:
 
 
 
 
 Ez az email cím védett a spam robotoktól, a megtekintéséhez engedélyezni kell a Javascriptet.
 
 
 , +36302079509

DTSTAMP:20260420T075316Z
DTSTART:20170212T090000Z
DTEND:20170212T160000Z
SEQUENCE:0
TRANSP:OPAQUE
END:VEVENT
END:VCALENDAR