BEGIN:VCALENDAR
VERSION:2.0
PRODID:-//jEvents 1.5 for Joomla//EN
BEGIN:VEVENT
CALSCALE:GREGORIAN
METHOD:PUBLISH

UID:6f38107f17070ec6b49f026322a5537a
CATEGORIES:Haladó szeminárium 
SUMMARY:EgriBiologikaKör: Biologika HALADÓ tanfolyam 2/2 (Budapest)
LOCATION:Budapest, Flow Stúdió 1071, Dembinszky utca 29. I/12.
DESCRIPTION;ENCODING=QUOTED-PRINTABLE:\n\n&nbsp;\nBIOLOGIKA (ÚJ MEDICINA) TANFOLYAM&nbsp;\n\n\n2 napos HALADÓ t
 anfolyam&nbsp; BUDAPESTEN\n\n\n\nelnevezés: Biologika (Új Medicina) halad
 ó tanfolyam&nbsp;\n\n\nidőtartam: 2 nap, 2017. február 25-26. \n \n\n\nF
 igyelem! Ez egy több napos tréning, további információ az első napná
 l, ide kattintva.\n
CONTACT:
 
 
 
 
 Ez az email cím védett a spam robotoktól, a megtekintéséhez engedélyezni kell a Javascriptet.
 
 
 , +36302079509

DTSTAMP:20260420T055641Z
DTSTART:20170226T090000Z
DTEND:20170226T160000Z
SEQUENCE:0
TRANSP:OPAQUE
END:VEVENT
END:VCALENDAR