BEGIN:VCALENDAR
VERSION:2.0
PRODID:-//jEvents 1.5 for Joomla//EN
BEGIN:VEVENT
CALSCALE:GREGORIAN
METHOD:PUBLISH

UID:9e5a7eb84db1ea6fa06d137927b7388b
CATEGORIES:Egyéb kapcsolódó tanfolyam
SUMMARY:EgriBiologikaKör: Biologika KULCSOK tanfolyam 2/2 (Budapest)
LOCATION:Budapest, Flow Stúdió 1071, Dembinszky utca 29. I/12.
DESCRIPTION;ENCODING=QUOTED-PRINTABLE:\n\n&nbsp;\nBIOLOGIKA "KULCSOK" TANFOLYAM&nbsp;\n\n\n2 napos tanfolyam&nbsp
 ; BUDAPESTEN\n\n\n\nelnevezés: Biologika (Új Medicina) haladó tanfolyam&
 nbsp;\n\n\nidőtartam: 2 nap, 2017. február 8-19. \n \n\n\nFigyelem! Ez eg
 y több napos tréning, további információ az első napnál, ide kattint
 va.\n
CONTACT:
 
 
 
 
 Ez az email cím védett a spam robotoktól, a megtekintéséhez engedélyezni kell a Javascriptet.
 
 
 , +36302079509

DTSTAMP:20260419T201415Z
DTSTART:20170219T090000Z
DTEND:20170219T160000Z
SEQUENCE:0
TRANSP:OPAQUE
END:VEVENT
END:VCALENDAR