BEGIN:VCALENDAR
VERSION:2.0
PRODID:-//jEvents 1.5 for Joomla//EN
BEGIN:VEVENT
CALSCALE:GREGORIAN
METHOD:PUBLISH

UID:0cf57a5c05bc607fa0e6229d5da40075
CATEGORIES:Egyéb kapcsolódó tanfolyam
SUMMARY:EgriBiologikaKör: Biologika KULCSOK tanfolyam 1/2 (Makó)
LOCATION:Makó, szervezés alatt
DESCRIPTION;ENCODING=QUOTED-PRINTABLE:\n\n&nbsp;\n\n\nBIOLOGIKA "KULCSOK" TANFOLYAM&nbsp;\n\n\n2 napos tanfolyam 
 MAKÓN\n\n\n\n\n \n\n\ntréner: Pindrok Beáta&nbsp; \n\n\nhelyszín: Makó
 , szervezés alatt.\n\n\n\nidőtartam: 2 nap, 2017. február 4-5.\n\n\nelő
 feltétel: A 4 napos alaptanfolyam elvégzése, vagy az Énlelő Alapítvá
 ny A. Alapok, 1 napos képzésén való részvétel.\nA tanfolyamhoz közel
  40 oldalas jegyzetet biztosítunk.\n\nrészvételi díj: 30 000 Ft/fő/2na
 p\n\nKedvezmények:- Családi kedvezmény:&nbsp;2 közeli, egy háztartásb
 an élő családtag, ugyanazon tanfolyamra történő jelentkezése esetén
  20% kedvezmény-&nbsp;Diák kedvezmény:&nbsp;12-18 év közötti diákok 
 részére ingyenes a tanfolyam&nbsp;-&nbsp;Koránkelő kedvezmény: 1 000 F
 t/fő/nap kedvezmény (családi kedvezmény esetén 700Ft/nap kedvezmény).
  Ennek igénybevételéhez a teljes összeget a tanfolyam előtt 3 héttel 
 szükséges kifizetni. \n\n\n\njelentkezés:&nbsp;írásos előregisztráci
 ó kötelező ezen a Jelentkezési lapon.\n\n\n\n\nEzen a két napon agyunk
  működésének megértésén keresztül rálátunk biológiai létünk, 
 rzelmi állapotaink vezéreltségére, konfliktusaink típusaira, okaira, 
 végleges megoldásainak lehetőségére.\n\n\n&nbsp;&nbsp;&nbsp; Ha megér
 tjük agyunk irányító szerepét érzelmi állapotaink, viselkedésünk, 
 konfliktusaink tekintetében,\n&nbsp;&nbsp;&nbsp; ha tudjuk, mi határozza 
 meg, hogy mi okoz számunkra konfliktust, és mi nem,\n&nbsp;&nbsp;&nbsp; h
 a ismerjük érzelmi működésünk biológiai alapjait, és törvényszer
 ségeit,\n&nbsp;&nbsp;&nbsp; ha példákon keresztül rálátunk hiedelmei
 nk, meggyőződéseink kialakulásának módjára és jelentőségére,\n&n
 bsp;&nbsp;&nbsp; ha tudjuk, hol is tartunk emberként,\n&nbsp;&nbsp;&nbsp; 
 ha tisztában vagyunk a konfliktusok föltárásához szükséges ismeretek
 kel,\n\n\nAKKOR ESÉLYÜNK VAN:\n\n\n&nbsp;&nbsp;&nbsp; egyre kevesebb konf
 liktus megélésére,\n&nbsp;&nbsp;&nbsp; a betegségekből való végleges
  felépülésre,\n&nbsp;&nbsp;&nbsp; az életünkben tervezett változások
 , változtatások sikeres megtételére,\n&nbsp;&nbsp;&nbsp; életünk tuda
 tos irányítójává válásra.\n\n\n&nbsp;\n\n\nA TANFOLYAM TEMATIKÁJA: 
 \n\n\n\n&nbsp;\n\n\n1. nap\n\n\n&nbsp;\n\n\nÉRZELMI MŰKÖDÉSÜNK BIOLÓG
 IAI ALAPJAI\n\n\n&nbsp;\n\n\n- Az agy és a hormonrendszer szerepe az érze
 lmi állapotok alakulásában.\n- Agyi struktúránkat kialakító hatások
 .\n- Hiedelmeink, meggyőződéseink, szükségletrendszerünk kialakulás
 nak folyamata, érzelmeinkre, viselkedésünkre gyakorolt hatása.\n- A va
 lóság érzékelésének sorsdöntő jelentősége, és az ezt befolyásol
 ó tényezők.\n- A nézőpont váltások jelentősége, átalakításuk m
 dja, folyamata.\n- Érzelmi kompetencia, felelősségvállalás.\n- Miért
  előnyös ismerni működésrendszerünket?\n\n\n&nbsp;\n\n\n2. nap\n\n\n&
 nbsp;\n\n\nA KONFLIKTUSOK MEGOLDÁSÁHOZ SZÜKSÉGES TUDNIVALÓK\n\n\n&nbsp
 ;\n\n\n- Mi valójában a DHS?\n- Mi a konfliktus? Mi a stressz?\n- Az Ért
 elmes Biológiai Különprogram lefutások érzelmi folyamata.\n- A konflik
 tus oldás-megoldás kérdésköre.\n- Konfliktus típusok.\n- A sínek.\n-
  A vakfolt\n- Mi dönti el, hogy milyen típusú konfliktusokra vagyunk ér
 zékenyek?\n- Az Értelmes Biológiai Különprogramok testi tüneteinek é
 s a lelki folyamatainak az összefüggései\n- Az érzelmi és tudati több
 letállapotok (emberi minőség) jellemzői, elérésének folyamata.\n\n\n
 \n\n\n&nbsp;Szeretettel várunk tanfolyamunkon!\n
CONTACT:
 
 
 
 
 Ez az email cím védett a spam robotoktól, a megtekintéséhez engedélyezni kell a Javascriptet.
 
 
 , +36302079509

DTSTAMP:20260423T102441Z
DTSTART:20170204T090000Z
DTEND:20170204T160000Z
SEQUENCE:0
TRANSP:OPAQUE
END:VEVENT
END:VCALENDAR