BEGIN:VCALENDAR
VERSION:2.0
PRODID:-//jEvents 1.5 for Joomla//EN
BEGIN:VEVENT
CALSCALE:GREGORIAN
METHOD:PUBLISH

UID:dc3eff40473af7f8996eaee501c4e162
CATEGORIES:Egyéb kapcsolódó tanfolyam
SUMMARY:EgriBiologikaKör: Biologika KULCSOK tanfolyam 2/2 (Makó)
LOCATION:Makó, szervezés alatt
DESCRIPTION;ENCODING=QUOTED-PRINTABLE:<p>&nbsp;</p><p style="color: #000000; font-family: 'Helvetica', 'Arial', s
 ans-serif; font-size: 11px; font-style: normal; font-variant: normal; font-
 weight: 400; letter-spacing: normal; line-height: normal; text-indent: 0px;
  text-transform: none; white-space: normal; word-spacing: 0px;"><b><span st
 yle="font-size: 12pt;">BIOLOGIKA "KULCSOK" TANFOLYAM&nbsp;</span></b></p><p
 ><b><span style="font-size: 12pt;">2 napos<span class="Apple-converted-spac
 e"> ta</span>nfolyam<span class="Apple-converted-space">&nbsp;<span class="
 Apple-converted-space"> </span><b style="color: #000000; font-family: 'Helv
 etica', 'Arial', sans-serif; font-size: 11px; font-style: normal; font-vari
 ant: normal; letter-spacing: normal; line-height: normal; text-indent: 0px;
  text-transform: none; white-space: normal; word-spacing: 0px; background-c
 olor: #ffffff;"><span style="font-size: 12pt;"><span style="color: #003366;
 ">MAKÓN</span></span></b></span></span></b></p><p><span style="font-size: 
 10pt;"><br />elnevezés: <span style="color: #000000; font-family: 'Helveti
 ca', 'Arial', sans-serif; font-size: 13px; font-style: normal; font-variant
 : normal; font-weight: 400; letter-spacing: normal; line-height: normal; te
 xt-indent: 0px; text-transform: none; white-space: normal; word-spacing: 0p
 x; display: inline !important; float: none; background-color: #ffffff;">Bio
 logika (Új Medicina)</span><span class="Apple-converted-space" style="colo
 r: #000000; font-family: 'Helvetica', 'Arial', sans-serif; font-size: 13px;
  font-style: normal; font-variant: normal; font-weight: 400; letter-spacing
 : normal; line-height: normal; text-indent: 0px; text-transform: none; whit
 e-space: normal; word-spacing: 0px; background-color: #ffffff;"><span class
 ="Apple-converted-space"> haladó </span>tanfolyam</span>&nbsp;</span></p><
 p><span style="font-size: 10pt;">időtartam: <span style="color: #000000;">
 <strong>4 nap</strong>, <span style="margin: 0px; padding: 0px; border: 0px
  none; outline: 0px none; font-size: 13.3333px; color: inherit; background:
  transparent none repeat scroll 0% 0%;"><strong style="margin: 0px; padding
 : 0px; border: 0px none; outline: 0px none; font-size: 13.3333px; color: in
 herit; background: transparent none repeat scroll 0% 0%;"></strong><b>2017.
  február 4-5.</b></span><b> <br /></b><span style="color: #000000; font-fa
 mily: 'Helvetica', 'Arial', sans-serif; font-size: 11px; font-style: normal
 ; font-variant: normal; font-weight: 400; letter-spacing: normal; line-heig
 ht: normal; text-indent: 0px; text-transform: none; white-space: normal; wo
 rd-spacing: 0px; display: inline !important; float: none; background-color:
  #ffffff;"></span> </span></span></p><p><span style="font-size: 10pt;">Figy
 elem! Ez egy több napos tréning, további információ az első napnál, 
 <a href="icalrepeat.detail/2017/02/04/3976/" target="_blank">ide kattintva<
 /a></span><span style="font-size: 10pt;">.</span></p>
CONTACT:
 
 
 
 
 Ez az email cím védett a spam robotoktól, a megtekintéséhez engedélyezni kell a Javascriptet.
 
 
 , +36302079509

DTSTAMP:20260424T095440Z
DTSTART:20170205T090000Z
DTEND:20170205T160000Z
SEQUENCE:0
TRANSP:OPAQUE
END:VEVENT
END:VCALENDAR