BEGIN:VCALENDAR
VERSION:2.0
PRODID:-//jEvents 1.5 for Joomla//EN
BEGIN:VEVENT
CALSCALE:GREGORIAN
METHOD:PUBLISH

UID:25a5de5c89e90010ef21d4764e7f64da
CATEGORIES:Alap szeminárium 
SUMMARY:EgriBiologikaKör: Biologika ALAP tanfolyam 1/4 (Kazincbarcika)
LOCATION:Kazincbarcika, szervezés alatt
DESCRIPTION;ENCODING=QUOTED-PRINTABLE:<p>&nbsp;</p><p><b><span style="font-size: 12pt;">BIOLOGIKA (ÚJ MEDICINA) 
 TANFOLYAM&nbsp;</span></b></p><p><b><span style="font-size: 12pt;">4 napos 
 ALAP tanfolyam <b><span class="Apple-converted-space"><span class="Apple-co
 nverted-space"><b style="color: #000000; font-family: 'Helvetica','Arial',s
 ans-serif; font-size: 11px; font-style: normal; font-variant: normal; lette
 r-spacing: normal; line-height: normal; text-indent: 0px; text-transform: n
 one; white-space: normal; word-spacing: 0px; background-color: #ffffff;"><s
 pan style="font-size: 12pt;"><span style="color: #003366;">KAZINCBARCIKÁN<
 /span></span></b></span></span></b><br /></span></b></p><p><b><span class="
 Apple-converted-space"><br /><span class="Apple-converted-space"><b style="
 color: #000000; font-family: 'Helvetica', 'Arial', sans-serif; font-size: 1
 1px; font-style: normal; font-variant: normal; letter-spacing: normal; line
 -height: normal; text-indent: 0px; text-transform: none; white-space: norma
 l; word-spacing: 0px; background-color: #ffffff;"><span style="font-size: 1
 2pt;"><span class="Apple-converted-space"></span></span></b> </span></span>
 </b></p><p><b><span style="font-size: 12pt;">&nbsp;</span></b></p><p><span 
 style="font-size: 10pt;">témakör: daganatok, sorvadások és más elvált
 ozások, biológiai értelmük, céljuk, rendeltetésük és lefolyásuk.&n
 bsp;</span></p><p><span style="font-size: 10pt;">elnevezés: Biologika (Új
  Medicina)<span class="Apple-converted-space"> alap tanfolyam</span></span>
 </p><p><span style="font-size: 10pt;">tréner:<span class="Apple-converted-
 space">&nbsp;</span></span><span style="font-size: 10pt;"><strong>Váczy J
 zsef</strong><br /></span></p><p><span style="font-size: 10pt;">helyszín:
 <strong><span class="Apple-converted-space"> Kazincbarcika, szervezés alat
 t</span></strong></span><span style="font-size: 10pt;"><span style="margin:
  0px; padding: 0px; border: 0px none; outline: 0px none; font-size: 10pt; b
 ackground: transparent none repeat scroll 0% 0%;"><span style="font-size: 1
 0pt;"></span><br /></span></span></p><p><span style="font-size: 10pt;">idő
 tartam: <span style="margin: 0px; padding: 0px; border: 0px none; outline: 
 0px none; font-size: 10pt; background: transparent none repeat scroll 0% 0%
 ;"><strong style="margin: 0px; padding: 0px; border: 0px none; outline: 0px
  none; font-size: 13.3333px; color: inherit; background: transparent none r
 epeat scroll 0% 0%;">4 nap</strong>, <b>2017. március 4-5; március 11-12<
 span style="margin: 0px; padding: 0px; border: 0px none; outline: 0px none;
  font-size: 10pt; background: transparent none repeat scroll 0% 0%;"><span 
 style="margin: 0px; padding: 0px; border: 0px none; outline: 0px none; font
 -size: 10pt; background: transparent none repeat scroll 0% 0%;"></span></sp
 an><br /></b></span></span></p><p><span style="font-size: 10pt;"><span styl
 e="margin: 0px; padding: 0px; border: 0px none; outline: 0px none; font-siz
 e: 10pt; background: transparent none repeat scroll 0% 0%;"></span><b> </b>
 előfeltétel:<span class="Apple-converted-space"> az <span style="text-dec
 oration: underline;"><a target="_blank" href="http://www.alapismeretek.biol
 ogika.hu">alapismeretek.biologika.hu</a></span> címen elérhető előadás
 t figyelmesen hallgassa végig legalább kétszer.&nbsp;</span></span></p><
 p><span style="font-size: 10pt;">A tananyag és prezentációs anyag a Biol
 ogika Szerv Atlasz. </span><span style="font-size: 10pt;">Ha szeretne belet
 ekinteni itt megteheti: <a href="http://szervatlasz.hu">www.szervatlasz.hu<
 /a></span></p><p><span style="font-size: 10pt;">részvételi díj: (4 nap):
  <strong>50.000.-Ft / fő / 4 nap</strong>,&nbsp;</span></p><p><span style=
 "font-size: 10pt;">Kedvezmények:<br />- <strong>Családi kedvezmény:</str
 ong> 2 közeli, egy háztartásban élő családtag, ugyanazon<br />tanfoly
 amra történő jelentkezése esetén 20% kedvezmény<br />- <strong>Diák 
 kedvezmény:</strong> 12-18 év közötti diákok részére ingyenes a tanf
 olyam <br />- <strong>Ismétlőknek:</strong> 50% kedvezmény (más kedvezm
 énnyel nem vonható össze)<br />- <strong>Koránkelő kedvezmény</strong
 >: 1 000 Ft/fő/nap kedvezmény (családi kedvezmény esetén 700Ft/nap ked
 vezmény)<br />Ennek igénybevételéhez a teljes összeget a tanfolyam el
 tt 3 héttel szükséges kifizetni. <br /><br /></span><span style="font-s
 ize: 10pt;"></span></p><p><span style="font-size: 10pt;">jelentkezés:<span
  class="Apple-converted-space">&nbsp;</span></span><b><span style="color: #
 800000;"><span style="font-size: 10pt;">írásos előregisztráció kötele
 ző</span></span></b><span style="font-size: 10pt;"><span class="Apple-conv
 erted-space"> </span><span class="Apple-converted-space">ezen a </span><a t
 arget="_blank" href="https://docs.google.com/forms/d/e/1FAIpQLSf9n24zv9wHxj
 _FyGZ8fMqqYZm-Wlun_gdyIzJ2wKmDvaW0Pg/viewform?c=0&amp;w=1"><span style="tex
 t-decoration: underline;">Jelentkezési lap</span></a>on.<br /><br /></span
 ></p><p><strong><span style="font-size: 10pt;">A tanfolyam célja:</span></
 strong></p><p><span style="font-size: 10pt;">Az öt természettörvény meg
 ismertetésén keresztül új nézőpontok találása testünk működésé
 ről. Megnyugtatóan érthetővé tenni a különböző kiszámíthatatlann
 ak hitt elváltozások folyamatait, okait, és célját. Rávilágítani az
  érzelmi és testi működés szoros összefüggéseire, és az ezekből f
 akadó következményekre. Az egyes szervi elváltozások átbeszélésekor
  tett felismerések, elősegítik az új nézőpontok rögzítését és me
 gfigyelésének képességét a mindennapokban. Igyekszünk kialakítani a 
 konfliktusok megoldására való képesség alapjait, melyet a Haladó tanf
 olyamainkon elhangzó tudásanyaggal építünk fel. Az itt elsajátított 
 analogikus gondolkodással testünk működésén túl ráláthatunk a term
 észet és a társadalom működésének rendjére is.</span></p><p><span s
 tyle="font-size: 10pt;">Az előadások Barnai Roberto által készített Sz
 erv Atlasz tudásanyagára épülnek, döntő részt azok ábráit használ
 ják.</span></p><p><span style="font-size: 10pt;"><br /><strong>A tanfolyam
  tematikája</strong></span></p><p><strong><span style="font-size: 10pt;"><
 br />1. nap</span></strong></p><p><span style="font-size: 10pt;">A BIOLOGIK
 A mint a kiszámítható életminőség záloga</span><br /><span style="fo
 nt-size: 10pt;">Dr. Ryke Geerd Hammer munkássága</span><br /><span style=
 "font-size: 10pt;">Barnai Roberto, Szerv Atlasz felépítése és használa
 ta</span><br /><span style="font-size: 10pt;">Az öt biológiai természett
 örvény részletes ismertetése, összefüggésrendszerének bemutatása, 
 élő tudássá tétele, a mindennapi használhatóság érdekében a telje
 s megértést célozva</span><br /><span style="font-size: 10pt;">A daganat
 ok helyes értelmezése</span><br /><span style="font-size: 10pt;">Az egyes
  agyi területek, és az általuk vezérelt szövetek sajátosságai</span>
 </p><p><strong><span style="font-size: 10pt;"><br />2. nap</span></strong><
 /p><p><span style="font-size: 10pt;">Az agytörzs vezérelte mirigyszövete
 s szervek elváltozásai (daganatok)</span><br /><span style="font-size: 10
 pt;">Az középagy vezérelte simaizomszövetek elváltozásai</span><br />
 <span style="font-size: 10pt;">A miómák keletkezése, élettani okai.</sp
 an><br /><span style="font-size: 10pt;">Az kisagy vezérelte szervek elvál
 tozásai</span><br /><span style="font-size: 10pt;">A hártyaszövetek </sp
 an><br /><span style="font-size: 10pt;">A bőr irha része és tejmirigyek<
 /span></p><p><strong><span style="font-size: 10pt;"><br />3. nap</span></st
 rong></p><p><span style="font-size: 10pt;">A velőállomány vezérelte sze
 rvek elváltozásai</span><br /><span style="font-size: 10pt;">Kötőszöve
 tek, vázrendszer</span><br /><span style="font-size: 10pt;">A szívizom é
 s elváltozásai</span><br /><span style="font-size: 10pt;">Vér- és nyiro
 krendszer</span><br /><span style="font-size: 10pt;">Leukémia</span><br />
 <span style="font-size: 10pt;">Ciszták sajátosságai</span><br /><span st
 yle="font-size: 10pt;">Here- és petefészekciszta</span></p><p><strong><sp
 an style="font-size: 10pt;"><br />4. nap</span></strong></p><p><span style=
 "font-size: 10pt;">A kéregállomány vezérelte szervek elváltozásai</sp
 an><br /><span style="font-size: 10pt;">Fekélyek, szövetelhalások</span>
 <br /><span style="font-size: 10pt;">Bőrbetegségek, pánikbetegség, alle
 rgiák</span><br /><span style="font-size: 10pt;">Funkciókimaradások, bé
 nulások, cukorszint változások</span><br /><span style="font-size: 10pt;
 ">Hormonális állapotot befolyásoló elváltozások</span><br /><span sty
 le="font-size: 10pt;">Asztma, szívinfarktus, húgyúti betegségek</span><
 /p><p><em><span style="font-size: 10pt;"><br />Szeretettel várunk tanfolya
 munkon!</span></em></p>
CONTACT:
 
 
 
 
 Ez az email cím védett a spam robotoktól, a megtekintéséhez engedélyezni kell a Javascriptet.
 
 
 , +36302079509

DTSTAMP:20260419T215536Z
DTSTART:20170304T090000Z
DTEND:20170304T160000Z
SEQUENCE:0
TRANSP:OPAQUE
END:VEVENT
END:VCALENDAR