BEGIN:VCALENDAR
VERSION:2.0
PRODID:-//jEvents 1.5 for Joomla//EN
BEGIN:VEVENT
CALSCALE:GREGORIAN
METHOD:PUBLISH

UID:9f9a0085f22c2c12254c53a7faaafcf6
CATEGORIES:Egyéb kapcsolódó tanfolyam
SUMMARY:HerczegA: Férfias konfliktusok és elváltozások (Budapest)
LOCATION:Budapest, V.ker. Hercegprímás u. 13.
DESCRIPTION;ENCODING=QUOTED-PRINTABLE:<p><span style="font-size: 12pt;"><b><br />FÉRFIAS KONFLIKTUSOK, FÉRFIAKA
 T ÉRINTŐ ELVÁLTOZÁSOK BIOLOGIKUS MEGOLDÁSAI<br /> Egynapos tanfolyam&n
 bsp;<span style="color: #003366;">Budapesten</span></b></span></p><p><span 
 style="font-size: 10pt;"><b>&nbsp;</b></span></p><p><span style="font-size:
  10pt;">témakör: Biologika (újmedicina) intenzív tréning, elváltozás
 tan, a megbetegedések mechanizmusa</span></p><p><span style="font-size: 10
 pt;">tréner:&nbsp;<b>dr. Herczeg Andrea</b>, <a href="partnereink/dr-hercz
 eg-andrea.html" target="_blank"><span style="color: blue;"></span></a><span
  style="text-decoration: underline;"><span style="font-size: 8pt;"><a href=
 "partnereink/dr-herczeg-andrea.html">http://biologika.hu/partnereink/dr-her
 czeg-andrea.html</a></span></span></span></p><p><span style="font-size: 10p
 t;">helyszín:<b> Budapest</b>, V. ker. Hercegprímás u. 13.</span></p><p>
 <span style="font-size: 10pt;">időtartam: 1 nap, <b>2017. február 11.</b>
  <br /></span></p><p><span style="font-size: 10pt;">ebédszünet: <b>13</b>
 -<b>14 óráig</b>&nbsp;</span></p><p><span style="font-size: 10pt;">kérd
 sek, válaszok: <b>17</b>-<b>18 óráig</b></span></p><p><span style="font
 -size: 10pt;">előfeltétel:&nbsp;<a href="http://eloadas.biologika.hu" tar
 get="_blank"><b><span style="color: #1155cc;">5 biológiai természettörv
 ny</span></b></a>&nbsp;online, ingyenes előadás megtekintése</span></p>
 <p><span style="font-size: 10pt;">részvételi díj (1 nap): <b>20.000,- Ft
  / fő</b></span></p><p><span style="font-size: 10pt;">ismétlő vagy korke
 dvezmény (18 alatt és 60 felett) érvényesítése esetén a részvételi
  díj&nbsp;<b>15.000,- Ft / fő</b> &nbsp;</span></p><p><span style="font-s
 ize: 10pt;">jelentkezés:&nbsp;<b><span style="color: maroon;">írásos el
 regisztráció kötelező</span></b>&nbsp;a&nbsp;leírás aljánál megado
 tt e-mail címen<br /><br />jelentkezési határidő: <span style="color: #
 800000;"><strong>2017. február 10.</strong></span> <br /></span></p><p><sp
 an style="font-size: 10pt;"><br /></span></p><p><span style="font-size: 10p
 t;"><b style="font-size: 10pt;">Leírás, tematika:</b></span></p><p>&nbsp;
 </p><p><span style="font-size: 10pt;">Szervezetünk változásai, biológia
 i különprogramjai (megbetegedések) minden esetben a túlélést szolgál
 ják. Ezeket a programokat az agyunk tévedhetetlenül választja ki a rend
 elkezésére álló előzetes megtapasztalások, életesemények, érzelmi 
 reakcióink alapján. Ezen a képzésena férfiakat érintő gyakori megbet
 egedések okait, az elváltozások mögött meghúzódó érzelmi konfliktu
 sokat és ezek biologikus megoldásait ismerjük meg.Ezeknél az elváltoz
 soknál nagyon gyakran gyógyszereket kell alkalmazni, amelyek módosítj
 k a szervezet önálló folyamatait. Az egyes elváltozásoknál szó lesz
  a gyógyszerek hatásairól, mellékhatásairól, és azokról az alternat
 ív lehetőségekről melyeket a gyógyszeres kezelés megelőzésére vagy
  kiegészítésére használhatunk. <br /><br /><strong>Tematika</strong>: 
 <br />a biológiai természettörvények átismétlése, <br />a férfias 
 rzelemvilág és a hormonális állapot összefüggései<br />birtokkonfli
 ktusok következményei: pl. koszorúér elváltozások, szívleállás, gy
 omorfekély stb<br />férfi nemi szervek elváltozásai: prosztata, herék<
 br />szexuális funkciókban, képességekben bekövetkező változások bi
 ológiai értelme, megoldásai</span></p><p><span style="font-size: 10pt;">
 Jelentkezéskor add meg:</span><br /><span style="font-size: 10pt;">1.) a t
 réning nevét, helyszínét és időpontját(!)</span><br /><span style="f
 ont-size: 10pt;">2.) pontos nevedet</span><br /><span style="font-size: 10p
 t;">3.) mobil számodat</span><br /><span style="font-size: 10pt;">4.) e-ma
 il címedet</span><br /><span style="font-size: 10pt;">5.) kedvezmény alap
 ját (ha jogosult vagy)</span></p><p><span style="font-size: 10pt;">&nbsp;<
 /span></p>
CONTACT:
 
 
 
 
 Ez az email cím védett a spam robotoktól, a megtekintéséhez engedélyezni kell a Javascriptet.
 
 
 

DTSTAMP:20260420T074754Z
DTSTART:20170211T090000Z
DTEND:20170211T170000Z
SEQUENCE:0
TRANSP:OPAQUE
END:VEVENT
END:VCALENDAR