BEGIN:VCALENDAR
VERSION:2.0
PRODID:-//jEvents 1.5 for Joomla//EN
BEGIN:VEVENT
CALSCALE:GREGORIAN
METHOD:PUBLISH

UID:adc8b09ffcf4b2f7b4fa1115435ff172
CATEGORIES:Egyéb kapcsolódó tanfolyam
SUMMARY:HerczegA: Váz és izomrendszer elváltozásai (Budapest)
LOCATION:Budapest, V.ker. Hercegprímás u. 13.
DESCRIPTION;ENCODING=QUOTED-PRINTABLE:\n\n\nVÁZ ÉS IZOMRENDSZER ELVÁLTOZÁSAI - Osteoporosis, sokízületi gyu
 lladás\n Egynapos tanfolyam&nbsp;Budapesten\n\n\n&nbsp;\n\n\ntémakör: Bi
 ologika (újmedicina) intenzív tréning, elváltozástan, a megbetegedése
 k mechanizmusa\n\n\ntréner:&nbsp;dr. Herczeg Andrea, http://biologika.hu/p
 artnereink/dr-herczeg-andrea.html\n\n\nhelyszín: Budapest, V. ker. Hercegp
 rímás u. 13.\n\n\nidőtartam: 1 nap, 2017. február 12. \n\n\n\nebédszü
 net: 13-14 óráig&nbsp;\n\n\nkérdések, válaszok: 17-18 óráig\n\n\nel
 feltétel:&nbsp;5 biológiai természettörvény&nbsp;online, ingyenes el
 adás megtekintése\n\n\nrészvételi díj (1 nap): 20.000,- Ft / fő\n\n\
 nismétlő vagy korkedvezmény (18 alatt és 60 felett) érvényesítése e
 setén a részvételi díj&nbsp;15.000,- Ft / fő &nbsp;\n\n\njelentkezés:
 &nbsp;írásos előregisztráció kötelező&nbsp;a&nbsp;leírás aljánál
  megadott e-mail címen\n\njelentkezési határidő: 2017. február 10. \n\
 n\n\n\n\n\n\nLeírás, tematika:\nSzervezetünk változásai, biológiai k
 lönprogramjai (megbetegedések) minden esetben a túlélést szolgálják
 . Ezeket a programokat az agyunk tévedhetetlenül választja ki a rendelke
 zésére álló előzetes megtapasztalások, életesemények, érzelmi reak
 cióink alapján. Ezen a képzésena váz- és izomrendszer elváltozásait
  kiváltó konfliktusokat, ezek következményeit és biologikus megoldása
 it ismerjük meg. Ezeknél az elváltozásoknál nagyon gyakran gyógyszere
 ket kell alkalmazni, amelyek módosítják a szervezet önálló folyamatai
 t. Az egyes elváltozásoknál szó lesz a gyógyszerek hatásairól, mell
 khatásairól, és azokról az alternatív lehetőségekről melyeket a gy
 ógyszeres kezelés megelőzésére vagy kiegészítésére használhatunk.
  \n\nTematika: \na biológiai természettörvények átismétlése, \nöné
 rtékelési konfliktusok \ncsontokat érintő különprogramok, csontritkul
 ás, csontszövet rákos folyamatai\nízületi gyulladás\nizmokat érintő
  elváltozások: bénulás, izomsorvadás, izom daganatok biológiai értel
 me, megoldásai\na fájdalom értelme, biológiai funkciója, fájdalomcsil
 lapítás lehetőségei\n\n\nAz elváltozások helyreállítását segítő
  lehetőségek.\n\n\nJelentkezéskor add meg:\n\n\n1.) a tréning nevét, h
 elyszínét és időpontját(!)\n2.) pontos nevedet\n3.) mobil számodat\n4
 .) e-mail címedet\n5.) kedvezmény alapját (ha jogosult vagy)\n\n\n&nbsp;
 \n
CONTACT:
 
 
 
 
 Ez az email cím védett a spam robotoktól, a megtekintéséhez engedélyezni kell a Javascriptet.
 
 
 

DTSTAMP:20260424T083059Z
DTSTART:20170212T090000Z
DTEND:20170212T170000Z
SEQUENCE:0
TRANSP:OPAQUE
END:VEVENT
END:VCALENDAR