BEGIN:VCALENDAR
VERSION:2.0
PRODID:-//jEvents 1.5 for Joomla//EN
BEGIN:VEVENT
CALSCALE:GREGORIAN
METHOD:PUBLISH

UID:6a3ebcde5b7bd55046494e4654e851d5
CATEGORIES:Alap szeminÃ¡rium 
SUMMARY:OrlikI: Biologika IntenzÃ­v Tanfolyam 1/4 (Szeged)
LOCATION:Szeged, szervezÃ©s alatt
DESCRIPTION;ENCODING=QUOTED-PRINTABLE:<p>&nbsp;</p><p><b><span style="font-size: 12pt;">BIOLOGIKA (ÃšJ MEDICINA) 
 TRÃ‰NING</span></b></p><p><b><span style="font-size: 12pt;">2 nap ALAP + 2 
 nap HALADÃ“ tanfolyam<span class="Apple-converted-space"> </span></span></b
 ><b><span style="font-size: 12pt;"><span style="color: #003366;">Szegeden</
 span></span></b></p><p><b><span style="font-size: 12pt;">&nbsp;</span></b><
 /p><p><span style="font-size: 10pt;">tÃ©makÃ¶r: daganatok, sorvadÃ¡sok Ã©s 
 mÃ¡s elvÃ¡ltozÃ¡sok, biolÃ³giai Ã©rtelmÃ¼k, cÃ©ljuk, rendeltetÃ©sÃ¼k Ã©s le
 folyÃ¡suk, hangulatzavarok Ã©s elmebajok<br /></span></p><p><span style="fo
 nt-size: 10pt;">trÃ©ner:<span class="Apple-converted-space">&nbsp;</span></
 span><span style="font-size: 10pt;"><strong>Orlik Ilona</strong>,</span> <s
 pan style="text-decoration: underline;"><a href="partnereink/orlik-ilona-bi
 ologika.html">http://biologika.hu/partnereink/orlik-ilona-biologika.html</a
 ></span></p><p><span style="font-size: 10pt;">helyszÃ­n:<strong><span class
 ="Apple-converted-space"> Szeged</span></strong></span><span style="font-si
 ze: 10pt;">, szervezÃ©s alatt</span>, <span style="font-size: 10pt;">fÃ¼gg 
 a lÃ©tszÃ¡mtÃ³l - tovÃ¡bbi informÃ¡ciÃ³ e-mailben</span></p><p><span style=
 "font-size: 10pt;">idÅ‘tartam: <strong>4 nap</strong>, 2017. januÃ¡r 19-20;
  januÃ¡r 26-27. <br /></span></p><p><span style="font-size: 10pt;">ebÃ©dszÃ
 ¼net: <strong>12-13</strong></span><span style="font-size: 10pt;"> <strong>
 Ã³rÃ¡ig</strong></span>&nbsp;</p><p><span style="font-size: 10pt;">bontÃ¡si
  lehetÅ‘sÃ©g: nincs&nbsp;<br /></span></p><p><span style="font-size: 10pt;"
 >elÅ‘feltÃ©tel:<span class="Apple-converted-space">&nbsp;</span></span><spa
 n style="font-size: 10pt;"><a target="_blank" href="http://www.alapismerete
 k.biologika.hu">www.alapismeretek.biologika.hu</a></span><span style="font-
 size: 10pt;"><span class="Apple-converted-space">&nbsp;</span>online, ingye
 nes elÅ‘adÃ¡s megtekintÃ©se legalÃ¡bb kÃ©tszer<br /></span></p><p><span sty
 le="font-size: 10pt;">rÃ©szvÃ©teli dÃ­j: (4 nap): <strong>40.000.-Ft/fÅ‘/4 
 nap <br /></strong></span></p><p><span style="font-size: 10pt;">jelentkezÃ©
 si hatÃ¡ridÅ‘:<strong> 2017. januÃ¡r 16.<br /></strong></span></p><p><span 
 style="font-size: 10pt;">KedvezmÃ©nyes tanfolyamdÃ­jak:</span></p><p><span 
 style="font-size: 10pt;">- 10% kedvezmÃ©ny a jelentkezÃ©si hatÃ¡ridÅ‘ig reg
 isztrÃ¡lÃ³knak: <strong>36.000Ft/fÅ‘/4 nap</strong><br />- 20% csoportkedve
 zmÃ©ny 4 fÅ‘ egyÃ¼tt jelentkezÃ©se esetÃ©n tehÃ¡t <strong>32.000.-Ft/fÅ‘/4 
 nap</strong><br />- 25% kedvezmÃ©ny</span> <span style="font-size: 10pt;">2
  kÃ¶zeli, egy hÃ¡ztartÃ¡sban Ã©lÅ‘ csalÃ¡dtag ugyanazon tanfolyamra tÃ¶rtÃ©
 nÅ‘ jelentkezÃ©se esetÃ©n tehÃ¡t <strong>30.000.-Ft/fÅ‘/4 nap</strong></spa
 n><br /><span style="font-size: 10pt;">- 35% 60 Ã©v feletti korkedvezmÃ©ny:
  <strong>26.000.-Ft/fÅ‘/4 nap</strong><br />- 50% kedvezmÃ©ny: az ismÃ©tlÅ‘
 knek: <strong>20.000 Ft/4 nap</strong><br />- 100% 12-18 kÃ¶zÃ¶tti fiatalok
  rÃ©szÃ©re ingyenes a tanfolyam.<br /><br />Az egyes kedvezmÃ©nyek nem vonh
 atÃ³k Ã¶ssze.<br />A felsorolt dÃ­jak: nettÃ³ Ã¡rak.</span></p><p><span sty
 le="font-size: 10pt;">jelentkezÃ©s:<span class="Apple-converted-space">&nbs
 p;</span></span><b><span style="color: #800000;"><span style="font-size: 10
 pt;">Ã­rÃ¡sos elÅ‘regisztrÃ¡ciÃ³ kÃ¶telezÅ‘</span></span></b><span style="f
 ont-size: 10pt;"><span class="Apple-converted-space">&nbsp;</span>az 
 <scr
 ipt language='JavaScript' type='text/javascript'>
 <!--
 var prefix = 'm&#9
 7;&#105;lt&#111;:';
 var suffix = '';
 var attribs = '';
 var path = 'hr' +
  'ef' + '=';
 var addy86698 = '&#105;c&#97;' + '&#64;';
 addy86698 = addy86
 698 + 'b&#105;&#111;l&#111;g&#105;k&#97;' + '&#46;' + 'h&#117;';
 document.
 write( '<a ' + path + '\'' + prefix + addy86698 + suffix + '\'' + attribs +
  '>' );
 document.write( addy86698 );
 document.write( '<\/a>' );
 //-->
 <
 /script><script language='JavaScript' type='text/javascript'>
 <!--
 docume
 nt.write( '<span style=\'display: none;\'>' );
 //-->
 </script>Ez az email
  cÃ­m vÃ©dett a spam robotoktÃ³l, a megtekintÃ©sÃ©hez engedÃ©lyezni kell a 
 Javascriptet.
 <script language='JavaScript' type='text/javascript'>
 <!--

  document.write( '</' );
 document.write( 'span>' );
 //-->
 </script> e-ma
 il cÃ­men</span></p><p><span style="font-size: 10pt;">A tanfolyam cÃ©lja, h
 ogy alapokat adjon a biolÃ³giai termÃ©szettÃ¶rvÃ©nyek megismerÃ©sÃ©hez, a t
 estben lezajlÃ³ folyamatok megÃ©rtÃ©sÃ©hez. </span><br /><span style="font-
 size: 10pt;">A biolÃ³gia termÃ©szettÃ¶rvÃ©nyei hitrendszerÃ¼nktÅ‘l fÃ¼ggetl
 enÃ¼l mÅ±kÃ¶dnek, egyÃ©nileg ellenÅ‘rizhetÅ‘ek akÃ¡r visszamenÅ‘leg is. </s
 pan><br /><span style="font-size: 10pt;">A tanfolyami ismeretek elsajÃ¡tÃ­t
 Ã¡sa Ãºj rÃ¡lÃ¡tÃ¡st biztosÃ­t a betegsÃ©gek helyes Ã©rtelmezÃ©sÃ©re. SegÃ­
 tsÃ©get nyÃºjt megalapozott dÃ¶ntÃ©seket hozni az egyÃ©n szÃ¡mÃ¡ra sajÃ¡t e
 gÃ©szsÃ©ge Ã©rdekÃ©ben. A Biologika ismeretÃ©nek egyik legnagyobb elÅ‘nye, 
 hogy kÃ©pessÃ© vÃ¡lunk a komolyabb elvÃ¡ltozÃ¡sok kialakulÃ¡sÃ¡t megakadÃ¡l
 yozni, a mÃ¡r folyamatban lÃ©vÅ‘ket a legÃ©sszerÅ±bben kezelni. </span><br 
 /><span style="font-size: 10pt;">A tanfolyam nem gyÃ³gymÃ³d, nem gyÃ³gyÃ­t,
  nem kÃ©szÃ­t fel gyÃ³gyÃ­tÃ³ tevÃ©kenysÃ©g vÃ©gzÃ©sÃ©re. Az ismeretanyag a
 z Ã¶nmagÃ¡Ã©rt felelÅ‘ssÃ©get vÃ¡llalÃ³ hÃ©tkÃ¶znapi embernek szÃ³l. Ennek 
 hiÃ¡nya akÃ¡r az egÃ©szsÃ©g megÅ‘rzÃ©sÃ©nek, helyreÃ¡llÃ­tÃ¡sÃ¡nak gÃ¡tjÃ¡v
 Ã¡ is vÃ¡lhat. MegÃ©rteni a bennÃ¼nk zajlÃ³ Ã©rzelmi Ã©s testi folyamatokat
  egy Ãºj, minÅ‘sÃ©gibb, Ã¡ltalunk irÃ¡nyÃ­tott Ã©letvitel alapjÃ¡t jelenthe
 ti. Megszabadulni hiedelmeinktÅ‘l, fÃ©lelmeinktÅ‘l, betegsÃ©gtudatunktÃ³l e
 gy magunkkal cipelt teher letÃ©telÃ©t jelenti. </span><br /><span style="fo
 nt-size: 10pt;">A tanfolyam nem csak testi szinten tÃ¡rja fel az elvÃ¡ltozÃ
 ¡sokat, hanem megmutatja lelki szinten is a kivÃ¡ltÃ³ okokat, Ã©rzelmi kile
 ngÃ©seket.</span><br /><span style="font-size: 10pt;">A trÃ©ning Barnai Rob
 erto Ã¡ltal kÃ©szÃ­tett Szerv Atlasz tudÃ¡sanyagÃ¡n alapul.</span><br /><sp
 an style="font-size: 10pt;">&nbsp;</span></p><p><span style="font-size: 10p
 t;">A tanfolyam tematikÃ¡ja:</span><br /><strong><span style="font-size: 10
 pt;">1. nap</span></strong><br /><span style="font-size: 10pt;">Az Ã¶t biol
 Ã³giai termÃ©szettÃ¶rvÃ©ny - Dr. Ryke Geerd Hammer munkÃ¡ssÃ¡ga</span><br /
 ><span style="font-size: 10pt;">Barnai Roberto: Biologika Szerv Atlasz felÃ
 ©pÃ­tÃ©se Ã©s hasznÃ¡lata</span><br /><span style="font-size: 10pt;">Az agy
 tÃ¶rzs vezÃ©relte mirigyszÃ¶vetes szervek elvÃ¡ltozÃ¡sai</span><br /><span 
 style="font-size: 10pt;">Az kÃ¶zÃ©pagy vezÃ©relte simaizomszÃ¶vetek elvÃ¡lt
 ozÃ¡sai (miÃ³mÃ¡k) </span><br /><strong><span style="font-size: 10pt;">2. n
 ap</span></strong><br /><span style="font-size: 10pt;">A kisagy vezÃ©relte 
 szervek elvÃ¡ltozÃ¡sai (hÃ¡rtyaszÃ¶vetek, bÅ‘rirha, tejmirigyek)</span><br 
 /><span style="font-size: 10pt;">A velÅ‘Ã¡llomÃ¡ny vezÃ©relte szervek elvÃ¡
 ltozÃ¡sai Ã©s a valÃ³di cisztÃ¡k</span><br /><span style="font-size: 10pt;"
 >KÃ¶tÅ‘szÃ¶vetek, vÃ¡zrendszer</span><br /><span style="font-size: 10pt;">A
  szÃ­v elvÃ¡ltozÃ¡sai</span><br /><span style="font-size: 10pt;">VÃ©r- Ã©s 
 nyirokrendszer (leukÃ©mia)</span><br /><span style="font-size: 10pt;">Magas
  vÃ©rnyomÃ¡s (vesekÃ©reg elvÃ¡ltozÃ¡sa)</span><br /><span style="font-size:
  10pt;">Here Ã©s petefÃ©szekciszta</span><br /><strong><span style="font-si
 ze: 10pt;">3. nap</span></strong><br /><span style="font-size: 10pt;">A kÃ©
 regÃ¡llomÃ¡ny vezÃ©relte szervek elvÃ¡ltozÃ¡sai</span><br /><span style="fo
 nt-size: 10pt;">FÃ©rfias Ã©s nÅ‘ies hormonÃ¡llapot</span><br /><span style=
 "font-size: 10pt;">FunkciÃ³-kimaradÃ¡sok, bÃ©nulÃ¡sok, cukorszint vÃ¡ltozÃ¡
 sok</span><br /><strong><span style="font-size: 10pt;">4. nap</span></stron
 g><br /><span style="font-size: 10pt;">MentÃ¡lis kÃ¼lÃ¶nprogramok</span><br
  /><span style="font-size: 10pt;">Hangulatzavarok Ã©s elmebajok - a leggyak
 oribb tÃ¼netek hÃ¡tterÃ©vel.</span><br /><span style="font-size: 10pt;">(Me
 gzavarodottsÃ¡g, kÃ©nyszeres sÃ©rtegetÃ©s, Ã©rtÃ©kÃ­tÃ©leti zavarok, </span
 ><br /><span style="font-size: 10pt;">mÃ¡nia, depressziÃ³, skizofrÃ©nia, fÃ
 ³biÃ¡k Ã©s paranoiÃ¡k.)</span><br /><span style="font-size: 10pt;">&nbsp;</
 span></p><p><span style="font-size: 10pt;">Tananyag: Biologika Szerv Atlasz
 </span><br /><span style="font-size: 10pt;">Roberto elÅ‘adÃ¡sainak prezentÃ
 ¡ciÃ³s anyaga az Ãºj medicina kÃ©zikÃ¶nyvÃ©vÃ© nÅ‘tte ki magÃ¡t. A Szerv At
 lasz megvÃ¡sÃ¡rolhatÃ³ a webshopban vagy a trÃ©ningen. A Szerv Atlasz jelen
 leg az egyetlen Ãºj medicinÃ¡s kÃ©zikÃ¶nyv a vilÃ¡gon.</span></p><p><span s
 tyle="font-size: 10pt;">JelentkezÃ©skor add meg:</span><br /><span style="f
 ont-size: 10pt;">1.) a trÃ©ning nevÃ©t, helyszÃ­nÃ©t Ã©s idÅ‘pontjÃ¡t</span
 ><br /><span style="font-size: 10pt;">2.) pontos nevedet</span><br /><span 
 style="font-size: 10pt;">3.) mobil szÃ¡modat</span><br /><span style="font-
 size: 10pt;">4.) e-mail cÃ­medet</span><br /><span style="font-size: 10pt;"
 >5.) kedvezmÃ©ny alapjÃ¡t (ha jogosult vagy)</span><br /><span style="font-
 size: 10pt;"><br style="font-size: 10pt;" /></span></p>
CONTACT:
 
 
 
 
 Ez az email cÃ­m vÃ©dett a spam robotoktÃ³l, a megtekintÃ©sÃ©hez engedÃ©lyezni kell a Javascriptet.
 
 
 , +36204838742

DTSTAMP:20260424T145813Z
DTSTART:20170119T090000Z
DTEND:20170119T160000Z
SEQUENCE:0
TRANSP:OPAQUE
END:VEVENT
END:VCALENDAR