BEGIN:VCALENDAR
VERSION:2.0
PRODID:-//jEvents 1.5 for Joomla//EN
BEGIN:VEVENT
CALSCALE:GREGORIAN
METHOD:PUBLISH

UID:993bc43e4add64021395b7a3c4ec14e5
CATEGORIES:Alap szeminÃ¡rium 
SUMMARY:KovÃ¡csJ: Biologika IntenzÃ­v tanfolyam 1/4 (KecskemÃ©t)
LOCATION:KecskemÃ©t, szervezÃ©s alatt
DESCRIPTION;ENCODING=QUOTED-PRINTABLE:<p>&nbsp;</p><p><b><span style="font-size: 12pt;">BIOLOGIKA (GNM ÃšJ MEDICI
 NA) TRÃ‰NING</span></b></p><p><b><span style="font-size: 12pt;">2 nap ALAP 
 + 2 nap HALADÃ“ tanfolyam<span class="Apple-converted-space"> </span></span
 ></b><b><span style="font-size: 12pt;"><span style="color: #003366;">Kecske
 mÃ©ten</span></span></b></p><p><b><span style="font-size: 12pt;">&nbsp;</sp
 an></b></p><p><span style="font-size: 10pt;">tÃ©makÃ¶r: daganatok, sorvadÃ¡
 sok Ã©s mÃ¡s elvÃ¡ltozÃ¡sok, biolÃ³giai Ã©rtelmÃ¼k, cÃ©ljuk, rendeltetÃ©sÃ¼
 k Ã©s lefolyÃ¡suk, hangulatzavarok Ã©s elmebajok<br /></span></p><p><span s
 tyle="font-size: 10pt;">trÃ©ner:<span class="Apple-converted-space"> </span
 ></span><span style="font-size: 10pt;"><strong>KovÃ¡cs JÃ³zsef</strong>,&nb
 sp;<a href="https://ujmedicina.hu/partnereink/kovacs-jozsef.html" target="_
 blank">https://ujmedicina.hu/partnereink/kovacs-jozsef.html</a></span> <spa
 n></span></p><p><span style="font-size: 10pt;">helyszÃ­n:<strong><span clas
 s="Apple-converted-space"> KecskemÃ©t, </span></strong></span><span style="
 font-size: 10pt;">szervezÃ©s alatt</span>, <span style="font-size: 10pt;">f
 Ã¼gg a lÃ©tszÃ¡mtÃ³l - tovÃ¡bbi informÃ¡ciÃ³ e-mailben</span></p><p><span s
 tyle="font-size: 10pt;">idÅ‘tartam: <strong>4 nap</strong>, 2017. februÃ¡r 
 18-19; mÃ¡rcius 18-19. <br /></span></p><p><span style="font-size: 10pt;">e
 bÃ©dszÃ¼net: <strong>12-13</strong></span><span style="font-size: 10pt;"> <
 strong>Ã³rÃ¡ig</strong></span>&nbsp;</p><p><span style="font-size: 10pt;">b
 ontÃ¡si lehetÅ‘sÃ©g: nincs&nbsp;<br /></span></p><p><span style="font-size:
  10pt;">elÅ‘feltÃ©tel:<span class="Apple-converted-space">&nbsp;</span></sp
 an><span style="font-size: 10pt;"><a target="_blank" href="http://www.alapi
 smeretek.biologika.hu">www.alapismeretek.biologika.hu</a></span><span style
 ="font-size: 10pt;"><span class="Apple-converted-space">&nbsp;</span>online
 , ingyenes elÅ‘adÃ¡s megtekintÃ©se legalÃ¡bb kÃ©tszer<br /></span></p><p><s
 pan style="font-size: 10pt;">rÃ©szvÃ©teli dÃ­j: (4 nap): <strong>40.000.-Ft
 /fÅ‘/4 nap <br /></strong></span></p><p><span style="font-size: 10pt;">jele
 ntkezÃ©si hatÃ¡ridÅ‘:<strong> 2017. februÃ¡r 18.<br /></strong></span></p><
 p><span style="font-size: 10pt;">KedvezmÃ©nyes tanfolyamdÃ­jak:</span></p><
 p><span style="font-size: 10pt;">- 10% kedvezmÃ©ny a jelentkezÃ©si hatÃ¡rid
 Å‘ig regisztrÃ¡lÃ³knak: <strong>36.000Ft/fÅ‘/4 nap</strong><br />- 20% csop
 ortkedvezmÃ©ny 4 fÅ‘ egyÃ¼tt jelentkezÃ©se esetÃ©n tehÃ¡t <strong>32.000.-F
 t/fÅ‘/4 nap</strong><br />- 25% kedvezmÃ©ny</span> <span style="font-size: 
 10pt;">2 kÃ¶zeli, egy hÃ¡ztartÃ¡sban Ã©lÅ‘ csalÃ¡dtag ugyanazon tanfolyamra
  tÃ¶rtÃ©nÅ‘ jelentkezÃ©se esetÃ©n tehÃ¡t <strong>30.000.-Ft/fÅ‘/4 nap</stro
 ng></span><br /><span style="font-size: 10pt;">- 35% 60 Ã©v feletti korkedv
 ezmÃ©ny: <strong>26.000.-Ft/fÅ‘/4 nap</strong><br />- 50% kedvezmÃ©ny: az i
 smÃ©tlÅ‘knek: <strong>20.000 Ft/4 nap</strong><br />- 100% 12-18 kÃ¶zÃ¶tti 
 fiatalok rÃ©szÃ©re ingyenes a tanfolyam.<br /><br />Az egyes kedvezmÃ©nyek 
 nem vonhatÃ³k Ã¶ssze.<br />A felsorolt dÃ­jak: nettÃ³ Ã¡rak.</span></p><p><
 span style="font-size: 10pt;">jelentkezÃ©s:<span class="Apple-converted-spa
 ce">&nbsp;</span></span><b><span style="color: #800000;"><span style="font-
 size: 10pt;">Ã­rÃ¡sos elÅ‘regisztrÃ¡ciÃ³ kÃ¶telezÅ‘</span></span></b><span 
 style="font-size: 10pt;"><span class="Apple-converted-space">&nbsp;</span>a
 z 
 <script language='JavaScript' type='text/javascript'>
 <!--
 var prefix
  = 'm&#97;&#105;lt&#111;:';
 var suffix = '';
 var attribs = '';
 var path 
 = 'hr' + 'ef' + '=';
 var addy89984 = 'j&#111;zs&#101;f' + '&#64;';
 addy89
 984 = addy89984 + 'b&#105;&#111;l&#111;g&#105;k&#97;' + '&#46;' + 'h&#117;'
 ;
 document.write( '<a ' + path + '\'' + prefix + addy89984 + suffix + '\''
  + attribs + '>' );
 document.write( addy89984 );
 document.write( '<\/a>' 
 );
 //-->
 </script><script language='JavaScript' type='text/javascript'>
 
 <!--
 document.write( '<span style=\'display: none;\'>' );
 //-->
 </script
 >Ez az email cÃ­m vÃ©dett a spam robotoktÃ³l, a megtekintÃ©sÃ©hez engedÃ©ly
 ezni kell a Javascriptet.
 <script language='JavaScript' type='text/javascr
 ipt'>
 <!--
 document.write( '</' );
 document.write( 'span>' );
 //-->
 </
 script> e-mail cÃ­men</span></p><p><span style="font-size: 10pt;">A tanfoly
 am cÃ©lja, hogy alapokat adjon a biolÃ³giai termÃ©szettÃ¶rvÃ©nyek megismerÃ
 ©sÃ©hez, a testben lezajlÃ³ folyamatok megÃ©rtÃ©sÃ©hez. </span><br /><span 
 style="font-size: 10pt;">A biolÃ³gia termÃ©szettÃ¶rvÃ©nyei hitrendszerÃ¼nkt
 Å‘l fÃ¼ggetlenÃ¼l mÅ±kÃ¶dnek, egyÃ©nileg ellenÅ‘rizhetÅ‘ek akÃ¡r visszamenÅ
 ‘leg is. </span><br /><span style="font-size: 10pt;">A tanfolyami ismeretek
  elsajÃ¡tÃ­tÃ¡sa Ãºj rÃ¡lÃ¡tÃ¡st biztosÃ­t a betegsÃ©gek helyes Ã©rtelmezÃ©
 sÃ©re. SegÃ­tsÃ©get nyÃºjt megalapozott dÃ¶ntÃ©seket hozni az egyÃ©n szÃ¡mÃ
 ¡ra sajÃ¡t egÃ©szsÃ©ge Ã©rdekÃ©ben. A Biologika ismeretÃ©nek egyik legnagyo
 bb elÅ‘nye, hogy kÃ©pessÃ© vÃ¡lunk a komolyabb elvÃ¡ltozÃ¡sok kialakulÃ¡sÃ¡
 t megakadÃ¡lyozni, a mÃ¡r folyamatban lÃ©vÅ‘ket a legÃ©sszerÅ±bben kezelni.
  </span><br /><span style="font-size: 10pt;">A tanfolyam nem gyÃ³gymÃ³d, ne
 m gyÃ³gyÃ­t, nem kÃ©szÃ­t fel gyÃ³gyÃ­tÃ³ tevÃ©kenysÃ©g vÃ©gzÃ©sÃ©re. Az is
 meretanyag az Ã¶nmagÃ¡Ã©rt felelÅ‘ssÃ©get vÃ¡llalÃ³ hÃ©tkÃ¶znapi embernek s
 zÃ³l. Ennek hiÃ¡nya akÃ¡r az egÃ©szsÃ©g megÅ‘rzÃ©sÃ©nek, helyreÃ¡llÃ­tÃ¡sÃ¡
 nak gÃ¡tjÃ¡vÃ¡ is vÃ¡lhat. MegÃ©rteni a bennÃ¼nk zajlÃ³ Ã©rzelmi Ã©s testi 
 folyamatokat egy Ãºj, minÅ‘sÃ©gibb, Ã¡ltalunk irÃ¡nyÃ­tott Ã©letvitel alapj
 Ã¡t jelentheti. Megszabadulni hiedelmeinktÅ‘l, fÃ©lelmeinktÅ‘l, betegsÃ©gtu
 datunktÃ³l egy magunkkal cipelt teher letÃ©telÃ©t jelenti. </span><br /><sp
 an style="font-size: 10pt;">A tanfolyam nem csak testi szinten tÃ¡rja fel a
 z elvÃ¡ltozÃ¡sokat, hanem megmutatja lelki szinten is a kivÃ¡ltÃ³ okokat, Ã
 ©rzelmi kilengÃ©seket.</span><br /><span style="font-size: 10pt;">A trÃ©nin
 g Barnai Roberto Ã¡ltal kÃ©szÃ­tett Szerv Atlasz tudÃ¡sanyagÃ¡n alapul.</sp
 an><br /><span style="font-size: 10pt;">&nbsp;</span></p><p><span style="fo
 nt-size: 10pt;">A tanfolyam tematikÃ¡ja:</span><br /><strong><span style="f
 ont-size: 10pt;">1. nap</span></strong><br /><span style="font-size: 10pt;"
 >Az Ã¶t biolÃ³giai termÃ©szettÃ¶rvÃ©ny - Dr. Ryke Geerd Hammer munkÃ¡ssÃ¡ga
 </span><br /><span style="font-size: 10pt;">Barnai Roberto: Biologika Szerv
  Atlasz felÃ©pÃ­tÃ©se Ã©s hasznÃ¡lata</span><br /><span style="font-size: 1
 0pt;">Az agytÃ¶rzs vezÃ©relte mirigyszÃ¶vetes szervek elvÃ¡ltozÃ¡sai</span>
 <br /><span style="font-size: 10pt;">Az kÃ¶zÃ©pagy vezÃ©relte simaizomszÃ¶v
 etek elvÃ¡ltozÃ¡sai (miÃ³mÃ¡k) </span><br /><strong><span style="font-size:
  10pt;">2. nap</span></strong><br /><span style="font-size: 10pt;">A kisagy
  vezÃ©relte szervek elvÃ¡ltozÃ¡sai (hÃ¡rtyaszÃ¶vetek, bÅ‘rirha, tejmirigyek
 )</span><br /><span style="font-size: 10pt;">A velÅ‘Ã¡llomÃ¡ny vezÃ©relte s
 zervek elvÃ¡ltozÃ¡sai Ã©s a valÃ³di cisztÃ¡k</span><br /><span style="font-
 size: 10pt;">KÃ¶tÅ‘szÃ¶vetek, vÃ¡zrendszer</span><br /><span style="font-si
 ze: 10pt;">A szÃ­v elvÃ¡ltozÃ¡sai</span><br /><span style="font-size: 10pt;
 ">VÃ©r- Ã©s nyirokrendszer (leukÃ©mia)</span><br /><span style="font-size: 
 10pt;">Magas vÃ©rnyomÃ¡s (vesekÃ©reg elvÃ¡ltozÃ¡sa)</span><br /><span style
 ="font-size: 10pt;">Here Ã©s petefÃ©szekciszta</span><br /><strong><span st
 yle="font-size: 10pt;">3. nap</span></strong><br /><span style="font-size: 
 10pt;">A kÃ©regÃ¡llomÃ¡ny vezÃ©relte szervek elvÃ¡ltozÃ¡sai</span><br /><sp
 an style="font-size: 10pt;">FÃ©rfias Ã©s nÅ‘ies hormonÃ¡llapot</span><br />
 <span style="font-size: 10pt;">FunkciÃ³-kimaradÃ¡sok, bÃ©nulÃ¡sok, cukorszi
 nt vÃ¡ltozÃ¡sok</span><br /><strong><span style="font-size: 10pt;">4. nap</
 span></strong><br /><span style="font-size: 10pt;">MentÃ¡lis kÃ¼lÃ¶nprogram
 ok</span><br /><span style="font-size: 10pt;">Hangulatzavarok Ã©s elmebajok
  - a leggyakoribb tÃ¼netek hÃ¡tterÃ©vel.</span><br /><span style="font-size
 : 10pt;">(MegzavarodottsÃ¡g, kÃ©nyszeres sÃ©rtegetÃ©s, Ã©rtÃ©kÃ­tÃ©leti zav
 arok, </span><br /><span style="font-size: 10pt;">mÃ¡nia, depressziÃ³, skiz
 ofrÃ©nia, fÃ³biÃ¡k Ã©s paranoiÃ¡k.)</span><br /><span style="font-size: 10p
 t;">&nbsp;</span></p><p><span style="font-size: 10pt;">Tananyag: Biologika 
 Szerv Atlasz</span><br /><span style="font-size: 10pt;">Roberto elÅ‘adÃ¡sai
 nak prezentÃ¡ciÃ³s anyaga az Ãºj medicina kÃ©zikÃ¶nyvÃ©vÃ© nÅ‘tte ki magÃ¡t
 . A Szerv Atlasz megvÃ¡sÃ¡rolhatÃ³ a webshopban vagy a trÃ©ningen. A Szerv 
 Atlasz jelenleg az egyetlen Ãºj medicinÃ¡s kÃ©zikÃ¶nyv a vilÃ¡gon.<br /><br
  /></span></p><p><span style="font-size: 10pt;">JelentkezÃ©skor add meg:</s
 pan><br /><span style="font-size: 10pt;">1.) a trÃ©ning nevÃ©t, helyszÃ­nÃ©
 t Ã©s idÅ‘pontjÃ¡t</span><br /><span style="font-size: 10pt;">2.) pontos ne
 vedet</span><br /><span style="font-size: 10pt;">3.) mobil szÃ¡modat</span>
 <br /><span style="font-size: 10pt;">4.) e-mail cÃ­medet</span><br /><span 
 style="font-size: 10pt;">5.) kedvezmÃ©ny alapjÃ¡t (ha jogosult vagy)</span>
 <br /><span style="font-size: 10pt;"><br style="font-size: 10pt;" /></span>
 </p>
CONTACT:
 
 
 
 
 Ez az email cÃ­m vÃ©dett a spam robotoktÃ³l, a megtekintÃ©sÃ©hez engedÃ©lyezni kell a Javascriptet.
 
 
 ; +36303164121

DTSTAMP:20260424T083732Z
DTSTART:20170218T090000Z
DTEND:20170218T160000Z
SEQUENCE:0
TRANSP:OPAQUE
END:VEVENT
END:VCALENDAR