BEGIN:VCALENDAR
VERSION:2.0
PRODID:-//jEvents 1.5 for Joomla//EN
BEGIN:VEVENT
CALSCALE:GREGORIAN
METHOD:PUBLISH

UID:63eee296a394ce2b04db70201b409f67
CATEGORIES:Haladó szeminárium 
SUMMARY:KovácsJ: Biologika Intenzív tanfolyam 3/4 (Kecskemét)
LOCATION:Kecskemét, szervezés alatt
DESCRIPTION;ENCODING=QUOTED-PRINTABLE:<p><strong><span style="font-size: 12pt;">BIOLOGIKA (ÚJ MEDICINA) TRÉNING
 </span></strong></p><p><strong><span style="font-size: 12pt;"><span style="
 font-size: 12pt; font-family: 'Liberation Serif','serif'; color: black;">2 
 nap ALAP + 2 nap HALADÓ tanfolyam</span> </span></strong><strong><span sty
 le="font-size: 12pt;"><span style="color: #003366;">Kecskeméten</span></sp
 an></strong></p><p><span style="font-size: 10pt;"><br /></span></p><p><span
  style="font-size: 10pt;">elnevezés: Biologika (újmedicina) tanfolyam</sp
 an></p><p><span style="font-size: 10pt;">időtartam: <span style="color: #0
 00000;"><strong>4 nap</strong>, 2 nap ALAP tanfolyam 2017. február 18-19, 
 vagy március 11-12; 2 nap HALADÓ: 2017. március 18-19.<br /></span></spa
 n></p><p><span style="font-size: 10pt;">Figyelem! Ez egy több napos tréni
 ng, további információ az első napnál, <a target="_blank" href="icalre
 peat.detail/2017/03/11/4226/">ide kattintva</a></span><span style="font-siz
 e: 10pt;">.<br /><br /><br /></span></p>
CONTACT:
 
 
 
 
 Ez az email cím védett a spam robotoktól, a megtekintéséhez engedélyezni kell a Javascriptet.
 
 
 ; +36303164121

DTSTAMP:20260420T075357Z
DTSTART:20170318T090000Z
DTEND:20170318T160000Z
SEQUENCE:0
TRANSP:OPAQUE
END:VEVENT
END:VCALENDAR