BEGIN:VCALENDAR
VERSION:2.0
PRODID:-//jEvents 1.5 for Joomla//EN
BEGIN:VEVENT
CALSCALE:GREGORIAN
METHOD:PUBLISH

UID:b31601154438285e1b1675974f737957
CATEGORIES:Alap szeminÃ¡rium 
SUMMARY:AndocsiV: Biologika IntenzÃ­v Tanfolyam 1/4 (Zalaegerszeg)
LOCATION:Zalaegerszeg, szervezÃ©s alatt
DESCRIPTION;ENCODING=QUOTED-PRINTABLE:\n\nBIOLOGIKA (ÃšJ MEDICINA) TRÃ‰NING\n\n\n2 nap ALAP + 2 nap HALADÃ“ tanfo
 lyam&nbsp;Zalaegerszegen \n\n\n&nbsp;\n\n\ntÃ©makÃ¶r: daganatok, sorvadÃ¡so
 k Ã©s mÃ¡s elvÃ¡ltozÃ¡sok, biolÃ³giai Ã©rtelmÃ¼k, cÃ©ljuk, rendeltetÃ©sÃ¼k 
 Ã©s lefolyÃ¡suk, hangulatzavarok Ã©s elmebajok\n\n\n\ntrÃ©ner:&nbsp;Andocsi
  ValÃ©ria http://biologika.hu/partnereink/andocsi-valeria.html\n\n\n\nhelys
 zÃ­n: Zalaegerszeg, szervezÃ©s alatt\n\n\nidÅ‘tartam: 4 nap, 2017. februÃ¡r
  4-5; februÃ¡r 11-12.\n\n\n\nebÃ©dszÃ¼net: 13-14 Ã³rÃ¡ig\n\n\nelÅ‘feltÃ©tel
 :&nbsp; www.eloadas.biologika.hu online, ingyenes elÅ‘adÃ¡s megtekintÃ©se\n
 \n\n\nrÃ©szvÃ©teli dÃ­j: 40.000,- Ft/fÅ‘/4 nap\n\n\n\njelentkezÃ©si hatÃ¡ri
 dÅ‘: februÃ¡r 1.\n\n\n\njelentkezÃ©s:&nbsp;Ã­rÃ¡sos elÅ‘regisztrÃ¡ciÃ³ kÃ¶t
 elezÅ‘&nbsp;a&nbsp;leÃ­rÃ¡s aljÃ¡nÃ¡l megadott e-mail cÃ­men&nbsp;\n\n\n&nb
 sp;\n\n\nKedvezmÃ©nyes tanfolyamdÃ­jak:\n\n\n- 10% kedvezmÃ©ny a jelentkezÃ
 ©si hatÃ¡ridÅ‘ig regisztrÃ¡lÃ³knak: 36.000Ft/fÅ‘/4 nap\n- 20% csoportkedvez
 mÃ©ny 4 fÅ‘ egyÃ¼tt jelentkezÃ©se esetÃ©n tehÃ¡t 32.000.-Ft/fÅ‘/4 nap\n- 25
 % kedvezmÃ©ny 2 kÃ¶zeli, egy hÃ¡ztartÃ¡sban Ã©lÅ‘ csalÃ¡dtag ugyanazon tanf
 olyamra tÃ¶rtÃ©nÅ‘ jelentkezÃ©se esetÃ©n tehÃ¡t 30.000.-Ft/fÅ‘/4 nap\n- 35%
  60 Ã©v feletti korkedvezmÃ©ny: 26.000.-Ft/fÅ‘/4 nap\n- 50% kedvezmÃ©ny: az
  ismÃ©tlÅ‘knek: 20.000 Ft/4 nap\n- 100% 12-18 kÃ¶zÃ¶tti fiatalok rÃ©szÃ©re 
 ingyenes a tanfolyam.\n\nA tanfolyam cÃ©lja, hogy alapokat adjon a biolÃ³gi
 ai termÃ©szettÃ¶rvÃ©nyek megismerÃ©sÃ©hez, a testben lezajlÃ³ folyamatok me
 gÃ©rtÃ©sÃ©hez. \nA biolÃ³gia termÃ©szettÃ¶rvÃ©nyei hitrendszerÃ¼nktÅ‘l fÃ¼g
 getlenÃ¼l mÅ±kÃ¶dnek, egyÃ©nileg ellenÅ‘rizhetÅ‘ek akÃ¡r visszamenÅ‘leg is.
  \nA tanfolyami ismeretek elsajÃ¡tÃ­tÃ¡sa Ãºj rÃ¡lÃ¡tÃ¡st biztosÃ­t a beteg
 sÃ©gek helyes Ã©rtelmezÃ©sÃ©re. SegÃ­tsÃ©get nyÃºjt megalapozott dÃ¶ntÃ©sek
 et hozni az egyÃ©n szÃ¡mÃ¡ra sajÃ¡t egÃ©szsÃ©ge Ã©rdekÃ©ben. A Biologika is
 meretÃ©nek egyik legnagyobb elÅ‘nye, hogy kÃ©pessÃ© vÃ¡lunk a komolyabb elv
 Ã¡ltozÃ¡sok kialakulÃ¡sÃ¡t megakadÃ¡lyozni, a mÃ¡r folyamatban lÃ©vÅ‘ket a 
 legÃ©sszerÅ±bben kezelni. \nA tanfolyam nem gyÃ³gymÃ³d, nem gyÃ³gyÃ­t, nem 
 kÃ©szÃ­t fel gyÃ³gyÃ­tÃ³ tevÃ©kenysÃ©g vÃ©gzÃ©sÃ©re. Az ismeretanyag az Ã¶n
 magÃ¡Ã©rt felelÅ‘ssÃ©get vÃ¡llalÃ³ hÃ©tkÃ¶znapi embernek szÃ³l. Ennek hiÃ¡n
 ya akÃ¡r az egÃ©szsÃ©g megÅ‘rzÃ©sÃ©nek, helyreÃ¡llÃ­tÃ¡sÃ¡nak gÃ¡tjÃ¡vÃ¡ is
  vÃ¡lhat. MegÃ©rteni a bennÃ¼nk zajlÃ³ Ã©rzelmi Ã©s testi folyamatokat egy 
 Ãºj, minÅ‘sÃ©gibb, Ã¡ltalunk irÃ¡nyÃ­tott Ã©letvitel alapjÃ¡t jelentheti. M
 egszabadulni hiedelmeinktÅ‘l, fÃ©lelmeinktÅ‘l, betegsÃ©gtudatunktÃ³l egy ma
 gunkkal cipelt teher letÃ©telÃ©t jelenti. \nA tanfolyam nem csak testi szin
 ten tÃ¡rja fel az elvÃ¡ltozÃ¡sokat, hanem megmutatja lelki szinten is a kiv
 Ã¡ltÃ³ okokat, Ã©rzelmi kilengÃ©seket.\n&nbsp;\n\n\nA tanfolyam tematikÃ¡ja
 :\n\n1. nap\nAz Ã¶t biolÃ³giai termÃ©szettÃ¶rvÃ©ny - Dr. Ryke Geerd Hammer 
 munkÃ¡ssÃ¡ga\nBarnai Roberto: Biologika Szerv Atlasz felÃ©pÃ­tÃ©se Ã©s hasz
 nÃ¡lata\nAz agytÃ¶rzs vezÃ©relte mirigyszÃ¶vetes szervek elvÃ¡ltozÃ¡sai\nAz
  kÃ¶zÃ©pagy vezÃ©relte simaizomszÃ¶vetek elvÃ¡ltozÃ¡sai (miÃ³mÃ¡k)\n \n2. n
 ap\nA kisagy vezÃ©relte szervek elvÃ¡ltozÃ¡sai (hÃ¡rtyaszÃ¶vetek, bÅ‘rirha,
  tejmirigyek)\nA velÅ‘Ã¡llomÃ¡ny vezÃ©relte szervek elvÃ¡ltozÃ¡sai Ã©s a va
 lÃ³di cisztÃ¡k\nKÃ¶tÅ‘szÃ¶vetek, vÃ¡zrendszer\nA szÃ­v elvÃ¡ltozÃ¡sai\nVÃ©r
 - Ã©s nyirokrendszer (leukÃ©mia)\nMagas vÃ©rnyomÃ¡s (vesekÃ©reg elvÃ¡ltozÃ¡
 sa)\nHere Ã©s petefÃ©szekciszta\n\n3. nap\nA kÃ©regÃ¡llomÃ¡ny vezÃ©relte sz
 ervek elvÃ¡ltozÃ¡sai\nFÃ©rfias Ã©s nÅ‘ies hormonÃ¡llapot\nFunkciÃ³-kimaradÃ
 ¡sok, bÃ©nulÃ¡sok, cukorszint vÃ¡ltozÃ¡sok\n\n4. nap\nMentÃ¡lis kÃ¼lÃ¶nprog
 ramok\nHangulatzavarok Ã©s elmebajok - a leggyakoribb tÃ¼netek hÃ¡tterÃ©vel
 .\n(MegzavarodottsÃ¡g, kÃ©nyszeres sÃ©rtegetÃ©s, Ã©rtÃ©kÃ­tÃ©leti zavarok, 
 \nmÃ¡nia, depressziÃ³, skizofrÃ©nia, fÃ³biÃ¡k Ã©s paranoiÃ¡k.)\n\n\n\nTanan
 yag: Biologika Szerv Atlasz\nRoberto elÅ‘adÃ¡sainak prezentÃ¡ciÃ³s anyaga a
 z Ãºj medicina kÃ©zikÃ¶nyvÃ©vÃ© nÅ‘tte ki magÃ¡t. A Szerv Atlasz megvÃ¡sÃ¡r
 olhatÃ³ a webshopban vagy a trÃ©ningen. A Szerv Atlasz jelenleg az egyetlen
  Ãºj medicinÃ¡s kÃ©zikÃ¶nyv a vilÃ¡gon.\n\n\n\n\nSzeretettel vÃ¡rlak a tanf
 olyamon!\nAndocsi ValÃ©ria, trÃ©ner\n\n\n\n\n\n\n\nJelentkezÃ©skor add meg:
 \n1.) a trÃ©ning nevÃ©t, helyszÃ­nÃ©t Ã©s idÅ‘pontjÃ¡t\n2.) pontos nevedet\
 n3.) mobil szÃ¡modat\n4.) e-mail cÃ­medet\n5.) kedvezmÃ©ny alapjÃ¡t (ha jog
 osult vagy)\n\n
CONTACT:
 
 
 
 
 Ez az email cÃ­m vÃ©dett a spam robotoktÃ³l, a megtekintÃ©sÃ©hez engedÃ©lyezni kell a Javascriptet.
 
 
 

DTSTAMP:20260420T073244Z
DTSTART:20170204T090000Z
DTEND:20170204T160000Z
SEQUENCE:0
TRANSP:OPAQUE
END:VEVENT
END:VCALENDAR