BEGIN:VCALENDAR
VERSION:2.0
PRODID:-//jEvents 1.5 for Joomla//EN
BEGIN:VEVENT
CALSCALE:GREGORIAN
METHOD:PUBLISH

UID:4bf4d1fb639582c021189379261c8f2b
CATEGORIES:Alap szeminÃ¡rium 
SUMMARY:OrlikI: Biologika IntenzÃ­v Tanfolyam 1/4 (Szeged)
LOCATION:Szeged, szervezÃ©s alatt
DESCRIPTION;ENCODING=QUOTED-PRINTABLE:<p><b><span style="font-size: 12pt;">BIOLOGIKA (ÃšJ MEDICINA) TRÃ‰NING</spa
 n></b></p><p><b><span style="font-size: 12pt;">2 nap ALAP + 2 nap HALADÃ“ t
 anfolyam<span class="Apple-converted-space"> </span></span></b><b><span sty
 le="font-size: 12pt;"><span style="color: #003366;">Szegeden</span></span><
 /b></p><p><b><span style="font-size: 12pt;">&nbsp;</span></b></p><p><span s
 tyle="font-size: 10pt;">tÃ©makÃ¶r: daganatok, sorvadÃ¡sok Ã©s mÃ¡s elvÃ¡lto
 zÃ¡sok, biolÃ³giai Ã©rtelmÃ¼k, cÃ©ljuk, rendeltetÃ©sÃ¼k Ã©s lefolyÃ¡suk, ha
 ngulatzavarok Ã©s elmebajok<br /></span></p><p><span style="font-size: 10pt
 ;">trÃ©ner:<span class="Apple-converted-space">&nbsp;</span></span><span st
 yle="font-size: 10pt;"><strong>Orlik Ilona</strong>,</span> <span style="te
 xt-decoration: underline;"><a href="partnereink/orlik-ilona-biologika.html"
 >http://biologika.hu/partnereink/orlik-ilona-biologika.html</a></span></p><
 p><span style="font-size: 10pt;">helyszÃ­n:<strong><span class="Apple-conve
 rted-space"> Szeged</span></strong></span><span style="font-size: 10pt;">, 
 szervezÃ©s alatt</span>, <span style="font-size: 10pt;">fÃ¼gg a lÃ©tszÃ¡mtÃ
 ³l - tovÃ¡bbi informÃ¡ciÃ³ e-mailben</span></p><p><span style="font-size: 1
 0pt;">idÅ‘tartam: <strong>4 nap</strong>, 2017. mÃ¡rcius 2-3; 9-10. <br /><
 /span></p><p><span style="font-size: 10pt;">ebÃ©dszÃ¼net: <strong>12-13</st
 rong></span><span style="font-size: 10pt;"> <strong>Ã³rÃ¡ig</strong></span>
 &nbsp;</p><p><span style="font-size: 10pt;">bontÃ¡si lehetÅ‘sÃ©g: nincs&nbs
 p;<br /></span></p><p><span style="font-size: 10pt;">elÅ‘feltÃ©tel:<span cl
 ass="Apple-converted-space">&nbsp;</span></span><span style="font-size: 10p
 t;"><a target="_blank" href="http://www.alapismeretek.biologika.hu">www.ala
 pismeretek.biologika.hu</a></span><span style="font-size: 10pt;"><span clas
 s="Apple-converted-space">&nbsp;</span>online, ingyenes elÅ‘adÃ¡s megtekint
 Ã©se legalÃ¡bb kÃ©tszer<br /></span></p><p><span style="font-size: 10pt;">r
 Ã©szvÃ©teli dÃ­j: (4 nap): <strong>40.000.-Ft/fÅ‘/4 nap <br /></strong></sp
 an></p><p><span style="font-size: 10pt;">jelentkezÃ©si hatÃ¡ridÅ‘:<strong> 
 2017. februÃ¡r 26.<br /></strong></span></p><p><span style="font-size: 10pt
 ;">KedvezmÃ©nyes tanfolyamdÃ­jak:</span></p><p><span style="font-size: 10pt
 ;">- 10% kedvezmÃ©ny a jelentkezÃ©si hatÃ¡ridÅ‘ig regisztrÃ¡lÃ³knak: <stron
 g>36.000Ft/fÅ‘/4 nap</strong><br />- 20% csoportkedvezmÃ©ny 4 fÅ‘ egyÃ¼tt j
 elentkezÃ©se esetÃ©n tehÃ¡t <strong>32.000.-Ft/fÅ‘/4 nap</strong><br />- 25
 % kedvezmÃ©ny</span> <span style="font-size: 10pt;">2 kÃ¶zeli, egy hÃ¡ztart
 Ã¡sban Ã©lÅ‘ csalÃ¡dtag ugyanazon tanfolyamra tÃ¶rtÃ©nÅ‘ jelentkezÃ©se eset
 Ã©n tehÃ¡t <strong>30.000.-Ft/fÅ‘/4 nap</strong></span><br /><span style="f
 ont-size: 10pt;">- 35% 60 Ã©v feletti korkedvezmÃ©ny: <strong>26.000.-Ft/fÅ
 ‘/4 nap</strong><br />- 50% kedvezmÃ©ny: az ismÃ©tlÅ‘knek: <strong>20.000 F
 t/4 nap</strong><br />- 100% 12-18 kÃ¶zÃ¶tti fiatalok rÃ©szÃ©re ingyenes a 
 tanfolyam.<br /><br />Az egyes kedvezmÃ©nyek nem vonhatÃ³k Ã¶ssze.<br />A f
 elsorolt dÃ­jak: nettÃ³ Ã¡rak.</span></p><p><span style="font-size: 10pt;">
 jelentkezÃ©s:<span class="Apple-converted-space">&nbsp;</span></span><b><sp
 an style="color: #800000;"><span style="font-size: 10pt;">Ã­rÃ¡sos elÅ‘regi
 sztrÃ¡ciÃ³ kÃ¶telezÅ‘</span></span></b><span style="font-size: 10pt;"><span
  class="Apple-converted-space">&nbsp;</span>az 
 <script language='JavaScri
 pt' type='text/javascript'>
 <!--
 var prefix = 'm&#97;&#105;lt&#111;:';
 v
 ar suffix = '';
 var attribs = '';
 var path = 'hr' + 'ef' + '=';
 var addy
 78380 = '&#105;c&#97;' + '&#64;';
 addy78380 = addy78380 + 'b&#105;&#111;l&
 #111;g&#105;k&#97;' + '&#46;' + 'h&#117;';
 document.write( '<a ' + path + 
 '\'' + prefix + addy78380 + suffix + '\'' + attribs + '>' );
 document.writ
 e( addy78380 );
 document.write( '<\/a>' );
 //-->
 </script><script langua
 ge='JavaScript' type='text/javascript'>
 <!--
 document.write( '<span style
 =\'display: none;\'>' );
 //-->
 </script>Ez az email cÃ­m vÃ©dett a spam r
 obotoktÃ³l, a megtekintÃ©sÃ©hez engedÃ©lyezni kell a Javascriptet.
 <script
  language='JavaScript' type='text/javascript'>
 <!--
 document.write( '</' 
 );
 document.write( 'span>' );
 //-->
 </script> e-mail cÃ­men</span></p><p
 ><span style="font-size: 10pt;">A tanfolyam cÃ©lja, hogy alapokat adjon a b
 iolÃ³giai termÃ©szettÃ¶rvÃ©nyek megismerÃ©sÃ©hez, a testben lezajlÃ³ folyam
 atok megÃ©rtÃ©sÃ©hez. </span><br /><span style="font-size: 10pt;">A biolÃ³g
 ia termÃ©szettÃ¶rvÃ©nyei hitrendszerÃ¼nktÅ‘l fÃ¼ggetlenÃ¼l mÅ±kÃ¶dnek, egyÃ
 ©nileg ellenÅ‘rizhetÅ‘ek akÃ¡r visszamenÅ‘leg is. </span><br /><span style=
 "font-size: 10pt;">A tanfolyami ismeretek elsajÃ¡tÃ­tÃ¡sa Ãºj rÃ¡lÃ¡tÃ¡st b
 iztosÃ­t a betegsÃ©gek helyes Ã©rtelmezÃ©sÃ©re. SegÃ­tsÃ©get nyÃºjt megalap
 ozott dÃ¶ntÃ©seket hozni az egyÃ©n szÃ¡mÃ¡ra sajÃ¡t egÃ©szsÃ©ge Ã©rdekÃ©ben
 . A Biologika ismeretÃ©nek egyik legnagyobb elÅ‘nye, hogy kÃ©pessÃ© vÃ¡lunk
  a komolyabb elvÃ¡ltozÃ¡sok kialakulÃ¡sÃ¡t megakadÃ¡lyozni, a mÃ¡r folyamat
 ban lÃ©vÅ‘ket a legÃ©sszerÅ±bben kezelni. </span><br /><span style="font-si
 ze: 10pt;">A tanfolyam nem gyÃ³gymÃ³d, nem gyÃ³gyÃ­t, nem kÃ©szÃ­t fel gyÃ³
 gyÃ­tÃ³ tevÃ©kenysÃ©g vÃ©gzÃ©sÃ©re. Az ismeretanyag az Ã¶nmagÃ¡Ã©rt felelÅ‘
 ssÃ©get vÃ¡llalÃ³ hÃ©tkÃ¶znapi embernek szÃ³l. Ennek hiÃ¡nya akÃ¡r az egÃ©s
 zsÃ©g megÅ‘rzÃ©sÃ©nek, helyreÃ¡llÃ­tÃ¡sÃ¡nak gÃ¡tjÃ¡vÃ¡ is vÃ¡lhat. MegÃ©rt
 eni a bennÃ¼nk zajlÃ³ Ã©rzelmi Ã©s testi folyamatokat egy Ãºj, minÅ‘sÃ©gibb
 , Ã¡ltalunk irÃ¡nyÃ­tott Ã©letvitel alapjÃ¡t jelentheti. Megszabadulni hied
 elmeinktÅ‘l, fÃ©lelmeinktÅ‘l, betegsÃ©gtudatunktÃ³l egy magunkkal cipelt te
 her letÃ©telÃ©t jelenti. </span><br /><span style="font-size: 10pt;">A tanf
 olyam nem csak testi szinten tÃ¡rja fel az elvÃ¡ltozÃ¡sokat, hanem megmutat
 ja lelki szinten is a kivÃ¡ltÃ³ okokat, Ã©rzelmi kilengÃ©seket.</span><br /
 ><span style="font-size: 10pt;">A trÃ©ning Barnai Roberto Ã¡ltal kÃ©szÃ­tet
 t Szerv Atlasz tudÃ¡sanyagÃ¡n alapul.</span><br /><span style="font-size: 1
 0pt;">&nbsp;</span></p><p><span style="font-size: 10pt;">A tanfolyam temati
 kÃ¡ja:</span><br /><strong><span style="font-size: 10pt;">1. nap</span></st
 rong><br /><span style="font-size: 10pt;">Az Ã¶t biolÃ³giai termÃ©szettÃ¶rv
 Ã©ny - Dr. Ryke Geerd Hammer munkÃ¡ssÃ¡ga</span><br /><span style="font-siz
 e: 10pt;">Barnai Roberto: Biologika Szerv Atlasz felÃ©pÃ­tÃ©se Ã©s hasznÃ¡l
 ata</span><br /><span style="font-size: 10pt;">Az agytÃ¶rzs vezÃ©relte miri
 gyszÃ¶vetes szervek elvÃ¡ltozÃ¡sai</span><br /><span style="font-size: 10pt
 ;">Az kÃ¶zÃ©pagy vezÃ©relte simaizomszÃ¶vetek elvÃ¡ltozÃ¡sai (miÃ³mÃ¡k) </s
 pan><br /><strong><span style="font-size: 10pt;">2. nap</span></strong><br 
 /><span style="font-size: 10pt;">A kisagy vezÃ©relte szervek elvÃ¡ltozÃ¡sai
  (hÃ¡rtyaszÃ¶vetek, bÅ‘rirha, tejmirigyek)</span><br /><span style="font-si
 ze: 10pt;">A velÅ‘Ã¡llomÃ¡ny vezÃ©relte szervek elvÃ¡ltozÃ¡sai Ã©s a valÃ³d
 i cisztÃ¡k</span><br /><span style="font-size: 10pt;">KÃ¶tÅ‘szÃ¶vetek, vÃ¡z
 rendszer</span><br /><span style="font-size: 10pt;">A szÃ­v elvÃ¡ltozÃ¡sai<
 /span><br /><span style="font-size: 10pt;">VÃ©r- Ã©s nyirokrendszer (leukÃ©
 mia)</span><br /><span style="font-size: 10pt;">Magas vÃ©rnyomÃ¡s (vesekÃ©r
 eg elvÃ¡ltozÃ¡sa)</span><br /><span style="font-size: 10pt;">Here Ã©s petef
 Ã©szekciszta</span><br /><strong><span style="font-size: 10pt;">3. nap</spa
 n></strong><br /><span style="font-size: 10pt;">A kÃ©regÃ¡llomÃ¡ny vezÃ©rel
 te szervek elvÃ¡ltozÃ¡sai</span><br /><span style="font-size: 10pt;">FÃ©rfi
 as Ã©s nÅ‘ies hormonÃ¡llapot</span><br /><span style="font-size: 10pt;">Fun
 kciÃ³-kimaradÃ¡sok, bÃ©nulÃ¡sok, cukorszint vÃ¡ltozÃ¡sok</span><br /><stron
 g><span style="font-size: 10pt;">4. nap</span></strong><br /><span style="f
 ont-size: 10pt;">MentÃ¡lis kÃ¼lÃ¶nprogramok</span><br /><span style="font-s
 ize: 10pt;">Hangulatzavarok Ã©s elmebajok - a leggyakoribb tÃ¼netek hÃ¡tter
 Ã©vel.</span><br /><span style="font-size: 10pt;">(MegzavarodottsÃ¡g, kÃ©ny
 szeres sÃ©rtegetÃ©s, Ã©rtÃ©kÃ­tÃ©leti zavarok, </span><br /><span style="fo
 nt-size: 10pt;">mÃ¡nia, depressziÃ³, skizofrÃ©nia, fÃ³biÃ¡k Ã©s paranoiÃ¡k.
 )</span><br /><span style="font-size: 10pt;">&nbsp;</span></p><p><span styl
 e="font-size: 10pt;">Tananyag: Biologika Szerv Atlasz</span><br /><span sty
 le="font-size: 10pt;">Roberto elÅ‘adÃ¡sainak prezentÃ¡ciÃ³s anyaga az Ãºj m
 edicina kÃ©zikÃ¶nyvÃ©vÃ© nÅ‘tte ki magÃ¡t. A Szerv Atlasz megvÃ¡sÃ¡rolhatÃ³
  a webshopban vagy a trÃ©ningen. A Szerv Atlasz jelenleg az egyetlen Ãºj me
 dicinÃ¡s kÃ©zikÃ¶nyv a vilÃ¡gon.</span></p><p><span style="font-size: 10pt;
 ">JelentkezÃ©skor add meg:</span><br /><span style="font-size: 10pt;">1.) a
  trÃ©ning nevÃ©t, helyszÃ­nÃ©t Ã©s idÅ‘pontjÃ¡t</span><br /><span style="fo
 nt-size: 10pt;">2.) pontos nevedet</span><br /><span style="font-size: 10pt
 ;">3.) mobil szÃ¡modat</span><br /><span style="font-size: 10pt;">4.) e-mai
 l cÃ­medet</span><br /><span style="font-size: 10pt;">5.) kedvezmÃ©ny alapj
 Ã¡t (ha jogosult vagy)</span><br /><span style="font-size: 10pt;"><br style
 ="font-size: 10pt;" /></span></p>
CONTACT:
 
 
 
 
 Ez az email cÃ­m vÃ©dett a spam robotoktÃ³l, a megtekintÃ©sÃ©hez engedÃ©lyezni kell a Javascriptet.
 
 
 , +36204838742

DTSTAMP:20260420T011044Z
DTSTART:20170302T090000Z
DTEND:20170302T160000Z
SEQUENCE:0
TRANSP:OPAQUE
END:VEVENT
END:VCALENDAR