BEGIN:VCALENDAR
VERSION:2.0
PRODID:-//jEvents 1.5 for Joomla//EN
BEGIN:VEVENT
CALSCALE:GREGORIAN
METHOD:PUBLISH

UID:d827927c63064a70fc8c445f630a735e
CATEGORIES:Ismeretterjesztő előadás
SUMMARY:ElekNoémi: Biologika (Új Medicina) Előadás (Budapest)
LOCATION:Budapest, szervezés alatt
DESCRIPTION;ENCODING=QUOTED-PRINTABLE:<p><span style="font-size: 10pt;"><span style="font-size: 12pt;"><strong>BI
 OLOGIKA (ÚJ MEDICINA) ISMERETTERJESZTŐ ELŐADÁS <br /></strong>MEDDŐSÉ
 G, NŐI NEMI SZERVEK BETEGSÉGEI<strong><br /><br /></strong><span style="f
 ont-size: 10pt;">Előadó: <strong>Elek Noémi, <a href="partnereink/elek-n
 oemi-ujmedicina-konzulensek.html">http://biologika.hu/partnereink/elek-noem
 i-ujmedicina-konzulensek.html</a></strong></span><span style="font-size: 10
 pt;"><span></span><br /></span></span>Dátum: 2017. február 03. 17:30 - 20
 :30<br /> <span style="font-size: 10pt;">Helyszín: <strong>Budapest</stron
 g>, szervezés alatt<br />Részvételi díj: 3.000,-Ft / fő<br />Jelentkez
 és: írásos előregisztráció kötelező a 
 <script language='JavaScrip
 t' type='text/javascript'>
 <!--
 var prefix = 'm&#97;&#105;lt&#111;:';
 va
 r suffix = '';
 var attribs = '';
 var path = 'hr' + 'ef' + '=';
 var addy5
 3709 = 'n&#111;&#101;m&#105;' + '&#64;';
 addy53709 = addy53709 + 'b&#105;&
 #111;l&#111;g&#105;k&#97;' + '&#46;' + 'h&#117;';
 document.write( '<a ' + 
 path + '\'' + prefix + addy53709 + suffix + '\'' + attribs + '>' );
 docume
 nt.write( addy53709 );
 document.write( '<\/a>' );
 //-->
 </script><script
  language='JavaScript' type='text/javascript'>
 <!--
 document.write( '<spa
 n style=\'display: none;\'>' );
 //-->
 </script>Ez az email cím védett a
  spam robotoktól, a megtekintéséhez engedélyezni kell a Javascriptet.
 
 <script language='JavaScript' type='text/javascript'>
 <!--
 document.write
 ( '</' );
 document.write( 'span>' );
 //-->
 </script> e-mail címen</span
 ><span style="font-size: 10pt;"><strong style="font-size: 10pt;"><br /></st
 rong></span></span><br /><span style="font-size: 10pt;"><b></b></span></p><
 p><span style="font-size: 10pt;">Az előadás célja a biológiai természe
 ttörvények megismerése, illetve ezek ismeretében egy új rálátást ny
 erni a testünkben zajló történetekre, elváltozásainkra, megérteni az
 ok kialakulásának okát, melynek ismeretében lehetőségünk nyílik vá
 ltoztatni rajtuk.</span><br /><span style="font-size: 10pt;">Ez alkalommal 
 a meddőség és a női nemi szervek elváltozásainak okait, biológiaiér
 telmét vizsgáljuk.</span></p><p><span style="font-size: 10pt;">Jelentkez
 skor add meg:</span></p><p><span style="font-size: 10pt;">1.) az előadás
  időpontját és helyszínét</span><br /><span style="font-size: 10pt;">2
 .) pontos nevedet</span><br /><span style="font-size: 10pt;">3.) mobil szá
 modat</span><br /><span style="font-size: 10pt;">4.) e-mail címedet</span>
 </p>
CONTACT:
 
 
 
 
 Ez az email cím védett a spam robotoktól, a megtekintéséhez engedélyezni kell a Javascriptet.
 
 
 ; +36703603980

DTSTAMP:20260420T075338Z
DTSTART:20170203T163000Z
DTEND:20170203T193000Z
SEQUENCE:0
TRANSP:OPAQUE
END:VEVENT
END:VCALENDAR