BEGIN:VCALENDAR
VERSION:2.0
PRODID:-//jEvents 1.5 for Joomla//EN
BEGIN:VEVENT
CALSCALE:GREGORIAN
METHOD:PUBLISH

UID:5e943435f66f1c9bfa03ee14d8e0d4b4
CATEGORIES:Nyilvános összejövetel
SUMMARY:AndocsiV: Biologika KLUB (Zalaegerszeg)
LOCATION:Zalaegerszeg, Mártírok u. 17.
DESCRIPTION;ENCODING=QUOTED-PRINTABLE:\n\nBIOLOGIKA (ÚJMEDICINA) KLUB ZALAEGERSZEG\n&nbsp;\n\n\ntémavezető: An
 docsi Valéria, http://biologika.hu/partnereink/andocsi-valeria.html\n\n\n\
 nidőpont: 2017. március 07. 18:00-20:00\n\n\nhelyszín: Zalaegerszeg, Má
 rtírok u. 17.\n\n\nrészvételi díj: 1.500.- Ft / fő\n\n\n\nJelentkezés
 kor add meg:\n\n1.) a klub időpontját\n2.) pontos nevedet\n3.) mobil szá
 modat\n4.) e-mail címedet\n
CONTACT:
 
 
 
 
 Ez az email cím védett a spam robotoktól, a megtekintéséhez engedélyezni kell a Javascriptet.
 
 
 

DTSTAMP:20260419T180406Z
DTSTART:20170307T170000Z
DTEND:20170307T190000Z
SEQUENCE:0
TRANSP:OPAQUE
END:VEVENT
END:VCALENDAR