BEGIN:VCALENDAR
VERSION:2.0
PRODID:-//jEvents 1.5 for Joomla//EN
BEGIN:VEVENT
CALSCALE:GREGORIAN
METHOD:PUBLISH

UID:91c50a4691b525a65b278bf5fb0dc4af
CATEGORIES:HaladÃ³ szeminÃ¡rium 
SUMMARY:CsorbaImelda: Biologika (Ãšj Medicina) HALADÃ“ tanfolyam 1/2 (Sopron)
LOCATION:Sopron, SzÃ­nhÃ¡z u. 13-15. ÃœgyvÃ©dek HÃ¡za
DESCRIPTION;ENCODING=QUOTED-PRINTABLE:\n\nBIOLOGIKA (ÃšJ MEDICINA) HALADÃ“ TANFOLYAM\n2 napos tanfolyam Sopronban
 \n\n\n&nbsp;\n\n\ntÃ©makÃ¶r: daganatok, sorvadÃ¡sok Ã©s mÃ¡s elvÃ¡ltozÃ¡sok
 , biolÃ³giai Ã©rtelmÃ¼k, cÃ©ljuk, rendeltetÃ©sÃ¼k Ã©s lefolyÃ¡suk.&nbsp;\n\
 n\nelnevezÃ©s: Biologika (Ãšj Medicina) HaladÃ³ trÃ©ning&nbsp;\n\n\ntrÃ©ner
 : Csorba Imelda, http://biologika.hu/partnereink/csorba-imelda-biologika-uj
 medicina-konzulens.html\n\n\nhelyszÃ­n: Sopron, SzÃ­nhÃ¡z u. 13-15. ÃœgyvÃ©
 dek HÃ¡za\n\n\nidÅ‘tartam: 2 nap, 2017. mÃ¡rcius 17-18.\n\n\nebÃ©dszÃ¼net: 
 12-13 Ã³rÃ¡ig&nbsp;\n\n\nkÃ©rdÃ©sek, vÃ¡laszok: 17-18 Ã³rÃ¡ig\n\n\n\n&nbsp;
 \n\n\nelÅ‘feltÃ©tel:&nbsp;5 biolÃ³giai termÃ©szettÃ¶rvÃ©ny&nbsp;online, ing
 yenes elÅ‘adÃ¡s megtekintÃ©se\n\n\nrÃ©szvÃ©teli dÃ­j: (2 nap): 10.000.-Ft/f
 Å‘/nap, \n\n\njelentkezÃ©s:&nbsp;Ã­rÃ¡sos elÅ‘regisztrÃ¡ciÃ³ kÃ¶telezÅ‘&nbs
 p;a&nbsp;leÃ­rÃ¡s aljÃ¡nÃ¡l megadott e-mail cÃ­men\n\n\njelentkezÃ©si hatÃ¡
 ridÅ‘: 2017. mÃ¡rcius 12.\n\n\n\nKedvezmÃ©nyes tanfolyamdÃ­jak:\n- 10% kedv
 ezmÃ©ny a jelentkezÃ©si hatÃ¡ridÅ‘ig jelentkezÃ©si lapot visszakÃ¼ldÅ‘knek 
 Ã©s a dÃ­jat eddig befizetÅ‘knek\n- 20% kedvezmÃ©ny 2 kÃ¶zeli, egy hÃ¡ztart
 Ã¡sban Ã©lÅ‘ csalÃ¡dtag ugyanazon tanfolyamra tÃ¶rtÃ©nÅ‘ jelentkezÃ©se eset
 Ã©n \n- 35% 60 Ã©v feletti korkedvezmÃ©ny: 6.500.-Ft/fÅ‘/1 nap\n- 100% 12-1
 8 kÃ¶zÃ¶tti fiatalok rÃ©szÃ©re ingyenes a tanfolyam \n\n\n\n&nbsp;\n\n\nAz 
 egyes kedvezmÃ©nyek nem vonhatÃ³k Ã¶ssze.\n jelentkezÃ©s:&nbsp;Ã­rÃ¡sban az
  alÃ¡bbi e-mail cÃ­men: 
 
 
 
 
 Ez az email cÃ­m vÃ©dett a spam robotoktÃ
 ³l, a megtekintÃ©sÃ©hez engedÃ©lyezni kell a Javascriptet.
 
 
 , minden to
 vÃ¡bbi informÃ¡ciÃ³t kÃ¼ldÃ¶k levÃ©lben ( jelentkezÃ©si lap, szÃ¡mlakiÃ¡llÃ
 ­tÃ¡s stb. ) \n\n\n A tanfolyam cÃ©lja, hogy alapokat adjon a biolÃ³giai te
 rmÃ©szettÃ¶rvÃ©nyek megismerÃ©sÃ©hez, a testben lezajlÃ³ folyamatok megÃ©rt
 Ã©sÃ©hez. \n A biolÃ³gia termÃ©szettÃ¶rvÃ©nyei hitrendszerÃ¼nktÅ‘l fÃ¼ggetl
 enÃ¼l mÅ±kÃ¶dnek, egyÃ©nileg ellenÅ‘rizhetÅ‘ek akÃ¡r visszamenÅ‘leg is. \n 
 A tanfolyami ismeretek elsajÃ¡tÃ­tÃ¡sa Ãºj rÃ¡lÃ¡tÃ¡st biztosÃ­t a betegsÃ©
 gek helyes Ã©rtelmezÃ©sÃ©re. SegÃ­tsÃ©get nyÃºjt megalapozott dÃ¶ntÃ©seket 
 hozni az egyÃ©n szÃ¡mÃ¡ra sajÃ¡t egÃ©szsÃ©ge Ã©rdekÃ©ben. A Biologika ismer
 etÃ©nek egyik legnagyobb elÅ‘nye, hogy kÃ©pessÃ© vÃ¡lunk a komolyabb elvÃ¡l
 tozÃ¡sok kialakulÃ¡sÃ¡t megakadÃ¡lyozni, a mÃ¡r folyamatban lÃ©vÅ‘ket a leg
 Ã©sszerÅ±bben kezelni. \n A tanfolyam nem gyÃ³gymÃ³d, nem gyÃ³gyÃ­t, nem kÃ
 ©szÃ­t fel gyÃ³gyÃ­tÃ³ tevÃ©kenysÃ©g vÃ©gzÃ©sÃ©re. Az ismeretanyag az Ã¶nma
 gÃ¡Ã©rt felelÅ‘ssÃ©get vÃ¡llalÃ³ hÃ©tkÃ¶znapi embernek szÃ³l. Ennek hiÃ¡nya
  akÃ¡r az egÃ©szsÃ©g megÅ‘rzÃ©sÃ©nek, helyreÃ¡llÃ­tÃ¡sÃ¡nak gÃ¡tjÃ¡vÃ¡ is v
 Ã¡lhat. MegÃ©rteni a bennÃ¼nk zajlÃ³ Ã©rzelmi Ã©s testi folyamatokat egy Ãº
 j, minÅ‘sÃ©gibb, Ã¡ltalunk irÃ¡nyÃ­tott Ã©letvitel alapjÃ¡t jelentheti. Meg
 szabadulni hiedelmeinktÅ‘l, fÃ©lelmeinktÅ‘l, betegsÃ©gtudatunktÃ³l egy magu
 nkkal cipelt teher letÃ©telÃ©t jelenti. \n A tanfolyam nem csak testi szint
 en tÃ¡rja fel az elvÃ¡ltozÃ¡sokat, hanem megmutatja lelki szinten is a kivÃ
 ¡ltÃ³ okokat, Ã©rzelmi kilengÃ©seket.\n A trÃ©ning Barnai Roberto Ã¡ltal kÃ
 ©szÃ­tett Szerv Atlasz tudÃ¡sanyagÃ¡n alapul. \n\n\n&nbsp;\n\n\n\nA tanfoly
 am tematikÃ¡ja:\n3. nap\nA kÃ©regÃ¡llomÃ¡ny vezÃ©relte szervek elvÃ¡ltozÃ¡s
 ai\nFÃ©rfias Ã©s nÅ‘ies hormonÃ¡llapot\nFunkciÃ³-kimaradÃ¡sok, bÃ©nulÃ¡sok,
  cukorszint vÃ¡ltozÃ¡sok\n4. nap\nMentÃ¡lis kÃ¼lÃ¶nprogramok\nHangulatzavar
 ok Ã©s elmebajok - a leggyakoribb tÃ¼netek hÃ¡tterÃ©vel.\n(MegzavarodottsÃ¡
 g, kÃ©nyszeres sÃ©rtegetÃ©s, Ã©rtÃ©kÃ­tÃ©leti zavarok, \nmÃ¡nia, depressziÃ
 ³, skizofrÃ©nia, fÃ³biÃ¡k Ã©s paranoiÃ¡k.)\n\nTananyag: Biologika Szerv Atl
 asz\n Roberto elÅ‘adÃ¡sainak prezentÃ¡ciÃ³s anyaga az Ãºj medicina kÃ©zikÃ¶
 nyvÃ©vÃ© nÅ‘tte ki magÃ¡t. A Szerv Atlasz megvÃ¡sÃ¡rolhatÃ³ a webshopban va
 gy a trÃ©ningen. A Szerv Atlasz jelenleg az egyetlen Ãºj medicinÃ¡s kÃ©zikÃ
 ¶nyv a vilÃ¡gon.\n\n\nJelentkezÃ©skor add meg:\n 1.) a trÃ©ning nevÃ©t, hel
 yszÃ­nÃ©t Ã©s idÅ‘pontjÃ¡t\n 2.) pontos nevedet\n 3.) mobil szÃ¡modat\n 4.)
  e-mail cÃ­medet\n 5.) kedvezmÃ©ny alapjÃ¡t (ha jogosult vagy)\nSopron, SzÃ
 ­nhÃ¡z u. 13-15. ÃœgyvÃ©dek HÃ¡za
CONTACT:
 
 
 
 
 Ez az email cÃ­m vÃ©dett a spam robotoktÃ³l, a megtekintÃ©sÃ©hez engedÃ©lyezni kell a Javascriptet.
 
 
  +36203287301; www.facebook.com/biologikasopron.hu

DTSTAMP:20260419T203733Z
DTSTART:20170317T080000Z
DTEND:20170317T160000Z
SEQUENCE:0
TRANSP:OPAQUE
END:VEVENT
END:VCALENDAR