BEGIN:VCALENDAR
VERSION:2.0
PRODID:-//jEvents 1.5 for Joomla//EN
BEGIN:VEVENT
CALSCALE:GREGORIAN
METHOD:PUBLISH

UID:c17d315ab75396aa1009919a0114e530
CATEGORIES:Haladó szeminárium 
SUMMARY:CsorbaImelda: Biologika (Új Medicina) HALADÓ tanfolyam 2/2 (Sopron)
LOCATION:Sopron, Színház u. 13-15. Ügyvédek Háza
DESCRIPTION;ENCODING=QUOTED-PRINTABLE:\n\nBIOLOGIKA (ÚJ MEDICINA) HALADÓ TANFOLYAM\n\n\n2 napos tanfolyam Sopro
 nban\n\n\n\n\n\n\ntémakör: daganatok, sorvadások és más elváltozások
 , biológiai értelmük, céljuk, rendeltetésük és lefolyásuk.&nbsp;\n\
 n\nelnevezés: Biologika (Új Medicina) Haladó tréning\n\n\nidőtartam: 2
  nap, 2017. március 17-18.\n\n\n\nFigyelem! Ez egy több napos tréning, t
 ovábbi információ az első napnál, ide kattintva.\n\n\n\n
CONTACT:
 
 
 
 
 Ez az email cím védett a spam robotoktól, a megtekintéséhez engedélyezni kell a Javascriptet.
 
 
  +36203287301; www.facebook.com/biologikasopron.hu

DTSTAMP:20260419T203702Z
DTSTART:20170318T080000Z
DTEND:20170318T160000Z
SEQUENCE:0
TRANSP:OPAQUE
END:VEVENT
END:VCALENDAR