BEGIN:VCALENDAR
VERSION:2.0
PRODID:-//jEvents 1.5 for Joomla//EN
BEGIN:VEVENT
CALSCALE:GREGORIAN
METHOD:PUBLISH

UID:bda6e178633e0d774c1c9645fa0cb065
CATEGORIES:Alap szeminÃ¡rium 
SUMMARY:CsorbaImelda: Biologika (Ãšj Medicina) ALAP tanfolyam 1/2 (Sopron)
LOCATION:Sopron, SzÃ­nhÃ¡z u. 13-15. ÃœgyvÃ©dek HÃ¡za
DESCRIPTION;ENCODING=QUOTED-PRINTABLE:\n\nBIOLOGIKA (ÃšJ MEDICINA) ALAP TANFOLYAM\n2 napos tanfolyam Sopronban\n\
 n\n&nbsp;\n\n\ntÃ©makÃ¶r: daganatok, sorvadÃ¡sok Ã©s mÃ¡s elvÃ¡ltozÃ¡sok, b
 iolÃ³giai Ã©rtelmÃ¼k, cÃ©ljuk, rendeltetÃ©sÃ¼k Ã©s lefolyÃ¡suk.&nbsp;\n\n\n
 elnevezÃ©s: Biologika (Ãšj Medicina)&nbsp;Alap trÃ©ning&nbsp;\n\n\ntrÃ©ner:
  Csorba Imelda, http://biologika.hu/partnereink/csorba-imelda-biologika-ujm
 edicina-konzulens.html\n\n\nhelyszÃ­n: Sopron, SzÃ­nhÃ¡z u. 13-15. ÃœgyvÃ©d
 ek HÃ¡za\n\n\nidÅ‘tartam: 2 nap, 2017. Ã¡prilis 14-15.\n\n\nebÃ©dszÃ¼net: 1
 2-13 Ã³rÃ¡ig&nbsp;\n\n\nkÃ©rdÃ©sek, vÃ¡laszok: 17-18 Ã³rÃ¡ig\n\n\n\n\nelÅ‘f
 eltÃ©tel:&nbsp;5 biolÃ³giai termÃ©szettÃ¶rvÃ©ny&nbsp;online, ingyenes elÅ‘a
 dÃ¡s megtekintÃ©se\n\n\nrÃ©szvÃ©teli dÃ­j: (2 nap): 10.000.-Ft/fÅ‘/nap, \n\
 n\njelentkezÃ©s:&nbsp;Ã­rÃ¡sos elÅ‘regisztrÃ¡ciÃ³ kÃ¶telezÅ‘&nbsp;a&nbsp;le
 Ã­rÃ¡s aljÃ¡nÃ¡l megadott e-mail cÃ­men\n\n\njelentkezÃ©si hatÃ¡ridÅ‘: 2017
 . Ã¡prilis 10.\n\n\n\nKedvezmÃ©nyes tanfolyamdÃ­jak:\n- 10% kedvezmÃ©ny a j
 elentkezÃ©si hatÃ¡ridÅ‘ig jelentkezÃ©si lapot visszakÃ¼ldÅ‘knek Ã©s a dÃ­ja
 t eddig befizetÅ‘knek\n- 20% kedvezmÃ©ny 2 kÃ¶zeli, egy hÃ¡ztartÃ¡sban Ã©lÅ
 ‘ csalÃ¡dtag ugyanazon tanfolyamra tÃ¶rtÃ©nÅ‘ jelentkezÃ©se esetÃ©n \n- 35%
  60 Ã©v feletti korkedvezmÃ©ny: 6.500.-Ft/fÅ‘/1 nap\n- 100% 12-18 kÃ¶zÃ¶tti
  fiatalok rÃ©szÃ©re ingyenes a tanfolyam \n\n\n\n&nbsp;\n\n\nAz egyes kedve
 zmÃ©nyek nem vonhatÃ³k Ã¶ssze.\n jelentkezÃ©s:&nbsp;Ã­rÃ¡sban az alÃ¡bbi e-
 mail cÃ­men: 
 
 
 
 
 Ez az email cÃ­m vÃ©dett a spam robotoktÃ³l, a megte
 kintÃ©sÃ©hez engedÃ©lyezni kell a Javascriptet.
 
 
 , minden tovÃ¡bbi info
 rmÃ¡ciÃ³t kÃ¼ldÃ¶k levÃ©lben ( jelentkezÃ©si lap, szÃ¡mlakiÃ¡llÃ­tÃ¡s stb. 
 ) \n\n\n A tanfolyam cÃ©lja, hogy alapokat adjon a biolÃ³giai termÃ©szettÃ¶
 rvÃ©nyek megismerÃ©sÃ©hez, a testben lezajlÃ³ folyamatok megÃ©rtÃ©sÃ©hez. \
 n A biolÃ³gia termÃ©szettÃ¶rvÃ©nyei hitrendszerÃ¼nktÅ‘l fÃ¼ggetlenÃ¼l mÅ±kÃ
 ¶dnek, egyÃ©nileg ellenÅ‘rizhetÅ‘ek akÃ¡r visszamenÅ‘leg is. \n A tanfolyam
 i ismeretek elsajÃ¡tÃ­tÃ¡sa Ãºj rÃ¡lÃ¡tÃ¡st biztosÃ­t a betegsÃ©gek helyes 
 Ã©rtelmezÃ©sÃ©re. SegÃ­tsÃ©get nyÃºjt megalapozott dÃ¶ntÃ©seket hozni az eg
 yÃ©n szÃ¡mÃ¡ra sajÃ¡t egÃ©szsÃ©ge Ã©rdekÃ©ben. A Biologika ismeretÃ©nek egy
 ik legnagyobb elÅ‘nye, hogy kÃ©pessÃ© vÃ¡lunk a komolyabb elvÃ¡ltozÃ¡sok ki
 alakulÃ¡sÃ¡t megakadÃ¡lyozni, a mÃ¡r folyamatban lÃ©vÅ‘ket a legÃ©sszerÅ±bb
 en kezelni. \n A tanfolyam nem gyÃ³gymÃ³d, nem gyÃ³gyÃ­t, nem kÃ©szÃ­t fel 
 gyÃ³gyÃ­tÃ³ tevÃ©kenysÃ©g vÃ©gzÃ©sÃ©re. Az ismeretanyag az Ã¶nmagÃ¡Ã©rt fel
 elÅ‘ssÃ©get vÃ¡llalÃ³ hÃ©tkÃ¶znapi embernek szÃ³l. Ennek hiÃ¡nya akÃ¡r az e
 gÃ©szsÃ©g megÅ‘rzÃ©sÃ©nek, helyreÃ¡llÃ­tÃ¡sÃ¡nak gÃ¡tjÃ¡vÃ¡ is vÃ¡lhat. Meg
 Ã©rteni a bennÃ¼nk zajlÃ³ Ã©rzelmi Ã©s testi folyamatokat egy Ãºj, minÅ‘sÃ©
 gibb, Ã¡ltalunk irÃ¡nyÃ­tott Ã©letvitel alapjÃ¡t jelentheti. Megszabadulni 
 hiedelmeinktÅ‘l, fÃ©lelmeinktÅ‘l, betegsÃ©gtudatunktÃ³l egy magunkkal cipel
 t teher letÃ©telÃ©t jelenti. \n A tanfolyam nem csak testi szinten tÃ¡rja f
 el az elvÃ¡ltozÃ¡sokat, hanem megmutatja lelki szinten is a kivÃ¡ltÃ³ okoka
 t, Ã©rzelmi kilengÃ©seket.\n A trÃ©ning Barnai Roberto Ã¡ltal kÃ©szÃ­tett S
 zerv Atlasz tudÃ¡sanyagÃ¡n alapul. \n\n\n&nbsp;\n\n\n\nA tanfolyam tematikÃ
 ¡ja:\n 1. nap\n Az Ã¶t biolÃ³giai termÃ©szettÃ¶rvÃ©ny - Dr. Ryke Geerd Hamm
 er munkÃ¡ssÃ¡ga\n Barnai Roberto: Biologika Szerv Atlasz felÃ©pÃ­tÃ©se Ã©s 
 hasznÃ¡lata\n Az agytÃ¶rzs vezÃ©relte mirigyszÃ¶vetes szervek elvÃ¡ltozÃ¡sa
 i\n Az kÃ¶zÃ©pagy vezÃ©relte simaizomszÃ¶vetek elvÃ¡ltozÃ¡sai (miÃ³mÃ¡k) \n
  2. nap\n A kisagy vezÃ©relte szervek elvÃ¡ltozÃ¡sai (hÃ¡rtyaszÃ¶vetek, bÅ‘
 rirha, tejmirigyek)\n A velÅ‘Ã¡llomÃ¡ny vezÃ©relte szervek elvÃ¡ltozÃ¡sai Ã
 ©s a valÃ³di cisztÃ¡k\n KÃ¶tÅ‘szÃ¶vetek, vÃ¡zrendszer\n A szÃ­v elvÃ¡ltozÃ¡
 sai\n VÃ©r- Ã©s nyirokrendszer (leukÃ©mia)\n Magas vÃ©rnyomÃ¡s (vesekÃ©reg 
 elvÃ¡ltozÃ¡sa)\n Here Ã©s petefÃ©szekciszta\n\n\nTananyag: Biologika Szerv 
 Atlasz\n Roberto elÅ‘adÃ¡sainak prezentÃ¡ciÃ³s anyaga az Ãºj medicina kÃ©zi
 kÃ¶nyvÃ©vÃ© nÅ‘tte ki magÃ¡t. A Szerv Atlasz megvÃ¡sÃ¡rolhatÃ³ a webshopban
  vagy a trÃ©ningen. A Szerv Atlasz jelenleg az egyetlen Ãºj medicinÃ¡s kÃ©z
 ikÃ¶nyv a vilÃ¡gon.\nJelentkezÃ©skor add meg:\n 1.) a trÃ©ning nevÃ©t, hely
 szÃ­nÃ©t Ã©s idÅ‘pontjÃ¡t\n 2.) pontos nevedet\n 3.) mobil szÃ¡modat\n 4.) 
 e-mail cÃ­medet\n 5.) kedvezmÃ©ny alapjÃ¡t (ha jogosult vagy)\nSopron, SzÃ­
 nhÃ¡z u. 13-15. ÃœgyvÃ©dek HÃ¡za
CONTACT:
 
 
 
 
 Ez az email cÃ­m vÃ©dett a spam robotoktÃ³l, a megtekintÃ©sÃ©hez engedÃ©lyezni kell a Javascriptet.
 
 
  +36203287301; www.facebook.com/biologikasopron.hu

DTSTAMP:20260419T132019Z
DTSTART:20170414T070000Z
DTEND:20170414T150000Z
SEQUENCE:0
TRANSP:OPAQUE
END:VEVENT
END:VCALENDAR