BEGIN:VCALENDAR
VERSION:2.0
PRODID:-//jEvents 1.5 for Joomla//EN
BEGIN:VEVENT
CALSCALE:GREGORIAN
METHOD:PUBLISH

UID:83fc945bce08350cc7feadd93a6236fc
CATEGORIES:Alap szeminárium 
SUMMARY:CsorbaImelda: Biologika (Új Medicina) ALAP tanfolyam 2/2 (Sopron)
LOCATION:Sopron, Színház u. 13-15. Ügyvédek Háza
DESCRIPTION;ENCODING=QUOTED-PRINTABLE:\n\nBIOLOGIKA (ÚJ MEDICINA) ALAP TANFOLYAM\n\n\n2 napos tanfolyam Sopronba
 n\n\n\n\n\n\n\ntémakör: daganatok, sorvadások és más elváltozások, b
 iológiai értelmük, céljuk, rendeltetésük és lefolyásuk.&nbsp;\n\n\n
 elnevezés: Biologika (Új Medicina) Alap tréning\n\n\nidőtartam: 2 nap, 
 2017. április 14-15.\n\n\n\nFigyelem! Ez egy több napos tréning, tovább
 i információ az első napnál, ide kattintva.\n\n\n\n
CONTACT:
 
 
 
 
 Ez az email cím védett a spam robotoktól, a megtekintéséhez engedélyezni kell a Javascriptet.
 
 
  +36203287301; www.facebook.com/biologikasopron.hu

DTSTAMP:20260419T171607Z
DTSTART:20170415T070000Z
DTEND:20170415T150000Z
SEQUENCE:0
TRANSP:OPAQUE
END:VEVENT
END:VCALENDAR