BEGIN:VCALENDAR
VERSION:2.0
PRODID:-//jEvents 1.5 for Joomla//EN
BEGIN:VEVENT
CALSCALE:GREGORIAN
METHOD:PUBLISH

UID:c2f2005a0cb88db128b833752e925d55
CATEGORIES:Egyéb kapcsolódó tanfolyam
SUMMARY:OrlikI: Biologika Kismamáknak és Nőknek (Szeged)
LOCATION:Szeged, Nemes takács u. 8.
DESCRIPTION;ENCODING=QUOTED-PRINTABLE:\n\n&nbsp;BIOLOGIKA KISMAMÁKNAK ÉS NŐKNEK\nMinitanfolyam Szegeden\n\n\n&
 nbsp;\n\n\ntémakör: Biologika (újmedicina) előadás, elváltozástan, a
  megbetegedések mechanizmusa\n\n\n\ntréner:&nbsp;Orlik Ilona, http://biol
 ogika.hu/partnereink/orlik-ilona-biologika.html\n\n\nhelyszín: Szeged, Nem
 es takács u. 8.\n\n\ndátum: 2017. február 11. \n\n\n\nebédszünet: nem 
 tartunk, hozz magadnak harapnivalót. Kávé és tea van.\n \n\n\nkérdése
 k, válaszok: 17-18 óráig \n\nelőfeltétel:&nbsp;www.alapismeretek.biolo
 gika.hu&nbsp;online, ingyenes előadás megtekintése legalább kétszer\n\
 n\n\nrészvételi díj (nettó): 8.000.-Ft / fő \n\n\n\njelentkezési hat
 ridő: 2017. február 6.\n\n\n\n\njelentkezés:&nbsp;írásos előregisztr
 áció kötelező&nbsp;az 
 
 
 
 
 Ez az email cím védett a spam robotok
 tól, a megtekintéséhez engedélyezni kell a Javascriptet.
 
 
  e-mail c
 ímen\n\n\n\nLeírás, tematika:\n\n\nAz élet továbbadása természetes f
 olyamat. Maga az életben maradás is természetes alkalmazkodási folyamat
  eredménye, melynek logikáját az öt biológiai természettörvény tár
 ja fel. Az előadáson a női test szöveti elváltozásait és az azokhoz 
 társítható, bekapcsoló érzelmeket tekintjük át.\n– Rövid ismertet
 ő az öt biológiai természettörvényről\n– Az anyaméh szerepe: befo
 gadni, megtartani, kihordani az utódot\nHogyan segítik ezt a folyamatot s
 zöveteink?\n– A női mell szerepe: “táplálni fészkem lakóit”\nN
 hány elváltozásról biologikusan:\n– meddőség\n– húgyúti gyulla
 dás\n– aranyér\n– cukorbetegség\n– HPV\n– magas vérnyomás \n
  ödémásodás\n\n\n\nAz előadás alapja: Biologika Szerv Atlasz Roberto
  előadásainak prezentációs anyaga az új medicina kézikönyvévé nőt
 te ki magát. A Szerv Atlasz megvásárolható a webshopban vagy a tréning
 en. A Szerv Atlasz jelenleg az egyetlen új medicinás kézikönyv a világ
 on.\n\n\n\nJelentkezéskor add meg:\n\n\n1.) a tréning nevét, helyszíné
 t és időpontját\n2.) pontos nevedet\n3.) mobil számodat\n4.) e-mail cí
 medet\n5.) kedvezmény alapját (ha jogosult vagy)\n\n
CONTACT:
 
 
 
 
 Ez az email cím védett a spam robotoktól, a megtekintéséhez engedélyezni kell a Javascriptet.
 
 
 , +36204838742

DTSTAMP:20260420T075011Z
DTSTART:20170211T120000Z
DTEND:20170211T170000Z
SEQUENCE:0
TRANSP:OPAQUE
END:VEVENT
END:VCALENDAR