BEGIN:VCALENDAR
VERSION:2.0
PRODID:-//jEvents 1.5 for Joomla//EN
BEGIN:VEVENT
CALSCALE:GREGORIAN
METHOD:PUBLISH

UID:d98146b2b9ea0bcdd4ede2d491b1529a
CATEGORIES:Alap szeminÃ¡rium 
SUMMARY:CsorbaImelda: Biologika (Ãšj Medicina) ALAP tanfolyam 1/2 (Sopron)
LOCATION:Sopron, SzÃ­nhÃ¡z u. 13-15. ÃœgyvÃ©dek HÃ¡za
DESCRIPTION;ENCODING=QUOTED-PRINTABLE:<p><b><span style="font-size: 12pt;">BIOLOGIKA (ÃšJ MEDICINA) ALAP TANFOLYA
 M<br />2 napos<span class="Apple-converted-space"> </span>tanfolyam<span cl
 ass="Apple-converted-space"> </span></span></b><b><span style="font-size: 1
 2pt;"><span style="color: #003366;">Sopronban</span></span></b></p><p><b><s
 pan style="font-size: 12pt;">&nbsp;</span></b></p><p><span style="font-size
 : 10pt;">tÃ©makÃ¶r: daganatok, sorvadÃ¡sok Ã©s mÃ¡s elvÃ¡ltozÃ¡sok, biolÃ³g
 iai Ã©rtelmÃ¼k, cÃ©ljuk, rendeltetÃ©sÃ¼k Ã©s lefolyÃ¡suk.&nbsp;</span></p><
 p><span style="font-size: 10pt;">elnevezÃ©s: Biologika (Ãšj Medicina)<span 
 class="Apple-converted-space">&nbsp;</span>Alap <span class="Apple-converte
 d-space"></span>trÃ©ning</span>&nbsp;</p><p><span style="font-size: 10pt;">
 trÃ©ner:<span class="Apple-converted-space"> <strong>Csorba Imelda,</strong
 ></span></span><a href="partnereink/csorba-imelda-biologika-ujmedicina-konz
 ulens.html" target="_blank"><span style="font-size: 10pt;"> http://biologik
 a.hu/partnereink/csorba-imelda-biologika-ujmedicina-konzulens.html</span></
 a></p><p><span style="font-size: 10pt;">helyszÃ­n:<strong><span class="Appl
 e-converted-space"> Sopron</span></strong></span><span style="font-size: 10
 pt;">, SzÃ­nhÃ¡z u. 13-15. ÃœgyvÃ©dek HÃ¡za</span><span style="font-size: 1
 0pt;"></span></p><p><span style="font-size: 10pt;">idÅ‘tartam: <strong>2 na
 p</strong>, 2017. mÃ¡jus 19-20.</span></p><p><span style="font-size: 10pt;"
 >ebÃ©dszÃ¼net: <strong>12-13</strong></span><span style="font-size: 10pt;">
 <strong></strong> <strong>Ã³rÃ¡ig</strong></span>&nbsp;</p><p><span style="
 font-size: 10pt;">kÃ©rdÃ©sek, vÃ¡laszok: <strong>17</strong>-<strong>18</st
 rong> <strong>Ã³rÃ¡ig</strong><br /></span></p><p>&nbsp;</p><p><span style=
 "font-size: 10pt;">elÅ‘feltÃ©tel:<span class="Apple-converted-space">&nbsp;
 </span></span><b><a href="http://eloadas.biologika.hu" target="_blank" styl
 e="color: #1155cc;"><span style="font-size: 10pt;">5 biolÃ³giai termÃ©szett
 Ã¶rvÃ©ny</span></a></b><span style="font-size: 10pt;"><span class="Apple-co
 nverted-space">&nbsp;</span>online, ingyenes elÅ‘adÃ¡s megtekintÃ©se</span>
 </p><p><span style="font-size: 10pt;">rÃ©szvÃ©teli dÃ­j: (2 nap): <strong>1
 0.000.-Ft/fÅ‘/nap</strong>, </span></p><p><span style="font-size: 10pt;">je
 lentkezÃ©s:<span class="Apple-converted-space">&nbsp;</span></span><b><span
  style="color: #800000;"><span style="font-size: 10pt;">Ã­rÃ¡sos elÅ‘regisz
 trÃ¡ciÃ³ kÃ¶telezÅ‘</span></span></b><span style="font-size: 10pt;"><span c
 lass="Apple-converted-space">&nbsp;</span>a<span class="Apple-converted-spa
 ce">&nbsp;</span>leÃ­rÃ¡s aljÃ¡nÃ¡l megadott e-mail cÃ­men</span></p><p><sp
 an style="font-size: 10pt;">jelentkezÃ©si hatÃ¡ridÅ‘: <strong>2017. mÃ¡jus 
 15.</strong><br /></span></p><p><span style="font-size: 10pt;"><strong>Kedv
 ezmÃ©nyes tanfolyamdÃ­jak:</strong><br />- 10% kedvezmÃ©ny a jelentkezÃ©si 
 hatÃ¡ridÅ‘ig jelentkezÃ©si lapot visszakÃ¼ldÅ‘knek Ã©s a dÃ­jat eddig befiz
 etÅ‘knek<br />- 20% kedvezmÃ©ny 2 kÃ¶zeli, egy hÃ¡ztartÃ¡sban Ã©lÅ‘ csalÃ¡d
 tag ugyanazon tanfolyamra tÃ¶rtÃ©nÅ‘ jelentkezÃ©se esetÃ©n <br />- 35% 60 Ã
 ©v feletti korkedvezmÃ©ny: 6.500.-Ft/fÅ‘/1 nap<br />- 100% 12-18 kÃ¶zÃ¶tti 
 fiatalok rÃ©szÃ©re ingyenes a tanfolyam <br /></span></p><!--[if gte mso 9]
 ><xml> <w:WordDocument>  <w:View>Normal</w:View>  <w:Zoom>0</w:Zoom>  <w:Tr
 ackMoves/>  <w:TrackFormatting/>  <w:HyphenationZone>21</w:HyphenationZone>
   <w:PunctuationKerning/>  <w:ValidateAgainstSchemas/>  <w:SaveIfXMLInvalid
 >false</w:SaveIfXMLInvalid>  <w:IgnoreMixedContent>false</w:IgnoreMixedCont
 ent>  <w:AlwaysShowPlaceholderText>false</w:AlwaysShowPlaceholderText>  <w:
 DoNotPromoteQF/>  <w:LidThemeOther>HU</w:LidThemeOther>  <w:LidThemeAsian>X
 -NONE</w:LidThemeAsian>  <w:LidThemeComplexScript>X-NONE</w:LidThemeComplex
 Script>  <w:Compatibility>   <w:BreakWrappedTables/>   <w:SnapToGridInCell/
 >   <w:WrapTextWithPunct/>   <w:UseAsianBreakRules/>   <w:DontGrowAutofit/>
    <w:SplitPgBreakAndParaMark/>   <w:DontVertAlignCellWithSp/>   <w:DontBre
 akConstrainedForcedTables/>   <w:DontVertAlignInTxbx/>   <w:Word11KerningPa
 irs/>   <w:CachedColBalance/>  </w:Compatibility>  <w:BrowserLevel>Microsof
 tInternetExplorer4</w:BrowserLevel>  <m:mathPr>   <m:mathFont m:val="Cambri
 a Math"/>   <m:brkBin m:val="before"/>   <m:brkBinSub m:val="&#45;-"/>   <m
 :smallFrac m:val="off"/>   <m:dispDef/>   <m:lMargin m:val="0"/>   <m:rMarg
 in m:val="0"/>   <m:defJc m:val="centerGroup"/>   <m:wrapIndent m:val="1440
 "/>   <m:intLim m:val="subSup"/>   <m:naryLim m:val="undOvr"/>  </m:mathPr>
 </w:WordDocument></xml><![endif]--><p>&nbsp;</p><p><span style="font-size: 
 10.0pt;">Az egyes kedvezmÃ©nyek nem vonhatÃ³k Ã¶ssze.<br /> jelentkezÃ©s:<s
 pan class="apple-converted-space">&nbsp;</span><b><span style="color: maroo
 n;">Ã­rÃ¡sban az alÃ¡bbi e-mail cÃ­men: 
 <script language='JavaScript' typ
 e='text/javascript'>
 <!--
 var prefix = 'm&#97;&#105;lt&#111;:';
 var suff
 ix = '';
 var attribs = '';
 var path = 'hr' + 'ef' + '=';
 var addy12302 =
  'b&#105;&#111;l&#111;g&#105;k&#97;s&#111;pr&#111;n' + '&#64;';
 addy12302 
 = addy12302 + 'gm&#97;&#105;l' + '&#46;' + 'c&#111;m';
 document.write( '<a
  ' + path + '\'' + prefix + addy12302 + suffix + '\'' + attribs + '>' );
 d
 ocument.write( addy12302 );
 document.write( '<\/a>' );
 //-->
 </script><s
 cript language='JavaScript' type='text/javascript'>
 <!--
 document.write( 
 '<span style=\'display: none;\'>' );
 //-->
 </script>Ez az email cÃ­m vÃ©d
 ett a spam robotoktÃ³l, a megtekintÃ©sÃ©hez engedÃ©lyezni kell a Javascript
 et.
 <script language='JavaScript' type='text/javascript'>
 <!--
 document.
 write( '</' );
 document.write( 'span>' );
 //-->
 </script>, minden tovÃ¡b
 bi informÃ¡ciÃ³t kÃ¼ldÃ¶k levÃ©lben ( jelentkezÃ©si lap, szÃ¡mlakiÃ¡llÃ­tÃ¡
 s stb. ) </span></b></span></p><p><span style="font-size: 10pt;"> A tanfoly
 am cÃ©lja, hogy alapokat adjon a biolÃ³giai termÃ©szettÃ¶rvÃ©nyek megismerÃ
 ©sÃ©hez, a testben lezajlÃ³ folyamatok megÃ©rtÃ©sÃ©hez. <br /> A biolÃ³gia 
 termÃ©szettÃ¶rvÃ©nyei hitrendszerÃ¼nktÅ‘l fÃ¼ggetlenÃ¼l mÅ±kÃ¶dnek, e</span
 ><span style="font-size: 10pt;">gyÃ©nileg ellenÅ‘rizhetÅ‘ek akÃ¡r visszamen
 Å‘leg is. </span><span style="font-size: 10pt;"><br /> A tanfolyami ismeret
 ek elsajÃ¡tÃ­tÃ¡sa Ãºj rÃ¡lÃ¡tÃ¡st biztosÃ­t a betegsÃ©gek helyes Ã©rtelmez
 Ã©sÃ©re. SegÃ­tsÃ©get nyÃºjt megalapozott dÃ¶ntÃ©seket hozni az egyÃ©n szÃ¡
 mÃ¡ra sajÃ¡t egÃ©szsÃ©ge Ã©rdekÃ©ben. A Biologika ismeretÃ©nek egyik legnag
 yobb elÅ‘nye, hogy kÃ©pessÃ© vÃ¡lunk a komolyabb elvÃ¡ltozÃ¡sok kialakulÃ¡s
 Ã¡t megakadÃ¡lyozni, a mÃ¡r folyamatban lÃ©vÅ‘ket a legÃ©sszerÅ±bben kezeln
 i. <br /> A tanfolyam nem gyÃ³gymÃ³d, nem gyÃ³gyÃ­t, nem kÃ©szÃ­t fel gyÃ³g
 yÃ­tÃ³ tevÃ©kenysÃ©g vÃ©gzÃ©sÃ©re. Az ismeretanyag az Ã¶nmagÃ¡Ã©rt felelÅ‘s
 sÃ©get vÃ¡llalÃ³ hÃ©tkÃ¶znapi embernek szÃ³l. Ennek hiÃ¡nya akÃ¡r az egÃ©sz
 sÃ©g megÅ‘rzÃ©sÃ©nek, helyreÃ¡llÃ­tÃ¡sÃ¡nak gÃ¡tjÃ¡vÃ¡ is vÃ¡lhat. MegÃ©rte
 ni a bennÃ¼nk zajlÃ³ Ã©rzelmi Ã©s testi folyamatokat egy Ãºj, minÅ‘sÃ©gibb,
  Ã¡ltalunk irÃ¡nyÃ­tott Ã©letvitel alapjÃ¡t jelentheti. Megszabadulni hiede
 lmeinktÅ‘l, fÃ©lelmeinktÅ‘l, betegsÃ©gtudatunktÃ³l egy magunkkal cipelt teh
 er letÃ©telÃ©t jelenti. <br /> A tanfolyam nem csak testi szinten tÃ¡rja fe
 l az elvÃ¡ltozÃ¡sokat, hanem megmutatja lelki szinten is a kivÃ¡ltÃ³ okokat
 , Ã©rzelmi kilengÃ©seket.<br /> </span><span style="font-size: 10pt;">A trÃ
 ©ning Barnai Roberto Ã¡ltal kÃ©szÃ­tett Szerv Atlasz tudÃ¡sanyagÃ¡n alapul.
 </span><span style="font-family: times new roman,times; font-size: 10pt;"><
 br style="mso-special-character: line-break;" /> </span></p><p>&nbsp;</p><p
 ><span style="font-size: 10.0pt;">A tanfolyam tematikÃ¡ja:</span><br /> <st
 rong><span style="font-size: 10.0pt;">1. nap</span></strong><br /> <span st
 yle="font-size: 10.0pt;">Az Ã¶t biolÃ³giai termÃ©szettÃ¶rvÃ©ny - Dr. Ryke G
 eerd Hammer munkÃ¡ssÃ¡ga</span><br /> <span style="font-size: 10.0pt;">Barn
 ai Roberto: Biologika Szerv Atlasz felÃ©pÃ­tÃ©se Ã©s hasznÃ¡lata</span><br 
 /> <span style="font-size: 10.0pt;">Az agytÃ¶rzs vezÃ©relte mirigyszÃ¶vetes
  szervek elvÃ¡ltozÃ¡sai</span><br /> <span style="font-size: 10.0pt;">Az kÃ
 ¶zÃ©pagy vezÃ©relte simaizomszÃ¶vetek elvÃ¡ltozÃ¡sai (miÃ³mÃ¡k) </span><br 
 /> <strong><span style="font-size: 10.0pt;">2. nap</span></strong><br /> <s
 pan style="font-size: 10.0pt;">A kisagy vezÃ©relte szervek elvÃ¡ltozÃ¡sai (
 hÃ¡rtyaszÃ¶vetek, bÅ‘rirha, tejmirigyek)</span><br /> <span style="font-siz
 e: 10.0pt;">A velÅ‘Ã¡llomÃ¡ny vezÃ©relte szervek elvÃ¡ltozÃ¡sai Ã©s a valÃ³
 di cisztÃ¡k</span><br /> <span style="font-size: 10.0pt;">KÃ¶tÅ‘szÃ¶vetek, 
 vÃ¡zrendszer</span><br /> <span style="font-size: 10.0pt;">A szÃ­v elvÃ¡lto
 zÃ¡sai</span><br /> <span style="font-size: 10.0pt;">VÃ©r- Ã©s nyirokrendsz
 er (leukÃ©mia)</span><br /> <span style="font-size: 10.0pt;">Magas vÃ©rnyom
 Ã¡s (vesekÃ©reg elvÃ¡ltozÃ¡sa)</span><br /> <span style="font-size: 10.0pt;
 ">Here Ã©s petefÃ©szekciszta</span></p><p><span style="font-size: 10.0pt;">
 Tananyag: Biologika Szerv Atlasz</span><br /> <span style="font-size: 10.0p
 t;">Roberto elÅ‘adÃ¡sainak prezentÃ¡ciÃ³s anyaga az Ãºj medicina kÃ©zikÃ¶ny
 vÃ©vÃ© nÅ‘tte ki magÃ¡t. A Szerv Atlasz megvÃ¡sÃ¡rolhatÃ³ a webshopban vagy
  a trÃ©ningen. A Szerv Atlasz jelenleg az egyetlen Ãºj medicinÃ¡s kÃ©zikÃ¶n
 yv a vilÃ¡gon.</span></p><p style="margin-bottom: 12.0pt;"><span style="fon
 t-size: 10.0pt;">JelentkezÃ©skor add meg:</span><br /> <span style="font-si
 ze: 10.0pt;">1.) a trÃ©ning nevÃ©t, helyszÃ­nÃ©t Ã©s idÅ‘pontjÃ¡t</span><br
  /> <span style="font-size: 10.0pt;">2.) pontos nevedet</span><br /> <span 
 style="font-size: 10.0pt;">3.) mobil szÃ¡modat</span><br /> <span style="fo
 nt-size: 10.0pt;">4.) e-mail cÃ­medet</span><br /> <span style="font-size: 
 10.0pt;">5.) kedvezmÃ©ny alapjÃ¡t (ha jogosult vagy)</span></p><div id="_mc
 ePaste" class="mcePaste" data-mce-bogus="1" style="position: absolute; left
 : -40px; top: 153px; width: 1px; height: 1px; overflow: hidden;"><span clas
 s="apple-converted-space"><b><span style="font-size: 10.0pt; font-family: '
 Times New Roman','serif'; mso-fareast-font-family: 'Times New Roman'; mso-a
 nsi-language: HU; mso-fareast-language: HU; mso-bidi-language: AR-SA;">Sopr
 on, SzÃ­nhÃ¡z u. 13-15. ÃœgyvÃ©dek HÃ¡za</span></b></span><!--[if gte mso 9
 ]><xml> <w:LatentStyles DefLockedState="false" DefUnhideWhenUsed="true"  De
 fSemiHidden="true" DefQFormat="false" DefPriority="99"  LatentStyleCount="2
 67">  <w:LsdException Locked="false" Priority="0" SemiHidden="false"   Unhi
 deWhenUsed="false" QFormat="true" Name="Normal"/>  <w:LsdException Locked="
 false" Priority="9" SemiHidden="false"   UnhideWhenUsed="false" QFormat="tr
 ue" Name="heading 1"/>  <w:LsdException Locked="false" Priority="9" QFormat
 ="true" Name="heading 2"/>  <w:LsdException Locked="false" Priority="9" QFo
 rmat="true" Name="heading 3"/>  <w:LsdException Locked="false" Priority="9"
  QFormat="true" Name="heading 4"/>  <w:LsdException Locked="false" Priority
 ="9" QFormat="true" Name="heading 5"/>  <w:LsdException Locked="false" Prio
 rity="9" QFormat="true" Name="heading 6"/>  <w:LsdException Locked="false" 
 Priority="9" QFormat="true" Name="heading 7"/>  <w:LsdException Locked="fal
 se" Priority="9" QFormat="true" Name="heading 8"/>  <w:LsdException Locked=
 "false" Priority="9" QFormat="true" Name="heading 9"/>  <w:LsdException Loc
 ked="false" Priority="39" Name="toc 1"/>  <w:LsdException Locked="false" Pr
 iority="39" Name="toc 2"/>  <w:LsdException Locked="false" Priority="39" Na
 me="toc 3"/>  <w:LsdException Locked="false" Priority="39" Name="toc 4"/>  
 <w:LsdException Locked="false" Priority="39" Name="toc 5"/>  <w:LsdExceptio
 n Locked="false" Priority="39" Name="toc 6"/>  <w:LsdException Locked="fals
 e" Priority="39" Name="toc 7"/>  <w:LsdException Locked="false" Priority="3
 9" Name="toc 8"/>  <w:LsdException Locked="false" Priority="39" Name="toc 9
 "/>  <w:LsdException Locked="false" Priority="35" QFormat="true" Name="capt
 ion"/>  <w:LsdException Locked="false" Priority="10" SemiHidden="false"   U
 nhideWhenUsed="false" QFormat="true" Name="Title"/>  <w:LsdException Locked
 ="false" Priority="1" Name="Default Paragraph Font"/>  <w:LsdException Lock
 ed="false" Priority="11" SemiHidden="false"   UnhideWhenUsed="false" QForma
 t="true" Name="Subtitle"/>  <w:LsdException Locked="false" Priority="22" Se
 miHidden="false"   UnhideWhenUsed="false" QFormat="true" Name="Strong"/>  <
 w:LsdException Locked="false" Priority="20" SemiHidden="false"   UnhideWhen
 Used="false" QFormat="true" Name="Emphasis"/>  <w:LsdException Locked="fals
 e" Priority="59" SemiHidden="false"   UnhideWhenUsed="false" Name="Table Gr
 id"/>  <w:LsdException Locked="false" UnhideWhenUsed="false" Name="Placehol
 der Text"/>  <w:LsdException Locked="false" Priority="1" SemiHidden="false"
    UnhideWhenUsed="false" QFormat="true" Name="No Spacing"/>  <w:LsdExcepti
 on Locked="false" Priority="60" SemiHidden="false"   UnhideWhenUsed="false"
  Name="Light Shading"/>  <w:LsdException Locked="false" Priority="61" SemiH
 idden="false"   UnhideWhenUsed="false" Name="Light List"/>  <w:LsdException
  Locked="false" Priority="62" SemiHidden="false"   UnhideWhenUsed="false" N
 ame="Light Grid"/>  <w:LsdException Locked="false" Priority="63" SemiHidden
 ="false"   UnhideWhenUsed="false" Name="Medium Shading 1"/>  <w:LsdExceptio
 n Locked="false" Priority="64" SemiHidden="false"   UnhideWhenUsed="false" 
 Name="Medium Shading 2"/>  <w:LsdException Locked="false" Priority="65" Sem
 iHidden="false"   UnhideWhenUsed="false" Name="Medium List 1"/>  <w:LsdExce
 ption Locked="false" Priority="66" SemiHidden="false"   UnhideWhenUsed="fal
 se" Name="Medium List 2"/>  <w:LsdException Locked="false" Priority="67" Se
 miHidden="false"   UnhideWhenUsed="false" Name="Medium Grid 1"/>  <w:LsdExc
 eption Locked="false" Priority="68" SemiHidden="false"   UnhideWhenUsed="fa
 lse" Name="Medium Grid 2"/>  <w:LsdException Locked="false" Priority="69" S
 emiHidden="false"   UnhideWhenUsed="false" Name="Medium Grid 3"/>  <w:LsdEx
 ception Locked="false" Priority="70" SemiHidden="false"   UnhideWhenUsed="f
 alse" Name="Dark List"/>  <w:LsdException Locked="false" Priority="71" Semi
 Hidden="false"   UnhideWhenUsed="false" Name="Colorful Shading"/>  <w:LsdEx
 ception Locked="false" Priority="72" SemiHidden="false"   UnhideWhenUsed="f
 alse" Name="Colorful List"/>  <w:LsdException Locked="false" Priority="73" 
 SemiHidden="false"   UnhideWhenUsed="false" Name="Colorful Grid"/>  <w:LsdE
 xception Locked="false" Priority="60" SemiHidden="false"   UnhideWhenUsed="
 false" Name="Light Shading Accent 1"/>  <w:LsdException Locked="false" Prio
 rity="61" SemiHidden="false"   UnhideWhenUsed="false" Name="Light List Acce
 nt 1"/>  <w:LsdException Locked="false" Priority="62" SemiHidden="false"   
 UnhideWhenUsed="false" Name="Light Grid Accent 1"/>  <w:LsdException Locked
 ="false" Priority="63" SemiHidden="false"   UnhideWhenUsed="false" Name="Me
 dium Shading 1 Accent 1"/>  <w:LsdException Locked="false" Priority="64" Se
 miHidden="false"   UnhideWhenUsed="false" Name="Medium Shading 2 Accent 1"/
 >  <w:LsdException Locked="false" Priority="65" SemiHidden="false"   Unhide
 WhenUsed="false" Name="Medium List 1 Accent 1"/>  <w:LsdException Locked="f
 alse" UnhideWhenUsed="false" Name="Revision"/>  <w:LsdException Locked="fal
 se" Priority="34" SemiHidden="false"   UnhideWhenUsed="false" QFormat="true
 " Name="List Paragraph"/>  <w:LsdException Locked="false" Priority="29" Sem
 iHidden="false"   UnhideWhenUsed="false" QFormat="true" Name="Quote"/>  <w:
 LsdException Locked="false" Priority="30" SemiHidden="false"   UnhideWhenUs
 ed="false" QFormat="true" Name="Intense Quote"/>  <w:LsdException Locked="f
 alse" Priority="66" SemiHidden="false"   UnhideWhenUsed="false" Name="Mediu
 m List 2 Accent 1"/>  <w:LsdException Locked="false" Priority="67" SemiHidd
 en="false"   UnhideWhenUsed="false" Name="Medium Grid 1 Accent 1"/>  <w:Lsd
 Exception Locked="false" Priority="68" SemiHidden="false"   UnhideWhenUsed=
 "false" Name="Medium Grid 2 Accent 1"/>  <w:LsdException Locked="false" Pri
 ority="69" SemiHidden="false"   UnhideWhenUsed="false" Name="Medium Grid 3 
 Accent 1"/>  <w:LsdException Locked="false" Priority="70" SemiHidden="false
 "   UnhideWhenUsed="false" Name="Dark List Accent 1"/>  <w:LsdException Loc
 ked="false" Priority="71" SemiHidden="false"   UnhideWhenUsed="false" Name=
 "Colorful Shading Accent 1"/>  <w:LsdException Locked="false" Priority="72"
  SemiHidden="false"   UnhideWhenUsed="false" Name="Colorful List Accent 1"/
 >  <w:LsdException Locked="false" Priority="73" SemiHidden="false"   Unhide
 WhenUsed="false" Name="Colorful Grid Accent 1"/>  <w:LsdException Locked="f
 alse" Priority="60" SemiHidden="false"   UnhideWhenUsed="false" Name="Light
  Shading Accent 2"/>  <w:LsdException Locked="false" Priority="61" SemiHidd
 en="false"   UnhideWhenUsed="false" Name="Light List Accent 2"/>  <w:LsdExc
 eption Locked="false" Priority="62" SemiHidden="false"   UnhideWhenUsed="fa
 lse" Name="Light Grid Accent 2"/>  <w:LsdException Locked="false" Priority=
 "63" SemiHidden="false"   UnhideWhenUsed="false" Name="Medium Shading 1 Acc
 ent 2"/>  <w:LsdException Locked="false" Priority="64" SemiHidden="false"  
  UnhideWhenUsed="false" Name="Medium Shading 2 Accent 2"/>  <w:LsdException
  Locked="false" Priority="65" SemiHidden="false"   UnhideWhenUsed="false" N
 ame="Medium List 1 Accent 2"/>  <w:LsdException Locked="false" Priority="66
 " SemiHidden="false"   UnhideWhenUsed="false" Name="Medium List 2 Accent 2"
 />  <w:LsdException Locked="false" Priority="67" SemiHidden="false"   Unhid
 eWhenUsed="false" Name="Medium Grid 1 Accent 2"/>  <w:LsdException Locked="
 false" Priority="68" SemiHidden="false"   UnhideWhenUsed="false" Name="Medi
 um Grid 2 Accent 2"/>  <w:LsdException Locked="false" Priority="69" SemiHid
 den="false"   UnhideWhenUsed="false" Name="Medium Grid 3 Accent 2"/>  <w:Ls
 dException Locked="false" Priority="70" SemiHidden="false"   UnhideWhenUsed
 ="false" Name="Dark List Accent 2"/>  <w:LsdException Locked="false" Priori
 ty="71" SemiHidden="false"   UnhideWhenUsed="false" Name="Colorful Shading 
 Accent 2"/>  <w:LsdException Locked="false" Priority="72" SemiHidden="false
 "   UnhideWhenUsed="false" Name="Colorful List Accent 2"/>  <w:LsdException
  Locked="false" Priority="73" SemiHidden="false"   UnhideWhenUsed="false" N
 ame="Colorful Grid Accent 2"/>  <w:LsdException Locked="false" Priority="60
 " SemiHidden="false"   UnhideWhenUsed="false" Name="Light Shading Accent 3"
 />  <w:LsdException Locked="false" Priority="61" SemiHidden="false"   Unhid
 eWhenUsed="false" Name="Light List Accent 3"/>  <w:LsdException Locked="fal
 se" Priority="62" SemiHidden="false"   UnhideWhenUsed="false" Name="Light G
 rid Accent 3"/>  <w:LsdException Locked="false" Priority="63" SemiHidden="f
 alse"   UnhideWhenUsed="false" Name="Medium Shading 1 Accent 3"/>  <w:LsdEx
 ception Locked="false" Priority="64" SemiHidden="false"   UnhideWhenUsed="f
 alse" Name="Medium Shading 2 Accent 3"/>  <w:LsdException Locked="false" Pr
 iority="65" SemiHidden="false"   UnhideWhenUsed="false" Name="Medium List 1
  Accent 3"/>  <w:LsdException Locked="false" Priority="66" SemiHidden="fals
 e"   UnhideWhenUsed="false" Name="Medium List 2 Accent 3"/>  <w:LsdExceptio
 n Locked="false" Priority="67" SemiHidden="false"   UnhideWhenUsed="false" 
 Name="Medium Grid 1 Accent 3"/>  <w:LsdException Locked="false" Priority="6
 8" SemiHidden="false"   UnhideWhenUsed="false" Name="Medium Grid 2 Accent 3
 "/>  <w:LsdException Locked="false" Priority="69" SemiHidden="false"   Unhi
 deWhenUsed="false" Name="Medium Grid 3 Accent 3"/>  <w:LsdException Locked=
 "false" Priority="70" SemiHidden="false"   UnhideWhenUsed="false" Name="Dar
 k List Accent 3"/>  <w:LsdException Locked="false" Priority="71" SemiHidden
 ="false"   UnhideWhenUsed="false" Name="Colorful Shading Accent 3"/>  <w:Ls
 dException Locked="false" Priority="72" SemiHidden="false"   UnhideWhenUsed
 ="false" Name="Colorful List Accent 3"/>  <w:LsdException Locked="false" Pr
 iority="73" SemiHidden="false"   UnhideWhenUsed="false" Name="Colorful Grid
  Accent 3"/>  <w:LsdException Locked="false" Priority="60" SemiHidden="fals
 e"   UnhideWhenUsed="false" Name="Light Shading Accent 4"/>  <w:LsdExceptio
 n Locked="false" Priority="61" SemiHidden="false"   UnhideWhenUsed="false" 
 Name="Light List Accent 4"/>  <w:LsdException Locked="false" Priority="62" 
 SemiHidden="false"   UnhideWhenUsed="false" Name="Light Grid Accent 4"/>  <
 w:LsdException Locked="false" Priority="63" SemiHidden="false"   UnhideWhen
 Used="false" Name="Medium Shading 1 Accent 4"/>  <w:LsdException Locked="fa
 lse" Priority="64" SemiHidden="false"   UnhideWhenUsed="false" Name="Medium
  Shading 2 Accent 4"/>  <w:LsdException Locked="false" Priority="65" SemiHi
 dden="false"   UnhideWhenUsed="false" Name="Medium List 1 Accent 4"/>  <w:L
 sdException Locked="false" Priority="66" SemiHidden="false"   UnhideWhenUse
 d="false" Name="Medium List 2 Accent 4"/>  <w:LsdException Locked="false" P
 riority="67" SemiHidden="false"   UnhideWhenUsed="false" Name="Medium Grid 
 1 Accent 4"/>  <w:LsdException Locked="false" Priority="68" SemiHidden="fal
 se"   UnhideWhenUsed="false" Name="Medium Grid 2 Accent 4"/>  <w:LsdExcepti
 on Locked="false" Priority="69" SemiHidden="false"   UnhideWhenUsed="false"
  Name="Medium Grid 3 Accent 4"/>  <w:LsdException Locked="false" Priority="
 70" SemiHidden="false"   UnhideWhenUsed="false" Name="Dark List Accent 4"/>
   <w:LsdException Locked="false" Priority="71" SemiHidden="false"   UnhideW
 henUsed="false" Name="Colorful Shading Accent 4"/>  <w:LsdException Locked=
 "false" Priority="72" SemiHidden="false"   UnhideWhenUsed="false" Name="Col
 orful List Accent 4"/>  <w:LsdException Locked="false" Priority="73" SemiHi
 dden="false"   UnhideWhenUsed="false" Name="Colorful Grid Accent 4"/>  <w:L
 sdException Locked="false" Priority="60" SemiHidden="false"   UnhideWhenUse
 d="false" Name="Light Shading Accent 5"/>  <w:LsdException Locked="false" P
 riority="61" SemiHidden="false"   UnhideWhenUsed="false" Name="Light List A
 ccent 5"/>  <w:LsdException Locked="false" Priority="62" SemiHidden="false"
    UnhideWhenUsed="false" Name="Light Grid Accent 5"/>  <w:LsdException Loc
 ked="false" Priority="63" SemiHidden="false"   UnhideWhenUsed="false" Name=
 "Medium Shading 1 Accent 5"/>  <w:LsdException Locked="false" Priority="64"
  SemiHidden="false"   UnhideWhenUsed="false" Name="Medium Shading 2 Accent 
 5"/>  <w:LsdException Locked="false" Priority="65" SemiHidden="false"   Unh
 ideWhenUsed="false" Name="Medium List 1 Accent 5"/>  <w:LsdException Locked
 ="false" Priority="66" SemiHidden="false"   UnhideWhenUsed="false" Name="Me
 dium List 2 Accent 5"/>  <w:LsdException Locked="false" Priority="67" SemiH
 idden="false"   UnhideWhenUsed="false" Name="Medium Grid 1 Accent 5"/>  <w:
 LsdException Locked="false" Priority="68" SemiHidden="false"   UnhideWhenUs
 ed="false" Name="Medium Grid 2 Accent 5"/>  <w:LsdException Locked="false" 
 Priority="69" SemiHidden="false"   UnhideWhenUsed="false" Name="Medium Grid
  3 Accent 5"/>  <w:LsdException Locked="false" Priority="70" SemiHidden="fa
 lse"   UnhideWhenUsed="false" Name="Dark List Accent 5"/>  <w:LsdException 
 Locked="false" Priority="71" SemiHidden="false"   UnhideWhenUsed="false" Na
 me="Colorful Shading Accent 5"/>  <w:LsdException Locked="false" Priority="
 72" SemiHidden="false"   UnhideWhenUsed="false" Name="Colorful List Accent 
 5"/>  <w:LsdException Locked="false" Priority="73" SemiHidden="false"   Unh
 ideWhenUsed="false" Name="Colorful Grid Accent 5"/>  <w:LsdException Locked
 ="false" Priority="60" SemiHidden="false"   UnhideWhenUsed="false" Name="Li
 ght Shading Accent 6"/>  <w:LsdException Locked="false" Priority="61" SemiH
 idden="false"   UnhideWhenUsed="false" Name="Light List Accent 6"/>  <w:Lsd
 Exception Locked="false" Priority="62" SemiHidden="false"   UnhideWhenUsed=
 "false" Name="Light Grid Accent 6"/>  <w:LsdException Locked="false" Priori
 ty="63" SemiHidden="false"   UnhideWhenUsed="false" Name="Medium Shading 1 
 Accent 6"/>  <w:LsdException Locked="false" Priority="64" SemiHidden="false
 "   UnhideWhenUsed="false" Name="Medium Shading 2 Accent 6"/>  <w:LsdExcept
 ion Locked="false" Priority="65" SemiHidden="false"   UnhideWhenUsed="false
 " Name="Medium List 1 Accent 6"/>  <w:LsdException Locked="false" Priority=
 "66" SemiHidden="false"   UnhideWhenUsed="false" Name="Medium List 2 Accent
  6"/>  <w:LsdException Locked="false" Priority="67" SemiHidden="false"   Un
 hideWhenUsed="false" Name="Medium Grid 1 Accent 6"/>  <w:LsdException Locke
 d="false" Priority="68" SemiHidden="false"   UnhideWhenUsed="false" Name="M
 edium Grid 2 Accent 6"/>  <w:LsdException Locked="false" Priority="69" Semi
 Hidden="false"   UnhideWhenUsed="false" Name="Medium Grid 3 Accent 6"/>  <w
 :LsdException Locked="false" Priority="70" SemiHidden="false"   UnhideWhenU
 sed="false" Name="Dark List Accent 6"/>  <w:LsdException Locked="false" Pri
 ority="71" SemiHidden="false"   UnhideWhenUsed="false" Name="Colorful Shadi
 ng Accent 6"/>  <w:LsdException Locked="false" Priority="72" SemiHidden="fa
 lse"   UnhideWhenUsed="false" Name="Colorful List Accent 6"/>  <w:LsdExcept
 ion Locked="false" Priority="73" SemiHidden="false"   UnhideWhenUsed="false
 " Name="Colorful Grid Accent 6"/>  <w:LsdException Locked="false" Priority=
 "19" SemiHidden="false"   UnhideWhenUsed="false" QFormat="true" Name="Subtl
 e Emphasis"/>  <w:LsdException Locked="false" Priority="21" SemiHidden="fal
 se"   UnhideWhenUsed="false" QFormat="true" Name="Intense Emphasis"/>  <w:L
 sdException Locked="false" Priority="31" SemiHidden="false"   UnhideWhenUse
 d="false" QFormat="true" Name="Subtle Reference"/>  <w:LsdException Locked=
 "false" Priority="32" SemiHidden="false"   UnhideWhenUsed="false" QFormat="
 true" Name="Intense Reference"/>  <w:LsdException Locked="false" Priority="
 33" SemiHidden="false"   UnhideWhenUsed="false" QFormat="true" Name="Book T
 itle"/>  <w:LsdException Locked="false" Priority="37" Name="Bibliography"/>
   <w:LsdException Locked="false" Priority="39" QFormat="true" Name="TOC Hea
 ding"/> </w:LatentStyles></xml><![endif]--><!--[if gte mso 10]><![endif]-->
 </div>
CONTACT:
 
 
 
 
 Ez az email cÃ­m vÃ©dett a spam robotoktÃ³l, a megtekintÃ©sÃ©hez engedÃ©lyezni kell a Javascriptet.
 
 
  +36203287301; www.facebook.com/biologikasopron.hu

DTSTAMP:20260419T121518Z
DTSTART:20170519T070000Z
DTEND:20170519T150000Z
SEQUENCE:0
TRANSP:OPAQUE
END:VEVENT
END:VCALENDAR