BEGIN:VCALENDAR
VERSION:2.0
PRODID:-//jEvents 1.5 for Joomla//EN
BEGIN:VEVENT
CALSCALE:GREGORIAN
METHOD:PUBLISH

UID:b9fd2ef99dffc740ad55b871535b1ba9
CATEGORIES:HaladÃ³ szeminÃ¡rium 
SUMMARY:CsorbaImelda: Biologika (Ãšj Medicina) HALADÃ“ tanfolyam 1/2 (Sopron)
LOCATION:Sopron, SzÃ­nhÃ¡z u. 13-15. ÃœgyvÃ©dek HÃ¡za
DESCRIPTION;ENCODING=QUOTED-PRINTABLE:<p><b><span style="font-size: 12pt;">BIOLOGIKA (ÃšJ MEDICINA) HALADÃ“ TANFO
 LYAM<br />2 napos<span class="Apple-converted-space"> </span>tanfolyam<span
  class="Apple-converted-space"> </span></span></b><b><span style="font-size
 : 12pt;"><span style="color: #003366;">Sopronban</span></span></b></p><p><b
 ><span style="font-size: 12pt;">&nbsp;</span></b></p><p><span style="font-s
 ize: 10pt;">tÃ©makÃ¶r: daganatok, sorvadÃ¡sok Ã©s mÃ¡s elvÃ¡ltozÃ¡sok, biol
 Ã³giai Ã©rtelmÃ¼k, cÃ©ljuk, rendeltetÃ©sÃ¼k Ã©s lefolyÃ¡suk.&nbsp;</span></
 p><p><span style="font-size: 10pt;">elnevezÃ©s: Biologika (Ãšj Medicina)<sp
 an class="Apple-converted-space"> </span>HaladÃ³ <span class="Apple-convert
 ed-space"></span>trÃ©ning</span>&nbsp;</p><p><span style="font-size: 10pt;"
 >trÃ©ner:<span class="Apple-converted-space"> <strong>Csorba Imelda,</stron
 g></span></span><a href="partnereink/csorba-imelda-biologika-ujmedicina-kon
 zulens.html" target="_blank"><span style="font-size: 10pt;"> http://biologi
 ka.hu/partnereink/csorba-imelda-biologika-ujmedicina-konzulens.html</span><
 /a></p><p><span style="font-size: 10pt;">helyszÃ­n:<strong><span class="App
 le-converted-space"> Sopron</span></strong></span><span style="font-size: 1
 0pt;">, SzÃ­nhÃ¡z u. 13-15. ÃœgyvÃ©dek HÃ¡za</span><span style="font-size: 
 10pt;"></span></p><p><span style="font-size: 10pt;">idÅ‘tartam: <strong>2 n
 ap</strong>, 2017. jÃºnius 16-17.</span></p><p><span style="font-size: 10pt
 ;">ebÃ©dszÃ¼net: <strong>12-13</strong></span><span style="font-size: 10pt;
 "><strong></strong> <strong>Ã³rÃ¡ig</strong></span>&nbsp;</p><p><span style
 ="font-size: 10pt;">kÃ©rdÃ©sek, vÃ¡laszok: <strong>17</strong>-<strong>18</
 strong> <strong>Ã³rÃ¡ig</strong><br /></span></p><p><br style="font-size: 1
 0pt;" />&nbsp;</p><p><span style="font-size: 10pt;">elÅ‘feltÃ©tel:<span cla
 ss="Apple-converted-space">&nbsp;</span></span><b><a href="http://eloadas.b
 iologika.hu" target="_blank" style="color: #1155cc;"><span style="font-size
 : 10pt;">5 biolÃ³giai termÃ©szettÃ¶rvÃ©ny</span></a></b><span style="font-s
 ize: 10pt;"><span class="Apple-converted-space">&nbsp;</span>online, ingyen
 es elÅ‘adÃ¡s megtekintÃ©se</span></p><p><span style="font-size: 10pt;">rÃ©s
 zvÃ©teli dÃ­j: (2 nap): <strong>10.000.-Ft/fÅ‘/nap</strong>, </span></p><p>
 <span style="font-size: 10pt;">jelentkezÃ©s:<span class="Apple-converted-sp
 ace">&nbsp;</span></span><b><span style="color: #800000;"><span style="font
 -size: 10pt;">Ã­rÃ¡sos elÅ‘regisztrÃ¡ciÃ³ kÃ¶telezÅ‘</span></span></b><span
  style="font-size: 10pt;"><span class="Apple-converted-space">&nbsp;</span>
 a<span class="Apple-converted-space">&nbsp;</span>leÃ­rÃ¡s aljÃ¡nÃ¡l megado
 tt e-mail cÃ­men</span></p><p><span style="font-size: 10pt;">jelentkezÃ©si 
 hatÃ¡ridÅ‘: <strong>2017. jÃºnius 12.</strong><br /></span></p><p><span sty
 le="font-size: 10pt;"><strong>KedvezmÃ©nyes tanfolyamdÃ­jak:</strong><br />
 - 10% kedvezmÃ©ny a jelentkezÃ©si hatÃ¡ridÅ‘ig jelentkezÃ©si lapot visszakÃ
 ¼ldÅ‘knek Ã©s a dÃ­jat eddig befizetÅ‘knek<br />- 20% kedvezmÃ©ny 2 kÃ¶zeli
 , egy hÃ¡ztartÃ¡sban Ã©lÅ‘ csalÃ¡dtag ugyanazon tanfolyamra tÃ¶rtÃ©nÅ‘ jele
 ntkezÃ©se esetÃ©n <br />- 35% 60 Ã©v feletti korkedvezmÃ©ny: 6.500.-Ft/fÅ‘/
 1 nap<br />- 100% 12-18 kÃ¶zÃ¶tti fiatalok rÃ©szÃ©re ingyenes a tanfolyam <
 br /></span></p><!--[if gte mso 9]><xml> <w:WordDocument>  <w:View>Normal</
 w:View>  <w:Zoom>0</w:Zoom>  <w:TrackMoves/>  <w:TrackFormatting/>  <w:Hyph
 enationZone>21</w:HyphenationZone>  <w:PunctuationKerning/>  <w:ValidateAga
 instSchemas/>  <w:SaveIfXMLInvalid>false</w:SaveIfXMLInvalid>  <w:IgnoreMix
 edContent>false</w:IgnoreMixedContent>  <w:AlwaysShowPlaceholderText>false<
 /w:AlwaysShowPlaceholderText>  <w:DoNotPromoteQF/>  <w:LidThemeOther>HU</w:
 LidThemeOther>  <w:LidThemeAsian>X-NONE</w:LidThemeAsian>  <w:LidThemeCompl
 exScript>X-NONE</w:LidThemeComplexScript>  <w:Compatibility>   <w:BreakWrap
 pedTables/>   <w:SnapToGridInCell/>   <w:WrapTextWithPunct/>   <w:UseAsianB
 reakRules/>   <w:DontGrowAutofit/>   <w:SplitPgBreakAndParaMark/>   <w:Dont
 VertAlignCellWithSp/>   <w:DontBreakConstrainedForcedTables/>   <w:DontVert
 AlignInTxbx/>   <w:Word11KerningPairs/>   <w:CachedColBalance/>  </w:Compat
 ibility>  <w:BrowserLevel>MicrosoftInternetExplorer4</w:BrowserLevel>  <m:m
 athPr>   <m:mathFont m:val="Cambria Math"/>   <m:brkBin m:val="before"/>   
 <m:brkBinSub m:val="&#45;-"/>   <m:smallFrac m:val="off"/>   <m:dispDef/>  
  <m:lMargin m:val="0"/>   <m:rMargin m:val="0"/>   <m:defJc m:val="centerGr
 oup"/>   <m:wrapIndent m:val="1440"/>   <m:intLim m:val="subSup"/>   <m:nar
 yLim m:val="undOvr"/>  </m:mathPr></w:WordDocument></xml><![endif]--><p>&nb
 sp;</p><p><span style="font-size: 10.0pt;">Az egyes kedvezmÃ©nyek nem vonha
 tÃ³k Ã¶ssze.<br /> jelentkezÃ©s:<span class="apple-converted-space">&nbsp;<
 /span><b><span style="color: maroon;">Ã­rÃ¡sban az alÃ¡bbi e-mail cÃ­men: 

  <script language='JavaScript' type='text/javascript'>
 <!--
 var prefix = 
 'm&#97;&#105;lt&#111;:';
 var suffix = '';
 var attribs = '';
 var path = '
 hr' + 'ef' + '=';
 var addy14851 = 'b&#105;&#111;l&#111;g&#105;k&#97;s&#111
 ;pr&#111;n' + '&#64;';
 addy14851 = addy14851 + 'gm&#97;&#105;l' + '&#46;' 
 + 'c&#111;m';
 document.write( '<a ' + path + '\'' + prefix + addy14851 + s
 uffix + '\'' + attribs + '>' );
 document.write( addy14851 );
 document.wri
 te( '<\/a>' );
 //-->
 </script><script language='JavaScript' type='text/ja
 vascript'>
 <!--
 document.write( '<span style=\'display: none;\'>' );
 //-
 ->
 </script>Ez az email cÃ­m vÃ©dett a spam robotoktÃ³l, a megtekintÃ©sÃ©h
 ez engedÃ©lyezni kell a Javascriptet.
 <script language='JavaScript' type='
 text/javascript'>
 <!--
 document.write( '</' );
 document.write( 'span>' )
 ;
 //-->
 </script>, minden tovÃ¡bbi informÃ¡ciÃ³t kÃ¼ldÃ¶k levÃ©lben ( jel
 entkezÃ©si lap, szÃ¡mlakiÃ¡llÃ­tÃ¡s stb. ) </span></b></span></p><p><span s
 tyle="font-size: 10pt;"> A tanfolyam cÃ©lja, hogy alapokat adjon a biolÃ³gi
 ai termÃ©szettÃ¶rvÃ©nyek megismerÃ©sÃ©hez, a testben lezajlÃ³ folyamatok me
 gÃ©rtÃ©sÃ©hez. <br /> A biolÃ³gia termÃ©szettÃ¶rvÃ©nyei hitrendszerÃ¼nktÅ‘l
  fÃ¼ggetlenÃ¼l mÅ±kÃ¶dnek, e</span><span style="font-size: 10pt;">gyÃ©nileg
  ellenÅ‘rizhetÅ‘ek akÃ¡r visszamenÅ‘leg is. </span><span style="font-size: 
 10pt;"><br /> A tanfolyami ismeretek elsajÃ¡tÃ­tÃ¡sa Ãºj rÃ¡lÃ¡tÃ¡st biztos
 Ã­t a betegsÃ©gek helyes Ã©rtelmezÃ©sÃ©re. SegÃ­tsÃ©get nyÃºjt megalapozott
  dÃ¶ntÃ©seket hozni az egyÃ©n szÃ¡mÃ¡ra sajÃ¡t egÃ©szsÃ©ge Ã©rdekÃ©ben. A B
 iologika ismeretÃ©nek egyik legnagyobb elÅ‘nye, hogy kÃ©pessÃ© vÃ¡lunk a ko
 molyabb elvÃ¡ltozÃ¡sok kialakulÃ¡sÃ¡t megakadÃ¡lyozni, a mÃ¡r folyamatban l
 Ã©vÅ‘ket a legÃ©sszerÅ±bben kezelni. <br /> A tanfolyam nem gyÃ³gymÃ³d, nem
  gyÃ³gyÃ­t, nem kÃ©szÃ­t fel gyÃ³gyÃ­tÃ³ tevÃ©kenysÃ©g vÃ©gzÃ©sÃ©re. Az ism
 eretanyag az Ã¶nmagÃ¡Ã©rt felelÅ‘ssÃ©get vÃ¡llalÃ³ hÃ©tkÃ¶znapi embernek sz
 Ã³l. Ennek hiÃ¡nya akÃ¡r az egÃ©szsÃ©g megÅ‘rzÃ©sÃ©nek, helyreÃ¡llÃ­tÃ¡sÃ¡n
 ak gÃ¡tjÃ¡vÃ¡ is vÃ¡lhat. MegÃ©rteni a bennÃ¼nk zajlÃ³ Ã©rzelmi Ã©s testi f
 olyamatokat egy Ãºj, minÅ‘sÃ©gibb, Ã¡ltalunk irÃ¡nyÃ­tott Ã©letvitel alapjÃ
 ¡t jelentheti. Megszabadulni hiedelmeinktÅ‘l, fÃ©lelmeinktÅ‘l, betegsÃ©gtud
 atunktÃ³l egy magunkkal cipelt teher letÃ©telÃ©t jelenti. <br /> A tanfolya
 m nem csak testi szinten tÃ¡rja fel az elvÃ¡ltozÃ¡sokat, hanem megmutatja l
 elki szinten is a kivÃ¡ltÃ³ okokat, Ã©rzelmi kilengÃ©seket.<br /> </span><s
 pan style="font-size: 10pt;">A trÃ©ning Barnai Roberto Ã¡ltal kÃ©szÃ­tett S
 zerv Atlasz tudÃ¡sanyagÃ¡n alapul.</span><span style="font-family: times ne
 w roman,times; font-size: 10pt;"><br style="mso-special-character: line-bre
 ak;" /> </span></p><p>&nbsp;</p><p><span style="font-size: 10.0pt;"><br /><
 strong>A tanfolyam tematikÃ¡ja:</strong><br />3. nap<br />A kÃ©regÃ¡llomÃ¡n
 y vezÃ©relte szervek elvÃ¡ltozÃ¡sai<br />FÃ©rfias Ã©s nÅ‘ies hormonÃ¡llapot
 <br />FunkciÃ³-kimaradÃ¡sok, bÃ©nulÃ¡sok, cukorszint vÃ¡ltozÃ¡sok<br />4. n
 ap<br />MentÃ¡lis kÃ¼lÃ¶nprogramok<br />Hangulatzavarok Ã©s elmebajok - a l
 eggyakoribb tÃ¼netek hÃ¡tterÃ©vel.<br />(MegzavarodottsÃ¡g, kÃ©nyszeres sÃ©
 rtegetÃ©s, Ã©rtÃ©kÃ­tÃ©leti zavarok, <br />mÃ¡nia, depressziÃ³, skizofrÃ©ni
 a, fÃ³biÃ¡k Ã©s paranoiÃ¡k.)<br /><br />Tananyag: Biologika Szerv Atlasz</s
 pan><br /> <span style="font-size: 10.0pt;">Roberto elÅ‘adÃ¡sainak prezentÃ
 ¡ciÃ³s anyaga az Ãºj medicina kÃ©zikÃ¶nyvÃ©vÃ© nÅ‘tte ki magÃ¡t. A Szerv At
 lasz megvÃ¡sÃ¡rolhatÃ³ a webshopban vagy a trÃ©ningen. A Szerv Atlasz jelen
 leg az egyetlen Ãºj medicinÃ¡s kÃ©zikÃ¶nyv a vilÃ¡gon.<br /><br /></span></
 p><p style="margin-bottom: 12.0pt;"><span style="font-size: 10.0pt;">Jelent
 kezÃ©skor add meg:</span><br /> <span style="font-size: 10.0pt;">1.) a trÃ©
 ning nevÃ©t, helyszÃ­nÃ©t Ã©s idÅ‘pontjÃ¡t</span><br /> <span style="font-s
 ize: 10.0pt;">2.) pontos nevedet</span><br /> <span style="font-size: 10.0p
 t;">3.) mobil szÃ¡modat</span><br /> <span style="font-size: 10.0pt;">4.) e
 -mail cÃ­medet</span><br /> <span style="font-size: 10.0pt;">5.) kedvezmÃ©n
 y alapjÃ¡t (ha jogosult vagy)</span></p><div id="_mcePaste" class="mcePaste
 " data-mce-bogus="1" style="position: absolute; left: -40px; top: 153px; wi
 dth: 1px; height: 1px; overflow: hidden;"><span class="apple-converted-spac
 e"><b><span style="font-size: 10.0pt; font-family: 'Times New Roman','serif
 '; mso-fareast-font-family: 'Times New Roman'; mso-ansi-language: HU; mso-f
 areast-language: HU; mso-bidi-language: AR-SA;">Sopron, SzÃ­nhÃ¡z u. 13-15.
  ÃœgyvÃ©dek HÃ¡za</span></b></span><!--[if gte mso 9]><xml> <w:LatentStyles
  DefLockedState="false" DefUnhideWhenUsed="true"  DefSemiHidden="true" DefQ
 Format="false" DefPriority="99"  LatentStyleCount="267">  <w:LsdException L
 ocked="false" Priority="0" SemiHidden="false"   UnhideWhenUsed="false" QFor
 mat="true" Name="Normal"/>  <w:LsdException Locked="false" Priority="9" Sem
 iHidden="false"   UnhideWhenUsed="false" QFormat="true" Name="heading 1"/> 
  <w:LsdException Locked="false" Priority="9" QFormat="true" Name="heading 2
 "/>  <w:LsdException Locked="false" Priority="9" QFormat="true" Name="headi
 ng 3"/>  <w:LsdException Locked="false" Priority="9" QFormat="true" Name="h
 eading 4"/>  <w:LsdException Locked="false" Priority="9" QFormat="true" Nam
 e="heading 5"/>  <w:LsdException Locked="false" Priority="9" QFormat="true"
  Name="heading 6"/>  <w:LsdException Locked="false" Priority="9" QFormat="t
 rue" Name="heading 7"/>  <w:LsdException Locked="false" Priority="9" QForma
 t="true" Name="heading 8"/>  <w:LsdException Locked="false" Priority="9" QF
 ormat="true" Name="heading 9"/>  <w:LsdException Locked="false" Priority="3
 9" Name="toc 1"/>  <w:LsdException Locked="false" Priority="39" Name="toc 2
 "/>  <w:LsdException Locked="false" Priority="39" Name="toc 3"/>  <w:LsdExc
 eption Locked="false" Priority="39" Name="toc 4"/>  <w:LsdException Locked=
 "false" Priority="39" Name="toc 5"/>  <w:LsdException Locked="false" Priori
 ty="39" Name="toc 6"/>  <w:LsdException Locked="false" Priority="39" Name="
 toc 7"/>  <w:LsdException Locked="false" Priority="39" Name="toc 8"/>  <w:L
 sdException Locked="false" Priority="39" Name="toc 9"/>  <w:LsdException Lo
 cked="false" Priority="35" QFormat="true" Name="caption"/>  <w:LsdException
  Locked="false" Priority="10" SemiHidden="false"   UnhideWhenUsed="false" Q
 Format="true" Name="Title"/>  <w:LsdException Locked="false" Priority="1" N
 ame="Default Paragraph Font"/>  <w:LsdException Locked="false" Priority="11
 " SemiHidden="false"   UnhideWhenUsed="false" QFormat="true" Name="Subtitle
 "/>  <w:LsdException Locked="false" Priority="22" SemiHidden="false"   Unhi
 deWhenUsed="false" QFormat="true" Name="Strong"/>  <w:LsdException Locked="
 false" Priority="20" SemiHidden="false"   UnhideWhenUsed="false" QFormat="t
 rue" Name="Emphasis"/>  <w:LsdException Locked="false" Priority="59" SemiHi
 dden="false"   UnhideWhenUsed="false" Name="Table Grid"/>  <w:LsdException 
 Locked="false" UnhideWhenUsed="false" Name="Placeholder Text"/>  <w:LsdExce
 ption Locked="false" Priority="1" SemiHidden="false"   UnhideWhenUsed="fals
 e" QFormat="true" Name="No Spacing"/>  <w:LsdException Locked="false" Prior
 ity="60" SemiHidden="false"   UnhideWhenUsed="false" Name="Light Shading"/>
   <w:LsdException Locked="false" Priority="61" SemiHidden="false"   UnhideW
 henUsed="false" Name="Light List"/>  <w:LsdException Locked="false" Priorit
 y="62" SemiHidden="false"   UnhideWhenUsed="false" Name="Light Grid"/>  <w:
 LsdException Locked="false" Priority="63" SemiHidden="false"   UnhideWhenUs
 ed="false" Name="Medium Shading 1"/>  <w:LsdException Locked="false" Priori
 ty="64" SemiHidden="false"   UnhideWhenUsed="false" Name="Medium Shading 2"
 />  <w:LsdException Locked="false" Priority="65" SemiHidden="false"   Unhid
 eWhenUsed="false" Name="Medium List 1"/>  <w:LsdException Locked="false" Pr
 iority="66" SemiHidden="false"   UnhideWhenUsed="false" Name="Medium List 2
 "/>  <w:LsdException Locked="false" Priority="67" SemiHidden="false"   Unhi
 deWhenUsed="false" Name="Medium Grid 1"/>  <w:LsdException Locked="false" P
 riority="68" SemiHidden="false"   UnhideWhenUsed="false" Name="Medium Grid 
 2"/>  <w:LsdException Locked="false" Priority="69" SemiHidden="false"   Unh
 ideWhenUsed="false" Name="Medium Grid 3"/>  <w:LsdException Locked="false" 
 Priority="70" SemiHidden="false"   UnhideWhenUsed="false" Name="Dark List"/
 >  <w:LsdException Locked="false" Priority="71" SemiHidden="false"   Unhide
 WhenUsed="false" Name="Colorful Shading"/>  <w:LsdException Locked="false" 
 Priority="72" SemiHidden="false"   UnhideWhenUsed="false" Name="Colorful Li
 st"/>  <w:LsdException Locked="false" Priority="73" SemiHidden="false"   Un
 hideWhenUsed="false" Name="Colorful Grid"/>  <w:LsdException Locked="false"
  Priority="60" SemiHidden="false"   UnhideWhenUsed="false" Name="Light Shad
 ing Accent 1"/>  <w:LsdException Locked="false" Priority="61" SemiHidden="f
 alse"   UnhideWhenUsed="false" Name="Light List Accent 1"/>  <w:LsdExceptio
 n Locked="false" Priority="62" SemiHidden="false"   UnhideWhenUsed="false" 
 Name="Light Grid Accent 1"/>  <w:LsdException Locked="false" Priority="63" 
 SemiHidden="false"   UnhideWhenUsed="false" Name="Medium Shading 1 Accent 1
 "/>  <w:LsdException Locked="false" Priority="64" SemiHidden="false"   Unhi
 deWhenUsed="false" Name="Medium Shading 2 Accent 1"/>  <w:LsdException Lock
 ed="false" Priority="65" SemiHidden="false"   UnhideWhenUsed="false" Name="
 Medium List 1 Accent 1"/>  <w:LsdException Locked="false" UnhideWhenUsed="f
 alse" Name="Revision"/>  <w:LsdException Locked="false" Priority="34" SemiH
 idden="false"   UnhideWhenUsed="false" QFormat="true" Name="List Paragraph"
 />  <w:LsdException Locked="false" Priority="29" SemiHidden="false"   Unhid
 eWhenUsed="false" QFormat="true" Name="Quote"/>  <w:LsdException Locked="fa
 lse" Priority="30" SemiHidden="false"   UnhideWhenUsed="false" QFormat="tru
 e" Name="Intense Quote"/>  <w:LsdException Locked="false" Priority="66" Sem
 iHidden="false"   UnhideWhenUsed="false" Name="Medium List 2 Accent 1"/>  <
 w:LsdException Locked="false" Priority="67" SemiHidden="false"   UnhideWhen
 Used="false" Name="Medium Grid 1 Accent 1"/>  <w:LsdException Locked="false
 " Priority="68" SemiHidden="false"   UnhideWhenUsed="false" Name="Medium Gr
 id 2 Accent 1"/>  <w:LsdException Locked="false" Priority="69" SemiHidden="
 false"   UnhideWhenUsed="false" Name="Medium Grid 3 Accent 1"/>  <w:LsdExce
 ption Locked="false" Priority="70" SemiHidden="false"   UnhideWhenUsed="fal
 se" Name="Dark List Accent 1"/>  <w:LsdException Locked="false" Priority="7
 1" SemiHidden="false"   UnhideWhenUsed="false" Name="Colorful Shading Accen
 t 1"/>  <w:LsdException Locked="false" Priority="72" SemiHidden="false"   U
 nhideWhenUsed="false" Name="Colorful List Accent 1"/>  <w:LsdException Lock
 ed="false" Priority="73" SemiHidden="false"   UnhideWhenUsed="false" Name="
 Colorful Grid Accent 1"/>  <w:LsdException Locked="false" Priority="60" Sem
 iHidden="false"   UnhideWhenUsed="false" Name="Light Shading Accent 2"/>  <
 w:LsdException Locked="false" Priority="61" SemiHidden="false"   UnhideWhen
 Used="false" Name="Light List Accent 2"/>  <w:LsdException Locked="false" P
 riority="62" SemiHidden="false"   UnhideWhenUsed="false" Name="Light Grid A
 ccent 2"/>  <w:LsdException Locked="false" Priority="63" SemiHidden="false"
    UnhideWhenUsed="false" Name="Medium Shading 1 Accent 2"/>  <w:LsdExcepti
 on Locked="false" Priority="64" SemiHidden="false"   UnhideWhenUsed="false"
  Name="Medium Shading 2 Accent 2"/>  <w:LsdException Locked="false" Priorit
 y="65" SemiHidden="false"   UnhideWhenUsed="false" Name="Medium List 1 Acce
 nt 2"/>  <w:LsdException Locked="false" Priority="66" SemiHidden="false"   
 UnhideWhenUsed="false" Name="Medium List 2 Accent 2"/>  <w:LsdException Loc
 ked="false" Priority="67" SemiHidden="false"   UnhideWhenUsed="false" Name=
 "Medium Grid 1 Accent 2"/>  <w:LsdException Locked="false" Priority="68" Se
 miHidden="false"   UnhideWhenUsed="false" Name="Medium Grid 2 Accent 2"/>  
 <w:LsdException Locked="false" Priority="69" SemiHidden="false"   UnhideWhe
 nUsed="false" Name="Medium Grid 3 Accent 2"/>  <w:LsdException Locked="fals
 e" Priority="70" SemiHidden="false"   UnhideWhenUsed="false" Name="Dark Lis
 t Accent 2"/>  <w:LsdException Locked="false" Priority="71" SemiHidden="fal
 se"   UnhideWhenUsed="false" Name="Colorful Shading Accent 2"/>  <w:LsdExce
 ption Locked="false" Priority="72" SemiHidden="false"   UnhideWhenUsed="fal
 se" Name="Colorful List Accent 2"/>  <w:LsdException Locked="false" Priorit
 y="73" SemiHidden="false"   UnhideWhenUsed="false" Name="Colorful Grid Acce
 nt 2"/>  <w:LsdException Locked="false" Priority="60" SemiHidden="false"   
 UnhideWhenUsed="false" Name="Light Shading Accent 3"/>  <w:LsdException Loc
 ked="false" Priority="61" SemiHidden="false"   UnhideWhenUsed="false" Name=
 "Light List Accent 3"/>  <w:LsdException Locked="false" Priority="62" SemiH
 idden="false"   UnhideWhenUsed="false" Name="Light Grid Accent 3"/>  <w:Lsd
 Exception Locked="false" Priority="63" SemiHidden="false"   UnhideWhenUsed=
 "false" Name="Medium Shading 1 Accent 3"/>  <w:LsdException Locked="false" 
 Priority="64" SemiHidden="false"   UnhideWhenUsed="false" Name="Medium Shad
 ing 2 Accent 3"/>  <w:LsdException Locked="false" Priority="65" SemiHidden=
 "false"   UnhideWhenUsed="false" Name="Medium List 1 Accent 3"/>  <w:LsdExc
 eption Locked="false" Priority="66" SemiHidden="false"   UnhideWhenUsed="fa
 lse" Name="Medium List 2 Accent 3"/>  <w:LsdException Locked="false" Priori
 ty="67" SemiHidden="false"   UnhideWhenUsed="false" Name="Medium Grid 1 Acc
 ent 3"/>  <w:LsdException Locked="false" Priority="68" SemiHidden="false"  
  UnhideWhenUsed="false" Name="Medium Grid 2 Accent 3"/>  <w:LsdException Lo
 cked="false" Priority="69" SemiHidden="false"   UnhideWhenUsed="false" Name
 ="Medium Grid 3 Accent 3"/>  <w:LsdException Locked="false" Priority="70" S
 emiHidden="false"   UnhideWhenUsed="false" Name="Dark List Accent 3"/>  <w:
 LsdException Locked="false" Priority="71" SemiHidden="false"   UnhideWhenUs
 ed="false" Name="Colorful Shading Accent 3"/>  <w:LsdException Locked="fals
 e" Priority="72" SemiHidden="false"   UnhideWhenUsed="false" Name="Colorful
  List Accent 3"/>  <w:LsdException Locked="false" Priority="73" SemiHidden=
 "false"   UnhideWhenUsed="false" Name="Colorful Grid Accent 3"/>  <w:LsdExc
 eption Locked="false" Priority="60" SemiHidden="false"   UnhideWhenUsed="fa
 lse" Name="Light Shading Accent 4"/>  <w:LsdException Locked="false" Priori
 ty="61" SemiHidden="false"   UnhideWhenUsed="false" Name="Light List Accent
  4"/>  <w:LsdException Locked="false" Priority="62" SemiHidden="false"   Un
 hideWhenUsed="false" Name="Light Grid Accent 4"/>  <w:LsdException Locked="
 false" Priority="63" SemiHidden="false"   UnhideWhenUsed="false" Name="Medi
 um Shading 1 Accent 4"/>  <w:LsdException Locked="false" Priority="64" Semi
 Hidden="false"   UnhideWhenUsed="false" Name="Medium Shading 2 Accent 4"/> 
  <w:LsdException Locked="false" Priority="65" SemiHidden="false"   UnhideWh
 enUsed="false" Name="Medium List 1 Accent 4"/>  <w:LsdException Locked="fal
 se" Priority="66" SemiHidden="false"   UnhideWhenUsed="false" Name="Medium 
 List 2 Accent 4"/>  <w:LsdException Locked="false" Priority="67" SemiHidden
 ="false"   UnhideWhenUsed="false" Name="Medium Grid 1 Accent 4"/>  <w:LsdEx
 ception Locked="false" Priority="68" SemiHidden="false"   UnhideWhenUsed="f
 alse" Name="Medium Grid 2 Accent 4"/>  <w:LsdException Locked="false" Prior
 ity="69" SemiHidden="false"   UnhideWhenUsed="false" Name="Medium Grid 3 Ac
 cent 4"/>  <w:LsdException Locked="false" Priority="70" SemiHidden="false" 
   UnhideWhenUsed="false" Name="Dark List Accent 4"/>  <w:LsdException Locke
 d="false" Priority="71" SemiHidden="false"   UnhideWhenUsed="false" Name="C
 olorful Shading Accent 4"/>  <w:LsdException Locked="false" Priority="72" S
 emiHidden="false"   UnhideWhenUsed="false" Name="Colorful List Accent 4"/> 
  <w:LsdException Locked="false" Priority="73" SemiHidden="false"   UnhideWh
 enUsed="false" Name="Colorful Grid Accent 4"/>  <w:LsdException Locked="fal
 se" Priority="60" SemiHidden="false"   UnhideWhenUsed="false" Name="Light S
 hading Accent 5"/>  <w:LsdException Locked="false" Priority="61" SemiHidden
 ="false"   UnhideWhenUsed="false" Name="Light List Accent 5"/>  <w:LsdExcep
 tion Locked="false" Priority="62" SemiHidden="false"   UnhideWhenUsed="fals
 e" Name="Light Grid Accent 5"/>  <w:LsdException Locked="false" Priority="6
 3" SemiHidden="false"   UnhideWhenUsed="false" Name="Medium Shading 1 Accen
 t 5"/>  <w:LsdException Locked="false" Priority="64" SemiHidden="false"   U
 nhideWhenUsed="false" Name="Medium Shading 2 Accent 5"/>  <w:LsdException L
 ocked="false" Priority="65" SemiHidden="false"   UnhideWhenUsed="false" Nam
 e="Medium List 1 Accent 5"/>  <w:LsdException Locked="false" Priority="66" 
 SemiHidden="false"   UnhideWhenUsed="false" Name="Medium List 2 Accent 5"/>
   <w:LsdException Locked="false" Priority="67" SemiHidden="false"   UnhideW
 henUsed="false" Name="Medium Grid 1 Accent 5"/>  <w:LsdException Locked="fa
 lse" Priority="68" SemiHidden="false"   UnhideWhenUsed="false" Name="Medium
  Grid 2 Accent 5"/>  <w:LsdException Locked="false" Priority="69" SemiHidde
 n="false"   UnhideWhenUsed="false" Name="Medium Grid 3 Accent 5"/>  <w:LsdE
 xception Locked="false" Priority="70" SemiHidden="false"   UnhideWhenUsed="
 false" Name="Dark List Accent 5"/>  <w:LsdException Locked="false" Priority
 ="71" SemiHidden="false"   UnhideWhenUsed="false" Name="Colorful Shading Ac
 cent 5"/>  <w:LsdException Locked="false" Priority="72" SemiHidden="false" 
   UnhideWhenUsed="false" Name="Colorful List Accent 5"/>  <w:LsdException L
 ocked="false" Priority="73" SemiHidden="false"   UnhideWhenUsed="false" Nam
 e="Colorful Grid Accent 5"/>  <w:LsdException Locked="false" Priority="60" 
 SemiHidden="false"   UnhideWhenUsed="false" Name="Light Shading Accent 6"/>
   <w:LsdException Locked="false" Priority="61" SemiHidden="false"   UnhideW
 henUsed="false" Name="Light List Accent 6"/>  <w:LsdException Locked="false
 " Priority="62" SemiHidden="false"   UnhideWhenUsed="false" Name="Light Gri
 d Accent 6"/>  <w:LsdException Locked="false" Priority="63" SemiHidden="fal
 se"   UnhideWhenUsed="false" Name="Medium Shading 1 Accent 6"/>  <w:LsdExce
 ption Locked="false" Priority="64" SemiHidden="false"   UnhideWhenUsed="fal
 se" Name="Medium Shading 2 Accent 6"/>  <w:LsdException Locked="false" Prio
 rity="65" SemiHidden="false"   UnhideWhenUsed="false" Name="Medium List 1 A
 ccent 6"/>  <w:LsdException Locked="false" Priority="66" SemiHidden="false"
    UnhideWhenUsed="false" Name="Medium List 2 Accent 6"/>  <w:LsdException 
 Locked="false" Priority="67" SemiHidden="false"   UnhideWhenUsed="false" Na
 me="Medium Grid 1 Accent 6"/>  <w:LsdException Locked="false" Priority="68"
  SemiHidden="false"   UnhideWhenUsed="false" Name="Medium Grid 2 Accent 6"/
 >  <w:LsdException Locked="false" Priority="69" SemiHidden="false"   Unhide
 WhenUsed="false" Name="Medium Grid 3 Accent 6"/>  <w:LsdException Locked="f
 alse" Priority="70" SemiHidden="false"   UnhideWhenUsed="false" Name="Dark 
 List Accent 6"/>  <w:LsdException Locked="false" Priority="71" SemiHidden="
 false"   UnhideWhenUsed="false" Name="Colorful Shading Accent 6"/>  <w:LsdE
 xception Locked="false" Priority="72" SemiHidden="false"   UnhideWhenUsed="
 false" Name="Colorful List Accent 6"/>  <w:LsdException Locked="false" Prio
 rity="73" SemiHidden="false"   UnhideWhenUsed="false" Name="Colorful Grid A
 ccent 6"/>  <w:LsdException Locked="false" Priority="19" SemiHidden="false"
    UnhideWhenUsed="false" QFormat="true" Name="Subtle Emphasis"/>  <w:LsdEx
 ception Locked="false" Priority="21" SemiHidden="false"   UnhideWhenUsed="f
 alse" QFormat="true" Name="Intense Emphasis"/>  <w:LsdException Locked="fal
 se" Priority="31" SemiHidden="false"   UnhideWhenUsed="false" QFormat="true
 " Name="Subtle Reference"/>  <w:LsdException Locked="false" Priority="32" S
 emiHidden="false"   UnhideWhenUsed="false" QFormat="true" Name="Intense Ref
 erence"/>  <w:LsdException Locked="false" Priority="33" SemiHidden="false" 
   UnhideWhenUsed="false" QFormat="true" Name="Book Title"/>  <w:LsdExceptio
 n Locked="false" Priority="37" Name="Bibliography"/>  <w:LsdException Locke
 d="false" Priority="39" QFormat="true" Name="TOC Heading"/> </w:LatentStyle
 s></xml><![endif]--><!--[if gte mso 10]><![endif]--></div>
CONTACT:
 
 
 
 
 Ez az email cÃ­m vÃ©dett a spam robotoktÃ³l, a megtekintÃ©sÃ©hez engedÃ©lyezni kell a Javascriptet.
 
 
  +36203287301; www.facebook.com/biologikasopron.hu

DTSTAMP:20260419T151307Z
DTSTART:20170616T070000Z
DTEND:20170616T150000Z
SEQUENCE:0
TRANSP:OPAQUE
END:VEVENT
END:VCALENDAR