BEGIN:VCALENDAR
VERSION:2.0
PRODID:-//jEvents 1.5 for Joomla//EN
BEGIN:VEVENT
CALSCALE:GREGORIAN
METHOD:PUBLISH

UID:80372d57972b4dff13a5309c9cf61bae
CATEGORIES:Haladó szeminárium 
SUMMARY:CsorbaImelda: Biologika (Új Medicina) HALADÓ tanfolyam 2/2 (Sopron)
LOCATION:Sopron, Színház u. 13-15. Ügyvédek Háza
DESCRIPTION;ENCODING=QUOTED-PRINTABLE:\n\nBIOLOGIKA (ÚJ MEDICINA) HALADÓ TANFOLYAM\n\n\n2 napos tanfolyam Sopro
 nban\n\n\n\n\n\n\nelnevezés: Biologika (Új Medicina) Haladó tréning\n\n
 \nidőtartam: 2 nap, 2017. június 16-17.\n\n\n\nFigyelem! Ez egy több nap
 os tréning, további információ az első napnál, ide kattintva.\n\n\n\n
CONTACT:
 
 
 
 
 Ez az email cím védett a spam robotoktól, a megtekintéséhez engedélyezni kell a Javascriptet.
 
 
  +36203287301; www.facebook.com/biologikasopron.hu

DTSTAMP:20260423T085010Z
DTSTART:20170617T070000Z
DTEND:20170617T150000Z
SEQUENCE:0
TRANSP:OPAQUE
END:VEVENT
END:VCALENDAR