BEGIN:VCALENDAR
VERSION:2.0
PRODID:-//jEvents 1.5 for Joomla//EN
BEGIN:VEVENT
CALSCALE:GREGORIAN
METHOD:PUBLISH

UID:61899643f9bc857a5b4316f56be4769d
CATEGORIES:Alap szeminárium 
SUMMARY:CsorbaImelda: Biologika (Új Medicina) ALAP tanfolyam 2/2 (Sopron)
LOCATION:Sopron, Színház u. 13-15. Ügyvédek Háza
DESCRIPTION;ENCODING=QUOTED-PRINTABLE:<p><strong><span style="font-size: 12pt;">BIOLOGIKA (ÚJ MEDICINA) ALAP TAN
 FOLYAM</span></strong></p><p><strong><span style="font-size: 12pt;"><span s
 tyle="font-size: 12pt; font-family: 'Liberation Serif','serif'; color: blac
 k;">2 napos tanfolyam</span> </span></strong><strong><span style="font-size
 : 12pt;"><span style="color: #003366;">Sopronban</span></span></strong></p>
 <p><span style="font-size: 10pt;"><br /></span></p><p><span style="font-siz
 e: 10pt;">elnevezés: Biologika (Új Medicina) Alap tréning</span></p><p><
 span style="font-size: 10pt;">időtartam: <span style="color: #000000;"><st
 rong>2 nap</strong>, 2017. május 19-20.<br /></span></span></p><p><span st
 yle="font-size: 10pt;">Figyelem! Ez egy több napos tréning, további info
 rmáció az első napnál, <a target="_blank" href="icalrepeat.detail/2017/
 05/19/4147/">ide kattintva</a></span><span style="font-size: 10pt;">.<br />
 <br /><br /></span></p>
CONTACT:
 
 
 
 
 Ez az email cím védett a spam robotoktól, a megtekintéséhez engedélyezni kell a Javascriptet.
 
 
  +36203287301; www.facebook.com/biologikasopron.hu

DTSTAMP:20260419T150628Z
DTSTART:20170520T070000Z
DTEND:20170520T150000Z
SEQUENCE:0
TRANSP:OPAQUE
END:VEVENT
END:VCALENDAR