BEGIN:VCALENDAR
VERSION:2.0
PRODID:-//jEvents 1.5 for Joomla//EN
BEGIN:VEVENT
CALSCALE:GREGORIAN
METHOD:PUBLISH

UID:e9e023718116821e742c26beab573f2f
CATEGORIES:NyilvÃ¡nos Ã¶sszejÃ¶vetel
SUMMARY:OrlikI: Biologika KLUB (Szeged)
LOCATION:Szeged, CsongrÃ¡di sgt. 89. X. em. 58.
DESCRIPTION;ENCODING=QUOTED-PRINTABLE:<p><strong><span style="font-size: 12pt;">BIOLOGIKA (ÃšJ MEDICINA) KLUB</sp
 an></strong><strong><span style="font-size: 12pt;"><span style="color: #003
 366;"><br />Szegeden</span></span></strong></p><p><span style="font-size: 1
 0pt;"><br />TÃ©mÃ¡ja: <i><strong>A kÃ¶hÃ¶gÃ©s</strong></i></span></p><p><sp
 an style="font-size: 10pt;">idÅ‘pont: <strong>2017. februÃ¡r 15.</strong> (
 szerda) 17:30-20 Ã³rÃ¡ig</span></p><p><span style="font-size: 10pt;">lÃ©tsz
 Ã¡mkorlÃ¡t: nincs, de kÃ©rjÃ¼k, <strong>regisztrÃ¡lj</strong> e-mailben: 
 
 <script language='JavaScript' type='text/javascript'>
 <!--
 var prefix = '
 m&#97;&#105;lt&#111;:';
 var suffix = '';
 var attribs = '';
 var path = 'h
 r' + 'ef' + '=';
 var addy76427 = '&#105;c&#97;' + '&#64;';
 addy76427 = ad
 dy76427 + 'b&#105;&#111;l&#111;g&#105;k&#97;' + '&#46;' + 'h&#117;';
 docum
 ent.write( '<a ' + path + '\'' + prefix + addy76427 + suffix + '\'' + attri
 bs + '>' );
 document.write( addy76427 );
 document.write( '<\/a>' );
 //--
 >
 </script><script language='JavaScript' type='text/javascript'>
 <!--
 do
 cument.write( '<span style=\'display: none;\'>' );
 //-->
 </script>Ez az e
 mail cÃ­m vÃ©dett a spam robotoktÃ³l, a megtekintÃ©sÃ©hez engedÃ©lyezni kel
 l a Javascriptet.
 <script language='JavaScript' type='text/javascript'>
 <
 !--
 document.write( '</' );
 document.write( 'span>' );
 //-->
 </script>&
 nbsp;</span></p><p><span style="font-size: 10pt;">klubvezetÅ‘: </span><span
  style="font-size: 10pt;"><strong>Orlik Ilona,</strong> Biologika, Ãºj medi
 cina trÃ©ner, konzulens <a href="partnereink/orlik-ilona-biologika.html">ht
 tp://biologika.hu/partnereink/orlik-ilona-biologika.html</a></span></p><p><
 span style="font-size: 10pt;">helyszÃ­n: </span><span style="font-size: 10p
 t;"><span style="color: #000000;"><strong>Szeged, CsongrÃ¡di sgt. 89. X. em
 . 58.</strong> <br /></span></span></p><p><span style="font-size: 10pt;">rÃ
 ©szvÃ©teli dÃ­j:</span> <span style="font-size: 10pt;"><span style="color: 
 black;">bÃ©rleti dÃ­jhoz valÃ³ hozzÃ¡jÃ¡rulÃ¡sodat (500-1000,-Ft/fÅ‘) megkÃ
 ¶szÃ¶njÃ¼k!<br /></span></span></p><p><span style="font-size: 10pt;"><stron
 g><span style="color: black;"><span style="font-size: 10pt;"><span style="f
 ont-size: 10pt;"><span style="font-size: 10pt;"><span style="font-size: 10p
 t;">&nbsp;</span></span></span></span></span></strong></span></p><p><span s
 tyle="font-size: 10pt;"><span style="color: black;"><span style="font-size:
  10pt;"><span style="font-size: 10pt;"><span style="font-size: 10pt;"><span
  style="font-size: 10pt;">JelentkezÃ©skor add meg:<br /></span></span></spa
 n></span></span></span><span style="font-size: 10pt;"><strong><span style="
 color: black;"><span style="font-size: 10pt;"><span style="font-size: 10pt;
 "><span style="font-size: 10pt;"><br /></span></span></span></span></strong
 ><span style="color: black;"><span style="font-size: 10pt;"><span style="fo
 nt-size: 10pt;"><span style="font-size: 10pt;"><span style="font-size: 10pt
 ;">1.) a klub idÅ‘pontjÃ¡t</span></span></span></span></span><span style="c
 olor: black;"><span style="font-size: 10pt;"><span style="font-size: 10pt;"
 ><span style="font-size: 10pt;"><br /><span style="font-size: 10pt;">2.) po
 ntos nevedet</span><br /><span style="font-size: 10pt;">3.) mobil szÃ¡modat
 </span><br /><span style="font-size: 10pt;">4.) e-mail cÃ­medet<br /><br />
 <br /></span></span></span></span></span></span></p>
CONTACT:
 
 
 
 
 Ez az email cÃ­m vÃ©dett a spam robotoktÃ³l, a megtekintÃ©sÃ©hez engedÃ©lyezni kell a Javascriptet.
 
 
 , +36204838742

DTSTAMP:20260419T184259Z
DTSTART:20170215T163000Z
DTEND:20170215T190000Z
SEQUENCE:0
TRANSP:OPAQUE
END:VEVENT
END:VCALENDAR