BEGIN:VCALENDAR
VERSION:2.0
PRODID:-//jEvents 1.5 for Joomla//EN
BEGIN:VEVENT
CALSCALE:GREGORIAN
METHOD:PUBLISH

UID:f8a8d861308edf1c208e9d188acaadde
CATEGORIES:Nyilvános összejövetel
SUMMARY:OrlikI: Biologika KLUB (Szeged)
LOCATION:Szeged, Csongrádi sgt. 89. X. em. 58.
DESCRIPTION;ENCODING=QUOTED-PRINTABLE:\n\nBIOLOGIKA (ÚJ MEDICINA) KLUB\nSzegeden\n\n\n\nTémája: Konfliktusmego
 ldás a Hellinger-féle családállítással\n\n\n\nidőpont: 2017. márciu
 s 22. (szerda) 17:30-20 óráig\n\n\nelőadó: Detkovics Éva kineziológus
 , Hellinger terapeuta\n\n\n\nlétszámkorlát: nincs, de kérjük, regisztr
 álj e-mailben: 
 
 
 
 
 Ez az email cím védett a spam robotoktól, a me
 gtekintéséhez engedélyezni kell a Javascriptet.
 
 
 &nbsp;\n\n\nklubvez
 ető: Orlik Ilona, Biologika, új medicina tréner, konzulens http://biolog
 ika.hu/partnereink/orlik-ilona-biologika.html\n\n\nhelyszín: Szeged, Csong
 rádi sgt. 89. X. em. 58. \n\n\n\nrészvételi díj: bérleti díjhoz való
  hozzájárulásodat (500-1000,-Ft/fő) megköszönjük!\n\n\n\n&nbsp;\n\n\
 nJelentkezéskor add meg:\n\n1.) a klub időpontját\n2.) pontos nevedet\n3
 .) mobil számodat\n4.) e-mail címedet\n\n\n\n
CONTACT:
 
 
 
 
 Ez az email cím védett a spam robotoktól, a megtekintéséhez engedélyezni kell a Javascriptet.
 
 
 , +36204838742

DTSTAMP:20260419T180351Z
DTSTART:20170322T163000Z
DTEND:20170322T190000Z
SEQUENCE:0
TRANSP:OPAQUE
END:VEVENT
END:VCALENDAR