BEGIN:VCALENDAR
VERSION:2.0
PRODID:-//jEvents 1.5 for Joomla//EN
BEGIN:VEVENT
CALSCALE:GREGORIAN
METHOD:PUBLISH

UID:c6769865ec86c08de8f78b888630ad73
CATEGORIES:Egyéb kapcsolódó tanfolyam
SUMMARY:HerczegA: A bőr elváltozásainak biologikus megoldásai  (Budapest)
LOCATION:Budapest, V.ker. Hercegprímás u. 13.
DESCRIPTION;ENCODING=QUOTED-PRINTABLE:\n\n\nBŐRBETEGSÉGEK, A BŐR ELVÁLTOZÁSAINAK MEGOLDÁSAI\n Egynapos tanf
 olyam&nbsp;Budapesten\n\n\n&nbsp;\n\n\ntémakör: Biologika (újmedicina) i
 ntenzív tréning, elváltozástan, a megbetegedések mechanizmusa\n\n\ntr
 ner:&nbsp;dr. Herczeg Andrea, http://biologika.hu/partnereink/dr-herczeg-a
 ndrea.html\n\n\nhelyszín: Budapest, V. ker. Hercegprímás u. 13.\n\n\nid
 tartam: 1 nap, 2017. március 26. 10:00 -&nbsp; \n\n\n\nebédszünet: 13-1
 4 óráig&nbsp;\n\n\nkérdések, válaszok: 17-18 óráig\n\n\nelőfeltéte
 l:&nbsp;5 biológiai természettörvény&nbsp;online, ingyenes előadás me
 gtekintése\n\n\nrészvételi díj (1 nap): 20.000,- Ft / fő\n\n\nismétl
  vagy korkedvezmény (18 alatt és 60 felett) érvényesítése esetén a 
 részvételi díj&nbsp;15.000,- Ft / fő &nbsp;\n\n\njelentkezés:&nbsp;ír
 ásos előregisztráció kötelező&nbsp;a&nbsp;leírás aljánál megadott
  e-mail címen\n\njelentkezési határidő: 2017. március 24. \n\n\n\nLeí
 rás:\n\nSzervezetünk változásai, biológiai különprogramjai (megbeteg
 edések) minden esetben a túlélést szolgálják. Ezeket a programokat az
  agyunk tévedhetetlenül választja ki a rendelkezésére álló előzetes
  megtapasztalások, életesemények, érzelmi reakcióink alapján. Ezen a 
 képzésena bőrön megjelenő elváltozások mögött meghúzódó érzelm
 i konfliktusokat és ezek biologikus megoldásait ismerjük meg. Ezeknél a
 z elváltozásoknál nagyon gyakran gyógyszereket kell alkalmazni, amelyek
  módosítják a szervezet önálló folyamatait. Az egyes elváltozásokn
 l szó lesz a gyógyszerek hatásairól, mellékhatásairól, és azokról
  az alternatív lehetőségekről melyeket a gyógyszeres kezelés megelőz
 ésére vagy kiegészítésére használhatunk. \n\nTematika: \n\na biológ
 iai természettörvények átismétlése, \na bőr mint a legnagyobb érzé
 kszervünk\nelváltozások a legkisebbtől a legsúlyosabbig: herpesz, mite
 szer, szeplő, anyajegyek, bőrrák \nbőrt érintő autoimmun folyamatok: 
 SLE, pszoriazis\nAllergiás reakciók, csalánkiütés\nSTD: szexuális út
 on terjedő betegségek: HIV, HPV, clamydia, gonorrhea, szifilisz\n\n\n\n\n
 Az elváltozások helyreállítását segítő lehetőségek.\n\n\nJelentke
 zéskor add meg:\n\n\n1.) a tréning nevét, helyszínét és időpontját(
 !)\n2.) pontos nevedet\n3.) mobil számodat\n4.) e-mail címedet\n5.) kedve
 zmény alapját (ha jogosult vagy)\n\n\n&nbsp;\n
CONTACT:
 
 
 
 
 Ez az email cím védett a spam robotoktól, a megtekintéséhez engedélyezni kell a Javascriptet.
 
 
 

DTSTAMP:20260419T201444Z
DTSTART:20170326T080000Z
DTEND:20170326T150000Z
SEQUENCE:0
TRANSP:OPAQUE
END:VEVENT
END:VCALENDAR