BEGIN:VCALENDAR
VERSION:2.0
PRODID:-//jEvents 1.5 for Joomla//EN
BEGIN:VEVENT
CALSCALE:GREGORIAN
METHOD:PUBLISH

UID:91a4f2487985ae64f27504d8f01629f4
CATEGORIES:Egyéb kapcsolódó tanfolyam
SUMMARY:HerczegA: Testünk történetei (Budapest)
LOCATION:MagNet Közösségi Ház, Budapest, Andrássy út 98.
DESCRIPTION;ENCODING=QUOTED-PRINTABLE:\n\nTESTÜNK TÖRTÉNETEI \nIntegrált kifejezés és Táncterápiás Önis
 mereti zárt csoport Budapest\n\n\n&nbsp;\n\n\ncsoportvezetők: Brinzanek Z
 suzsa Integrált kifejezés és táncterapeuta és dr. Herczeg Andrea term
 szetgyógyász, biologika konzulens, http://biologika.hu/partnereink/dr-he
 rczeg-andrea.html\n\n\nhelyszín: Budapest, Magnet ház\n\n\nidőtartam: 6 
 alkalom, alkalmanként 6 óra\n\n\n a csoportok tervezett időpontjai: csü
 törtökönként 16:00 - 20:00\n\nA foglalkozásokra meghívott témák:\n-
 &nbsp;&nbsp; &nbsp;2017. február 16. – Hangolódás önmagunkra, egymás
 ra az integrált kifejezés- és táncterápia eszközeivel\n-&nbsp;&nbsp; 
 &nbsp;2017. március 2. – A kapcsolati hálóm\n-&nbsp;&nbsp; &nbsp;2017.
  március 16. – Én vagyok én\n-&nbsp;&nbsp; &nbsp;2017. március 30. 
  Biztonság, védelem az életemben\n-&nbsp;&nbsp; &nbsp;2017. április 13
 . – Gyökerek és lét-elemek\n-&nbsp;&nbsp; &nbsp;2017. április 27. –
  Tapasztalatok integrálása\n\nMinimum létszám: 8fő\n\n\n\n\nRészvéte
 li díj: \n\n - alkalmanként: 6.000,- Ft / fő\n\n\njelentkezés: 
 
 
 
 
 
 Ez az email cím védett a spam robotoktól, a megtekintéséhez engedél
 yezni kell a Javascriptet.
 
 
  vagy a +3630 441 9019 telefonszámon\n\n\n
 \nA jelentkezés az első alkalom díjának befizetésével válik véglege
 ssé.\n\n\nRészletek:&nbsp;&nbsp; &nbsp;http://www.ayana.hu/index.php/prog
 ramok\n\n\n\n\nLeírás, tematika:\n\n\nIntegrált kifejezés és táncter
 piás önismereti zárt csoport indul – 6 alkalomra meghirdetve -, mely 
 a testünkben lenyomatként hordozott, de mindennapi életünkben tudatosan
  nemmegjelenő „emlékek”, „élmények” témája köré szerveződi
 k.\nÉletünket testünkön keresztül érezzük, érzékeljük. Minden tes
 t tükrözi az adott ember életét, létét.Ahogy fizikai formánk kifejez
 i, konkrétan kik is vagyunk, testünk mindegyik része és funkciója lét
 ezésünk egyfajta metaforájaként fogható fel. Minden, életünkben mink
 et ért hatás, információ testünk meghatározott részeiben a sejtek DN
 S molekuláiban tárolódik. A külvilág eseményei által kiváltott reak
 cióink, érzelmi megnyilvánulásaink megjelennek a testünk változásaib
 an, az egyes szervek, testrészek alkalmazkodási reakcióiban, esetleg bet
 egségeiben, elváltozásaiban. Ez a folyamat érzelmi és tudatállapotain
 kban is tükröződik, bár sokszor ennek nem vagyunk tudatában. Karl Jung
  szerintmindenre, ami nem emelkedik a tudatosság felszínére, hajlamosak 
 vagyunk sorsként tekinteni. Mivel valamennyi tapasztalásunk elérhető é
 s aktiválható a test, mozgás által,a testünkre és elemi kifejező moz
 gására fókuszálva, képesek vagyunk tudatára ébredni érzeteknek, ér
 zelmeknek, gondolatoknak, amelyeket korábban észre sem vettünk. Ebben a 
 folyamatban mélyen lévő emlékek és érzések mozdulnak meg és a kifej
 eződésük által felfedezhetők, tudatosíthatók, elengedhetők.A testü
 nk által elmesélt történetek érthetővé teszik életünk eseményeine
 k összefüggéseit, okait, és érzelmi válaszreakcióinkat.\nIzgalmas fe
 lfedező útra hívunk ebben a pár napban, amikor odafigyelhetsz arra, mit
  mesél a tested. Tanulhatod érteni a jelzéseit, amelyeken keresztül fol
 yamatosan üzenni próbál számodra: arról, hogy mi van benned, hol tarta
 sz, milyen állapotban vagy …történeteket mesél rólad ….\nEzek a ta
 pasztalatoksegíthetnek múltad és jelen életed problémáinak megértés
 ében, de használhatod arra, hogy közelebb kerülj belső világodhoz, ö
 nmagadhoz, hogy kicsit jobban kiteljesedj - egy boldogabb és egészségese
 bb élet felé lépve ez által.\nA műhelymunka során az elsődleges fók
 usz a mozgáson, a táncon lesz, de számos más önkifejezési formát is 
 használni fogunk a foglalkozások alatt, mint például a rajzolás, fest
 s, hangadás, írás.\nA csoporton való részvételhez semmilyen táncos 
 vagy egyéb művészeti irányzatban való előképzettség, jártasság ne
 m szükséges! Elég, ha szeretsz mozogni és van benned kísérletező ked
 v egy lelkes és támogató közegben.\n\n\n&nbsp;\n\n\nJelentkezéskor add
  meg:\n1.) a tréning nevét, helyszínét és időpontját\n2.) pontos nev
 edet\n3.) mobil számodat\n4.) e-mail címedet\n5.) kedvezmény alapját (h
 a jogosult vagy)\n\n\n\n
CONTACT:
 
 
 
 
 Ez az email cím védett a spam robotoktól, a megtekintéséhez engedélyezni kell a Javascriptet.
 
 
 , +36304419019

DTSTAMP:20260424T095118Z
DTSTART:20170216T150000Z
DTEND:20170216T190000Z
SEQUENCE:0
TRANSP:OPAQUE
END:VEVENT
END:VCALENDAR