BEGIN:VCALENDAR
VERSION:2.0
PRODID:-//jEvents 1.5 for Joomla//EN
BEGIN:VEVENT
CALSCALE:GREGORIAN
METHOD:PUBLISH

UID:4111d831858b327938f68a2d51e5e050
CATEGORIES:Egyéb kapcsolódó tanfolyam
SUMMARY:HerczegA: Testünk történetei (Budapest)
LOCATION:MagNet Közösségi Ház, Budapest, Andrássy út 98.
DESCRIPTION;ENCODING=QUOTED-PRINTABLE:<p><b><span style="font-size: 12pt;">TESTÜNK TÖRTÉNETEI </span></b><b><s
 pan style="font-size: 12pt;"><br />Integrált kifejezés és Táncterápiá
 s Önismereti zárt csoport <span class="Apple-converted-space"></span></sp
 an></b><b><span style="font-size: 12pt;"><span style="color: #003366;">Buda
 pest</span></span></b></p><p><b><span style="font-size: 12pt;">&nbsp;</span
 ></b></p><p><span style="font-size: 10pt;">csoportvezetők:<span class="App
 le-converted-space"> </span></span><span style="font-size: 10pt;">Brinzanek
  Zsuzsa Integrált kifejezés és táncterapeuta és dr. Herczeg Andrea ter
 mészetgyógyász, biologika konzulens<strong></strong>, </span><span style
 ="text-decoration: underline;"><a href="partnereink/dr-herczeg-andrea.html"
 >http://biologika.hu/partnereink/dr-herczeg-andrea.html</a></span></p><p><s
 pan style="font-size: 10pt;">helyszín:<strong><span class="Apple-converted
 -space"> Budapest,</span></strong><span class="Apple-converted-space"> </sp
 an></span><span style="font-size: 10pt;"><span class="Apple-converted-space
 ">MagNet Közösségi ház <span class="_Xbe">Andrássy út 98.</span><br c
 lass="_Xbe" /></span></span></p><p><span style="font-size: 10pt;">időtarta
 m: 6 alkalom, alkalmanként 6 óra</span></p><p><span style="font-size: 10p
 t;"><strong></strong> a csoportok tervezett időpontjai: csütörtökönké
 nt 16:00 - 20:00<br /><strong><br /></strong>A foglalkozásokra meghívott 
 témák:<br />-&nbsp;&nbsp; &nbsp;2017. február 16. – Hangolódás önma
 gunkra, egymásra az integrált kifejezés- és táncterápia eszközeivel<
 br />-&nbsp;&nbsp; &nbsp;2017. március 2. – A kapcsolati hálóm<br />-&
 nbsp;&nbsp; &nbsp;2017. március 16. – Én vagyok én<br />-&nbsp;&nbsp; 
 &nbsp;2017. március 30. – Biztonság, védelem az életemben<br />-&nbsp
 ;&nbsp; &nbsp;2017. április 13. – Gyökerek és lét-elemek<br />-&nbsp;
 &nbsp; &nbsp;2017. április 27. – Tapasztalatok integrálása<br /><br />
 Minimum létszám: 8fő<br /><br /><strong style="font-size: 10pt;"></stron
 g></span></p><p><strong><span style="font-size: 10pt;">Részvételi díj:<s
 pan class="Apple-converted-space"> </span></span></strong><br /><br /><span
  style="font-size: 10pt;"> - alkalmanként:<b> 6.000,- Ft / fő</b></span><
 /p><p><span style="font-size: 10pt;">jelentkezés: </span><span style="font
 -size: 10pt;">
 <script language='JavaScript' type='text/javascript'>
 <!--
 
 var prefix = 'm&#97;&#105;lt&#111;:';
 var suffix = '';
 var attribs = ''
 ;
 var path = 'hr' + 'ef' + '=';
 var addy6733 = '&#97;y&#97;n&#97;m&#117;h
 &#101;ly' + '&#64;';
 addy6733 = addy6733 + 'gm&#97;&#105;l' + '&#46;' + 'c
 &#111;m';
 document.write( '<a ' + path + '\'' + prefix + addy6733 + suffix
  + '\'' + attribs + '>' );
 document.write( addy6733 );
 document.write( '<
 \/a>' );
 //-->
 </script><script language='JavaScript' type='text/javascri
 pt'>
 <!--
 document.write( '<span style=\'display: none;\'>' );
 //-->
 </
 script>Ez az email cím védett a spam robotoktól, a megtekintéséhez eng
 edélyezni kell a Javascriptet.
 <script language='JavaScript' type='text/j
 avascript'>
 <!--
 document.write( '</' );
 document.write( 'span>' );
 //-
 ->
 </script> vagy a +3630 441 9019 telefonszámon<strong><span style="colo
 r: #ff0000;"><br /></span></strong></span></p><p><span style="font-size: 10
 pt;"><span style="color: #000000;">A jelentkezés az első alkalom díjána
 k befizetésével válik véglegessé.</span><strong><span style="color: #f
 f0000;"></span></strong></span></p><p><span style="font-size: 10pt;"><span 
 style="color: #ff0000;">Részletek:&nbsp;&nbsp; &nbsp;<a href="http://www.a
 yana.hu/index.php/programok">http://www.ayana.hu/index.php/programok</a></s
 pan><span style="color: #ff0000;"><br /></span><strong><span style="color: 
 #ff0000;"><br /></span></strong></span></p><p><span style="font-size: 10pt;
 "><strong>Leírás, tematika:</strong></span></p><p><span style="font-size:
  10pt;">Integrált kifejezés és táncterápiás önismereti zárt csoport
  indul – 6 alkalomra meghirdetve -, mely a testünkben lenyomatként hord
 ozott, de mindennapi életünkben tudatosan nemmegjelenő „emlékek”, 
 élmények” témája köré szerveződik.</span><br /><span style="font
 -size: 10pt;">Életünket testünkön keresztül érezzük, érzékeljük. 
 Minden test tükrözi az adott ember életét, létét.Ahogy fizikai formá
 nk kifejezi, konkrétan kik is vagyunk, testünk mindegyik része és funkc
 iója létezésünk egyfajta metaforájaként fogható fel. Minden, életü
 nkben minket ért hatás, információ testünk meghatározott részeiben a
  sejtek DNS molekuláiban tárolódik. A külvilág eseményei által kivá
 ltott reakcióink, érzelmi megnyilvánulásaink megjelennek a testünk vá
 ltozásaiban, az egyes szervek, testrészek alkalmazkodási reakcióiban, e
 setleg betegségeiben, elváltozásaiban. Ez a folyamat érzelmi és tudat
 llapotainkban is tükröződik, bár sokszor ennek nem vagyunk tudatában.
  Karl Jung szerintmindenre, ami nem emelkedik a tudatosság felszínére, h
 ajlamosak vagyunk sorsként tekinteni. Mivel valamennyi tapasztalásunk el
 rhető és aktiválható a test, mozgás által,a testünkre és elemi kif
 ejező mozgására fókuszálva, képesek vagyunk tudatára ébredni érzet
 eknek, érzelmeknek, gondolatoknak, amelyeket korábban észre sem vettünk
 . Ebben a folyamatban mélyen lévő emlékek és érzések mozdulnak meg 
 s a kifejeződésük által felfedezhetők, tudatosíthatók, elengedhető
 k.A testünk által elmesélt történetek érthetővé teszik életünk es
 eményeinek összefüggéseit, okait, és érzelmi válaszreakcióinkat.</s
 pan><br /><span style="font-size: 10pt;">Izgalmas felfedező útra hívunk 
 ebben a pár napban, amikor odafigyelhetsz arra, mit mesél a tested. Tanul
 hatod érteni a jelzéseit, amelyeken keresztül folyamatosan üzenni prób
 ál számodra: arról, hogy mi van benned, hol tartasz, milyen állapotban 
 vagy …történeteket mesél rólad ….</span><br /><span style="font-siz
 e: 10pt;">Ezek a tapasztalatoksegíthetnek múltad és jelen életed probl
 máinak megértésében, de használhatod arra, hogy közelebb kerülj bel
 ső világodhoz, önmagadhoz, hogy kicsit jobban kiteljesedj - egy boldogab
 b és egészségesebb élet felé lépve ez által.</span><br /><span style
 ="font-size: 10pt;">A műhelymunka során az elsődleges fókusz a mozgáso
 n, a táncon lesz, de számos más önkifejezési formát is használni fog
 unk a foglalkozások alatt, mint például a rajzolás, festés, hangadás,
  írás.</span><br /><span style="font-size: 10pt;">A csoporton való rész
 vételhez semmilyen táncos vagy egyéb művészeti irányzatban való elő
 képzettség, jártasság nem szükséges! Elég, ha szeretsz mozogni és v
 an benned kísérletező kedv egy lelkes és támogató közegben.</span></
 p><p><span style="font-size: 10pt;">&nbsp;</span></p><p><span style="font-s
 ize: 10pt;">Jelentkezéskor add meg:</span><br /><span style="font-size: 10
 pt;">1.) a tréning nevét, helyszínét és időpontját</span><br /><span
  style="font-size: 10pt;">2.) pontos nevedet</span><br /><span style="font-
 size: 10pt;">3.) mobil számodat</span><br /><span style="font-size: 10pt;"
 >4.) e-mail címedet</span><br /><span style="font-size: 10pt;">5.) kedvezm
 ény alapját (ha jogosult vagy)<br /><br /><br /></span></p>
CONTACT:
 
 
 
 
 Ez az email cím védett a spam robotoktól, a megtekintéséhez engedélyezni kell a Javascriptet.
 
 
 , +36304419019

DTSTAMP:20260420T074922Z
DTSTART:20170427T140000Z
DTEND:20170427T180000Z
SEQUENCE:0
TRANSP:OPAQUE
END:VEVENT
END:VCALENDAR