BEGIN:VCALENDAR
VERSION:2.0
PRODID:-//jEvents 1.5 for Joomla//EN
BEGIN:VEVENT
CALSCALE:GREGORIAN
METHOD:PUBLISH

UID:105bdd31891a030a6a80bc74f8520899
CATEGORIES:Egyéb kapcsolódó tanfolyam
SUMMARY:HerczegA: Gyermekkori elváltozások biologikus megoldásai 2/2 (Budapest)
LOCATION:Budapest, V.ker. Hercegprímás u. 13.
DESCRIPTION;ENCODING=QUOTED-PRINTABLE:<p><strong><span style="font-size: 12pt;">GYERMEKKORI ELVÁLTOZÁSOK BIOLOG
 IKUS ÉRTELMEZÉSE ÉS MEGOLDÁSAI<br />2 napos tanfolyam <span style="colo
 r: #003366;">Budapesten</span></span></strong></p><p><span style="font-size
 : 10pt;"><br /></span></p><p><span style="font-size: 10pt;">időtartam: <st
 rong>2017. március 4-5</strong><span style="color: #000000;"><strong>.</st
 rong></span></span></p><p><span style="font-size: 10pt;">Figyelem! Ez egy t
 öbb napos tréning, további információ az első napnál, </span><a href
 ="icalrepeat.detail/2017/03/04/4182/" target="_blank"><span style="font-siz
 e: 10pt;">ide kattintva</span></a><span style="font-size: 10pt;">.</span></
 p>
CONTACT:
 
 
 
 
 Ez az email cím védett a spam robotoktól, a megtekintéséhez engedélyezni kell a Javascriptet.
 
 
 

DTSTAMP:20260420T074236Z
DTSTART:20170305T090000Z
DTEND:20170305T160000Z
SEQUENCE:0
TRANSP:OPAQUE
END:VEVENT
END:VCALENDAR