BEGIN:VCALENDAR
VERSION:2.0
PRODID:-//jEvents 1.5 for Joomla//EN
BEGIN:VEVENT
CALSCALE:GREGORIAN
METHOD:PUBLISH

UID:3904151bb427ba3b182a5634003cc160
CATEGORIES:Alap szeminÃ¡rium 
SUMMARY:EgriBiologikaKÃ¶r: Biologika ALAP tanfolyam 1/4 (Budapest)
LOCATION:Budapest, Flow StÃºdiÃ³ 1071, Dembinszky utca 29. I/12.
DESCRIPTION;ENCODING=QUOTED-PRINTABLE:\n\n&nbsp;BIOLOGIKA (ÃšJ MEDICINA) TANFOLYAM&nbsp;\n\n\n4 napos ALAP tanfol
 yam BUDAPESTEN\n\n\n\n\n \n\n\ntÃ©makÃ¶r: daganatok, sorvadÃ¡sok Ã©s mÃ¡s e
 lvÃ¡ltozÃ¡sok, biolÃ³giai Ã©rtelmÃ¼k, cÃ©ljuk, rendeltetÃ©sÃ¼k Ã©s lefolyÃ¡
 suk.&nbsp;\n\n\nelnevezÃ©s: Biologika (Ãšj Medicina) alap tanfolyam\n\n\ntr
 Ã©ner:&nbsp;VÃ¡czy JÃ³zsef\n\n\n\nhelyszÃ­n: Budapest, Flow StÃºdiÃ³  1071,
  Budapest, Dembinszky utca 29. I/12.\n\n\n\nidÅ‘tartam: 4 nap, 2017. Ã¡pril
 is 8-9; Ã¡prilis 15-16.\n\n\n\n elÅ‘feltÃ©tel: az alapismeretek.biologika.h
 u cÃ­men elÃ©rhetÅ‘ elÅ‘adÃ¡st figyelmesen hallgassa vÃ©gig legalÃ¡bb kÃ©ts
 zer.&nbsp;\n\n\nA tananyag Ã©s prezentÃ¡ciÃ³s anyag a Biologika Szerv Atlas
 z. Ha szeretne beletekinteni itt megteheti: www.szervatlasz.hu\n\n\nrÃ©szvÃ
 ©teli dÃ­j: (4 nap): 50.000.-Ft / fÅ‘ / 4 nap,&nbsp;\n\n\nKedvezmÃ©nyek:\n-
  CsalÃ¡di kedvezmÃ©ny: 2 kÃ¶zeli, egy hÃ¡ztartÃ¡sban Ã©lÅ‘ csalÃ¡dtag, ugya
 nazon\ntanfolyamra tÃ¶rtÃ©nÅ‘ jelentkezÃ©se esetÃ©n 20% kedvezmÃ©ny\n- DiÃ¡
 k kedvezmÃ©ny: 12-18 Ã©v kÃ¶zÃ¶tti diÃ¡kok rÃ©szÃ©re ingyenes a tanfolyam \
 n- IsmÃ©tlÅ‘knek: 50% kedvezmÃ©ny (mÃ¡s kedvezmÃ©nnyel nem vonhatÃ³ Ã¶ssze)
 \n- KorÃ¡nkelÅ‘ kedvezmÃ©ny: 1 000 Ft/fÅ‘/nap kedvezmÃ©ny (csalÃ¡di kedvezm
 Ã©ny esetÃ©n 700Ft/nap kedvezmÃ©ny)\nEnnek igÃ©nybevÃ©telÃ©hez a teljes Ã¶s
 szeget a tanfolyam elÅ‘tt 3 hÃ©ttel szÃ¼ksÃ©ges kifizetni. \n\n\n\n\njelent
 kezÃ©s:&nbsp;Ã­rÃ¡sos elÅ‘regisztrÃ¡ciÃ³ kÃ¶telezÅ‘ ezen a JelentkezÃ©si la
 pon.\n\n\n\n\nA tanfolyam cÃ©lja:\n\n\nAz Ã¶t termÃ©szettÃ¶rvÃ©ny megismert
 etÃ©sÃ©n keresztÃ¼l Ãºj nÃ©zÅ‘pontok talÃ¡lÃ¡sa testÃ¼nk mÅ±kÃ¶dÃ©sÃ©rÅ‘l. 
 MegnyugtatÃ³an Ã©rthetÅ‘vÃ© tenni a kÃ¼lÃ¶nbÃ¶zÅ‘ kiszÃ¡mÃ­thatatlannak hit
 t elvÃ¡ltozÃ¡sok folyamatait, okait, Ã©s cÃ©ljÃ¡t. RÃ¡vilÃ¡gÃ­tani az Ã©rze
 lmi Ã©s testi mÅ±kÃ¶dÃ©s szoros Ã¶sszefÃ¼ggÃ©seire, Ã©s az ezekbÅ‘l fakadÃ³
  kÃ¶vetkezmÃ©nyekre. Az egyes szervi elvÃ¡ltozÃ¡sok Ã¡tbeszÃ©lÃ©sekor tett 
 felismerÃ©sek, elÅ‘segÃ­tik az Ãºj nÃ©zÅ‘pontok rÃ¶gzÃ­tÃ©sÃ©t Ã©s megfigye
 lÃ©sÃ©nek kÃ©pessÃ©gÃ©t a mindennapokban. IgyekszÃ¼nk kialakÃ­tani a konfli
 ktusok megoldÃ¡sÃ¡ra valÃ³ kÃ©pessÃ©g alapjait, melyet a HaladÃ³ tanfolyama
 inkon elhangzÃ³ tudÃ¡sanyaggal Ã©pÃ­tÃ¼nk fel. Az itt elsajÃ¡tÃ­tott analog
 ikus gondolkodÃ¡ssal testÃ¼nk mÅ±kÃ¶dÃ©sÃ©n tÃºl rÃ¡lÃ¡thatunk a termÃ©szet
  Ã©s a tÃ¡rsadalom mÅ±kÃ¶dÃ©sÃ©nek rendjÃ©re is.\n\n\nAz elÅ‘adÃ¡sok Barnai
  Roberto Ã¡ltal kÃ©szÃ­tett Szerv Atlasz tudÃ¡sanyagÃ¡ra Ã©pÃ¼lnek, dÃ¶ntÅ‘
  rÃ©szt azok Ã¡brÃ¡it hasznÃ¡ljÃ¡k.\n\n\n\nA tanfolyam tematikÃ¡ja\n\n\n\n1
 . nap\n\n\nA BIOLOGIKA mint a kiszÃ¡mÃ­thatÃ³ Ã©letminÅ‘sÃ©g zÃ¡loga\nDr. R
 yke Geerd Hammer munkÃ¡ssÃ¡ga\nBarnai Roberto, Szerv Atlasz felÃ©pÃ­tÃ©se Ã
 ©s hasznÃ¡lata\nAz Ã¶t biolÃ³giai termÃ©szettÃ¶rvÃ©ny rÃ©szletes ismertetÃ©
 se, Ã¶sszefÃ¼ggÃ©srendszerÃ©nek bemutatÃ¡sa, Ã©lÅ‘ tudÃ¡ssÃ¡ tÃ©tele, a min
 dennapi hasznÃ¡lhatÃ³sÃ¡g Ã©rdekÃ©ben a teljes megÃ©rtÃ©st cÃ©lozva\nA daga
 natok helyes Ã©rtelmezÃ©se\nAz egyes agyi terÃ¼letek, Ã©s az Ã¡ltaluk vezÃ©
 relt szÃ¶vetek sajÃ¡tossÃ¡gai\n\n\n\n2. nap\n\n\nAz agytÃ¶rzs vezÃ©relte mi
 rigyszÃ¶vetes szervek elvÃ¡ltozÃ¡sai (daganatok)\nAz kÃ¶zÃ©pagy vezÃ©relte 
 simaizomszÃ¶vetek elvÃ¡ltozÃ¡sai\nA miÃ³mÃ¡k keletkezÃ©se, Ã©lettani okai.\
 nAz kisagy vezÃ©relte szervek elvÃ¡ltozÃ¡sai\nA hÃ¡rtyaszÃ¶vetek \nA bÅ‘r i
 rha rÃ©sze Ã©s tejmirigyek\n\n\n\n3. nap\n\n\nA velÅ‘Ã¡llomÃ¡ny vezÃ©relte 
 szervek elvÃ¡ltozÃ¡sai\nKÃ¶tÅ‘szÃ¶vetek, vÃ¡zrendszer\nA szÃ­vizom Ã©s elvÃ
 ¡ltozÃ¡sai\nVÃ©r- Ã©s nyirokrendszer\nLeukÃ©mia\nCisztÃ¡k sajÃ¡tossÃ¡gai\nH
 ere- Ã©s petefÃ©szekciszta\n\n\n\n4. nap\n\n\nA kÃ©regÃ¡llomÃ¡ny vezÃ©relte
  szervek elvÃ¡ltozÃ¡sai\nFekÃ©lyek, szÃ¶vetelhalÃ¡sok\nBÅ‘rbetegsÃ©gek, pÃ¡
 nikbetegsÃ©g, allergiÃ¡k\nFunkciÃ³kimaradÃ¡sok, bÃ©nulÃ¡sok, cukorszint vÃ¡
 ltozÃ¡sok\nHormonÃ¡lis Ã¡llapotot befolyÃ¡solÃ³ elvÃ¡ltozÃ¡sok\nAsztma, szÃ
 ­vinfarktus, hÃºgyÃºti betegsÃ©gek\n\n\n\nSzeretettel vÃ¡runk tanfolyamunko
 n!\n
CONTACT:
 
 
 
 
 Ez az email cÃ­m vÃ©dett a spam robotoktÃ³l, a megtekintÃ©sÃ©hez engedÃ©lyezni kell a Javascriptet.
 
 
 , +36302079509

DTSTAMP:20260419T171635Z
DTSTART:20170408T080000Z
DTEND:20170408T150000Z
SEQUENCE:0
TRANSP:OPAQUE
END:VEVENT
END:VCALENDAR