BEGIN:VCALENDAR
VERSION:2.0
PRODID:-//jEvents 1.5 for Joomla//EN
BEGIN:VEVENT
CALSCALE:GREGORIAN
METHOD:PUBLISH

UID:fe7c6e08d7c8a3f2e526acdd0cbbee75
CATEGORIES:Alap szeminárium 
SUMMARY:EgriBiologikaKör: Biologika ALAP tanfolyam 2/4 (Budapest)
LOCATION:Budapest, Flow Stúdió 1071, Dembinszky utca 29. I/12.
DESCRIPTION;ENCODING=QUOTED-PRINTABLE:\n\n&nbsp;\nBIOLOGIKA (ÚJ MEDICINA) TANFOLYAM&nbsp;\n\n\n4 napos&nbsp;ALAP
 &nbsp;tanfolyam&nbsp; BUDAPESTEN\n\n\n\nelnevezés: Biologika (Új Medicina
 )&nbsp;alap tanfolyam&nbsp;\n\n\nidőtartam: 4 nap, 2017. április 8-9; áp
 rilis 15-16. \n \n\n\nFigyelem! Ez egy több napos tréning, további infor
 máció az első napnál, ide kattintva.\n
CONTACT:
 
 
 
 
 Ez az email cím védett a spam robotoktól, a megtekintéséhez engedélyezni kell a Javascriptet.
 
 
 , +36302079509

DTSTAMP:20260419T171538Z
DTSTART:20170409T080000Z
DTEND:20170409T150000Z
SEQUENCE:0
TRANSP:OPAQUE
END:VEVENT
END:VCALENDAR