BEGIN:VCALENDAR
VERSION:2.0
PRODID:-//jEvents 1.5 for Joomla//EN
BEGIN:VEVENT
CALSCALE:GREGORIAN
METHOD:PUBLISH

UID:8ea6cd207eae16739a02ab1f1c973399
CATEGORIES:Alap szeminÃ¡rium 
SUMMARY:EgriBiologikaKÃ¶r: Biologika ALAP tanfolyam 1/4 (Eger)
LOCATION:Ã‰bredÃ©s Holisztikus KÃ¶zpont, Eger, SzÃ¡lloda u. 5. IV.em
DESCRIPTION;ENCODING=QUOTED-PRINTABLE:<p>&nbsp;</p><p><b><span style="font-size: 12pt;">BIOLOGIKA (ÃšJ MEDICINA) 
 TANFOLYAM<br />4 napos ALAP tanfolyam <b><span class="Apple-converted-space
 "><span class="Apple-converted-space"><b style="color: #000000; font-family
 : 'Helvetica','Arial',sans-serif; font-size: 11px; font-style: normal; font
 -variant: normal; letter-spacing: normal; line-height: normal; text-indent:
  0px; text-transform: none; white-space: normal; word-spacing: 0px; backgro
 und-color: #ffffff;"><span style="font-size: 12pt;"><span style="color: #00
 3366;">EGERBEN</span></span></b></span></span></b><br /></span></b></p><p><
 b><span class="Apple-converted-space"><br /><span class="Apple-converted-sp
 ace"><b style="color: #000000; font-family: 'Helvetica', 'Arial', sans-seri
 f; font-size: 11px; font-style: normal; font-variant: normal; letter-spacin
 g: normal; line-height: normal; text-indent: 0px; text-transform: none; whi
 te-space: normal; word-spacing: 0px; background-color: #ffffff;"><span styl
 e="font-size: 12pt;"><span class="Apple-converted-space"></span></span></b>
  </span></span></b></p><p><b><span style="font-size: 12pt;"></span></b><spa
 n style="font-size: 10pt;">tÃ©makÃ¶r: daganatok, sorvadÃ¡sok Ã©s mÃ¡s elvÃ¡
 ltozÃ¡sok, biolÃ³giai Ã©rtelmÃ¼k, cÃ©ljuk, rendeltetÃ©sÃ¼k Ã©s lefolyÃ¡suk.
 &nbsp;</span></p><p><span style="font-size: 10pt;">elnevezÃ©s: Biologika (Ã
 šj Medicina)<span class="Apple-converted-space"> alap tanfolyam</span></spa
 n></p><p><span style="font-size: 10pt;">trÃ©ner:<span class="Apple-converte
 d-space">&nbsp;</span></span><span style="font-size: 10pt;"><strong>VÃ¡czy 
 JÃ³zsef</strong><br /></span></p><p><span style="font-size: 10pt;">helyszÃ­
 n:<strong><span class="Apple-converted-space"> Ã‰bredÃ©s Holisztikus KÃ¶zpo
 nt, Eger SzÃ¡lloda u. 5. IV.em </span></strong></span><span style="font-siz
 e: 10pt;"><span style="margin: 0px; padding: 0px; border: 0px none; outline
 : 0px none; font-size: 10pt; background: transparent none repeat scroll 0% 
 0%;"><span style="font-size: 10pt;"></span><br /></span></span></p><p><span
  style="font-size: 10pt;">idÅ‘tartam: <span style="margin: 0px; padding: 0p
 x; border: 0px none; outline: 0px none; font-size: 10pt; background: transp
 arent none repeat scroll 0% 0%;"><strong style="margin: 0px; padding: 0px; 
 border: 0px none; outline: 0px none; font-size: 13.3333px; color: inherit; 
 background: transparent none repeat scroll 0% 0%;">4 nap</strong>, <b>2017.
  mÃ¡rcius 18-19; mÃ¡rcius 25-26<span style="margin: 0px; padding: 0px; bord
 er: 0px none; outline: 0px none; font-size: 10pt; background: transparent n
 one repeat scroll 0% 0%;"><span style="margin: 0px; padding: 0px; border: 0
 px none; outline: 0px none; font-size: 10pt; background: transparent none r
 epeat scroll 0% 0%;"></span></span><br /></b></span></span></p><p><span sty
 le="font-size: 10pt;"><span style="margin: 0px; padding: 0px; border: 0px n
 one; outline: 0px none; font-size: 10pt; background: transparent none repea
 t scroll 0% 0%;"></span><b> </b>elÅ‘feltÃ©tel:<span class="Apple-converted-
 space"> az <span style="text-decoration: underline;"><a target="_blank" hre
 f="http://www.alapismeretek.biologika.hu">alapismeretek.biologika.hu</a></s
 pan> cÃ­men elÃ©rhetÅ‘ elÅ‘adÃ¡st figyelmesen hallgassa vÃ©gig legalÃ¡bb kÃ
 ©tszer.&nbsp;</span></span></p><p><span style="font-size: 10pt;">A tananyag
  Ã©s prezentÃ¡ciÃ³s anyag a Biologika Szerv Atlasz. </span><span style="fon
 t-size: 10pt;">Ha szeretne beletekinteni itt megteheti: <a href="http://sze
 rvatlasz.hu">www.szervatlasz.hu</a></span></p><p><span style="font-size: 10
 pt;">rÃ©szvÃ©teli dÃ­j: (4 nap): <strong>50.000.-Ft / fÅ‘ / 4 nap</strong>,
 &nbsp;</span></p><p><span style="font-size: 10pt;">KedvezmÃ©nyek:<br />- <s
 trong>CsalÃ¡di kedvezmÃ©ny:</strong> 2 kÃ¶zeli, egy hÃ¡ztartÃ¡sban Ã©lÅ‘ cs
 alÃ¡dtag, ugyanazon<br />tanfolyamra tÃ¶rtÃ©nÅ‘ jelentkezÃ©se esetÃ©n 20% k
 edvezmÃ©ny<br />- <strong>DiÃ¡k kedvezmÃ©ny:</strong> 12-18 Ã©v kÃ¶zÃ¶tti d
 iÃ¡kok rÃ©szÃ©re ingyenes a tanfolyam <br />- <strong>IsmÃ©tlÅ‘knek:</stron
 g> 50% kedvezmÃ©ny (mÃ¡s kedvezmÃ©nnyel nem vonhatÃ³ Ã¶ssze)<br />- <strong
 >KorÃ¡nkelÅ‘ kedvezmÃ©ny</strong>: 1 000 Ft/fÅ‘/nap kedvezmÃ©ny (csalÃ¡di k
 edvezmÃ©ny esetÃ©n 700Ft/nap kedvezmÃ©ny)<br />Ennek igÃ©nybevÃ©telÃ©hez a 
 teljes Ã¶sszeget a tanfolyam elÅ‘tt 3 hÃ©ttel szÃ¼ksÃ©ges kifizetni. <br />
 <br /></span><span style="font-size: 10pt;"></span></p><p><span style="font
 -size: 10pt;">jelentkezÃ©s:<span class="Apple-converted-space">&nbsp;</span
 ></span><b><span style="color: #800000;"><span style="font-size: 10pt;">Ã­r
 Ã¡sos elÅ‘regisztrÃ¡ciÃ³ kÃ¶telezÅ‘</span></span></b><span style="font-size
 : 10pt;"><span class="Apple-converted-space"> </span><span class="Apple-con
 verted-space">ezen a </span><a target="_blank" href="https://docs.google.co
 m/forms/d/e/1FAIpQLSf9n24zv9wHxj_FyGZ8fMqqYZm-Wlun_gdyIzJ2wKmDvaW0Pg/viewfo
 rm?c=0&amp;w=1"><span style="text-decoration: underline;">JelentkezÃ©si lap
 </span></a>on.<br /><br /></span></p><p><strong><span style="font-size: 10p
 t;">A tanfolyam cÃ©lja:</span></strong></p><p><span style="font-size: 10pt;
 ">Az Ã¶t termÃ©szettÃ¶rvÃ©ny megismertetÃ©sÃ©n keresztÃ¼l Ãºj nÃ©zÅ‘pontok 
 talÃ¡lÃ¡sa testÃ¼nk mÅ±kÃ¶dÃ©sÃ©rÅ‘l. MegnyugtatÃ³an Ã©rthetÅ‘vÃ© tenni a k
 Ã¼lÃ¶nbÃ¶zÅ‘ kiszÃ¡mÃ­thatatlannak hitt elvÃ¡ltozÃ¡sok folyamatait, okait, 
 Ã©s cÃ©ljÃ¡t. RÃ¡vilÃ¡gÃ­tani az Ã©rzelmi Ã©s testi mÅ±kÃ¶dÃ©s szoros Ã¶ssz
 efÃ¼ggÃ©seire, Ã©s az ezekbÅ‘l fakadÃ³ kÃ¶vetkezmÃ©nyekre. Az egyes szervi 
 elvÃ¡ltozÃ¡sok Ã¡tbeszÃ©lÃ©sekor tett felismerÃ©sek, elÅ‘segÃ­tik az Ãºj nÃ
 ©zÅ‘pontok rÃ¶gzÃ­tÃ©sÃ©t Ã©s megfigyelÃ©sÃ©nek kÃ©pessÃ©gÃ©t a mindennapok
 ban. IgyekszÃ¼nk kialakÃ­tani a konfliktusok megoldÃ¡sÃ¡ra valÃ³ kÃ©pessÃ©g
  alapjait, melyet a HaladÃ³ tanfolyamainkon elhangzÃ³ tudÃ¡sanyaggal Ã©pÃ­t
 Ã¼nk fel. Az itt elsajÃ¡tÃ­tott analogikus gondolkodÃ¡ssal testÃ¼nk mÅ±kÃ¶d
 Ã©sÃ©n tÃºl rÃ¡lÃ¡thatunk a termÃ©szet Ã©s a tÃ¡rsadalom mÅ±kÃ¶dÃ©sÃ©nek re
 ndjÃ©re is.</span></p><p><span style="font-size: 10pt;">Az elÅ‘adÃ¡sok Barn
 ai Roberto Ã¡ltal kÃ©szÃ­tett Szerv Atlasz tudÃ¡sanyagÃ¡ra Ã©pÃ¼lnek, dÃ¶nt
 Å‘ rÃ©szt azok Ã¡brÃ¡it hasznÃ¡ljÃ¡k.</span></p><p><span style="font-size: 
 10pt;"><br /><strong>A tanfolyam tematikÃ¡ja</strong></span></p><p><strong>
 <span style="font-size: 10pt;"><br />1. nap</span></strong></p><p><span sty
 le="font-size: 10pt;">A BIOLOGIKA mint a kiszÃ¡mÃ­thatÃ³ Ã©letminÅ‘sÃ©g zÃ¡
 loga</span><br /><span style="font-size: 10pt;">Dr. Ryke Geerd Hammer munkÃ
 ¡ssÃ¡ga</span><br /><span style="font-size: 10pt;">Barnai Roberto, Szerv At
 lasz felÃ©pÃ­tÃ©se Ã©s hasznÃ¡lata</span><br /><span style="font-size: 10pt
 ;">Az Ã¶t biolÃ³giai termÃ©szettÃ¶rvÃ©ny rÃ©szletes ismertetÃ©se, Ã¶sszefÃ¼
 ggÃ©srendszerÃ©nek bemutatÃ¡sa, Ã©lÅ‘ tudÃ¡ssÃ¡ tÃ©tele, a mindennapi haszn
 Ã¡lhatÃ³sÃ¡g Ã©rdekÃ©ben a teljes megÃ©rtÃ©st cÃ©lozva</span><br /><span st
 yle="font-size: 10pt;">A daganatok helyes Ã©rtelmezÃ©se</span><br /><span s
 tyle="font-size: 10pt;">Az egyes agyi terÃ¼letek, Ã©s az Ã¡ltaluk vezÃ©relt
  szÃ¶vetek sajÃ¡tossÃ¡gai</span></p><p><strong><span style="font-size: 10pt
 ;"><br />2. nap</span></strong></p><p><span style="font-size: 10pt;">Az agy
 tÃ¶rzs vezÃ©relte mirigyszÃ¶vetes szervek elvÃ¡ltozÃ¡sai (daganatok)</span>
 <br /><span style="font-size: 10pt;">Az kÃ¶zÃ©pagy vezÃ©relte simaizomszÃ¶v
 etek elvÃ¡ltozÃ¡sai</span><br /><span style="font-size: 10pt;">A miÃ³mÃ¡k k
 eletkezÃ©se, Ã©lettani okai.</span><br /><span style="font-size: 10pt;">Az 
 kisagy vezÃ©relte szervek elvÃ¡ltozÃ¡sai</span><br /><span style="font-size
 : 10pt;">A hÃ¡rtyaszÃ¶vetek </span><br /><span style="font-size: 10pt;">A b
 Å‘r irha rÃ©sze Ã©s tejmirigyek</span></p><p><strong><span style="font-size
 : 10pt;"><br />3. nap</span></strong></p><p><span style="font-size: 10pt;">
 A velÅ‘Ã¡llomÃ¡ny vezÃ©relte szervek elvÃ¡ltozÃ¡sai</span><br /><span style
 ="font-size: 10pt;">KÃ¶tÅ‘szÃ¶vetek, vÃ¡zrendszer</span><br /><span style="
 font-size: 10pt;">A szÃ­vizom Ã©s elvÃ¡ltozÃ¡sai</span><br /><span style="f
 ont-size: 10pt;">VÃ©r- Ã©s nyirokrendszer</span><br /><span style="font-siz
 e: 10pt;">LeukÃ©mia</span><br /><span style="font-size: 10pt;">CisztÃ¡k saj
 Ã¡tossÃ¡gai</span><br /><span style="font-size: 10pt;">Here- Ã©s petefÃ©sze
 kciszta</span></p><p><strong><span style="font-size: 10pt;"><br />4. nap</s
 pan></strong></p><p><span style="font-size: 10pt;">A kÃ©regÃ¡llomÃ¡ny vezÃ©
 relte szervek elvÃ¡ltozÃ¡sai</span><br /><span style="font-size: 10pt;">Fek
 Ã©lyek, szÃ¶vetelhalÃ¡sok</span><br /><span style="font-size: 10pt;">BÅ‘rbe
 tegsÃ©gek, pÃ¡nikbetegsÃ©g, allergiÃ¡k</span><br /><span style="font-size: 
 10pt;">FunkciÃ³kimaradÃ¡sok, bÃ©nulÃ¡sok, cukorszint vÃ¡ltozÃ¡sok</span><br
  /><span style="font-size: 10pt;">HormonÃ¡lis Ã¡llapotot befolyÃ¡solÃ³ elvÃ
 ¡ltozÃ¡sok</span><br /><span style="font-size: 10pt;">Asztma, szÃ­vinfarktu
 s, hÃºgyÃºti betegsÃ©gek</span></p><p><em><span style="font-size: 10pt;"><b
 r />Szeretettel vÃ¡runk tanfolyamunkon!</span></em></p>
CONTACT:
 
 
 
 
 Ez az email cÃ­m vÃ©dett a spam robotoktÃ³l, a megtekintÃ©sÃ©hez engedÃ©lyezni kell a Javascriptet.
 
 
 , +36302079509

DTSTAMP:20260419T205237Z
DTSTART:20170318T090000Z
DTEND:20170318T160000Z
SEQUENCE:0
TRANSP:OPAQUE
END:VEVENT
END:VCALENDAR