BEGIN:VCALENDAR
VERSION:2.0
PRODID:-//jEvents 1.5 for Joomla//EN
BEGIN:VEVENT
CALSCALE:GREGORIAN
METHOD:PUBLISH

UID:188e7e35ece884e20f7ff602181afd21
CATEGORIES:Egyéb kapcsolódó tanfolyam
SUMMARY:EgriBiologikaKör: Biologika KULCSOK tanfolyam 1/2 (Eger)
LOCATION:Ébredés Holisztikus Központ, Eger, Szálloda u. 5. IV.em
DESCRIPTION;ENCODING=QUOTED-PRINTABLE:<p><b><span style="font-size: 12pt;">BIOLOGIKA "KULCSOK" TANFOLYAM <br />2 
 napos tanfolyam <b><span class="Apple-converted-space"><span class="Apple-c
 onverted-space"><b style="color: #000000; font-family: 'Helvetica','Arial',
 sans-serif; font-size: 11px; font-style: normal; font-variant: normal; lett
 er-spacing: normal; line-height: normal; text-indent: 0px; text-transform: 
 none; white-space: normal; word-spacing: 0px; background-color: #ffffff;"><
 span style="font-size: 12pt;"><span style="color: #003366;">Egerben</span><
 /span></b></span></span></b><br /></span></b></p><p><b><span class="Apple-c
 onverted-space"><br /><span class="Apple-converted-space"><b style="color: 
 #000000; font-family: 'Helvetica', 'Arial', sans-serif; font-size: 11px; fo
 nt-style: normal; font-variant: normal; letter-spacing: normal; line-height
 : normal; text-indent: 0px; text-transform: none; white-space: normal; word
 -spacing: 0px; background-color: #ffffff;"><span style="font-size: 12pt;"><
 span class="Apple-converted-space"></span></span></b> </span></span></b></p
 ><p><span style="font-size: 10pt;">tréner:<span class="Apple-converted-spa
 ce"> </span></span><span style="font-size: 10pt;"><strong>Pindrok Beáta</s
 trong>&nbsp; </span></p><p><span style="font-size: 10pt;">helyszín:<strong
 ><span class="Apple-converted-space"> Eger, Ébredés Holisztikus Központ,
  <span style="margin: 0px; padding: 0px; border: 0px none; outline: 0px non
 e; font-size: 10pt; background: transparent none repeat scroll 0% 0%;"><spa
 n style="margin: 0px; padding: 0px; border: 0px none; outline: 0px none; fo
 nt-size: 10pt; background-image: initial; background-color: transparent; ba
 ckground-position: initial; background-repeat: initial;"><span style="margi
 n: 0px; padding: 0px; border: 0px none; outline: 0px none; font-size: 10pt;
  background-image: initial; background-color: transparent; background-posit
 ion: initial; background-repeat: initial;"><span style="line-height: 20.4px
 ; margin: 0px; padding: 0px; border: 0px none; outline: 0px none; font-size
 : 10pt; background-image: initial; background-position: initial; background
 -repeat: initial;"><span style="margin: 0px; padding: 0px; border: 0px none
 ; outline: 0px none; font-size: 10pt; background-image: none; background-co
 lor: transparent; background-position: 0% 0%; background-repeat: repeat;"><
 span style="margin: 0px; padding: 0px; border: 0px none; outline: 0px none;
  font-size: 10pt; background-image: initial; background-color: transparent;
  background-position: initial; background-repeat: initial;"></span></span><
 /span></span></span></span></span></strong></span><span style="font-size: 1
 0pt;">Szálloda u. 5. IV.em</span></p><p><span style="font-size: 10pt;">id
 tartam: <strong>2 nap</strong>, <strong>2017. április 22-23.</strong></sp
 an></p><p><span style="font-size: 10pt;">előfeltétel: A 4 napos alaptanfo
 lyam elvégzése, vagy az Énlelő Alapítvány A. Alapok, 1 napos képzés
 én való részvétel.<br />A tanfolyamhoz közel 40 oldalas jegyzetet bizt
 osítunk.<br /><br />részvételi díj: <strong>30 000 Ft/fő/2nap<br /><br
  /><span style="margin: 0px; padding: 0px; border: 0px none; outline: 0px n
 one; font-size: 10pt; background-image: initial; background-color: transpar
 ent; background-position: initial; background-repeat: initial;"><span style
 ="font-size: 13.3333px; line-height: 20.4px;">Kedvezmények:</span><br styl
 e="font-size: 13.3333px; line-height: 20.4px;" /></span><span style="margin
 : 0px; padding: 0px; border: 0px none; outline: 0px none; font-size: 10pt; 
 background-image: initial; background-color: transparent; background-positi
 on: initial; background-repeat: initial;"><span style="font-size: 13.3333px
 ; line-height: 20.4px;">- </span></span></strong><span style="font-size: 10
 pt;"><strong>Családi kedvezmény:</strong><span style="font-size: 13.3333p
 x; line-height: 20.4px;">&nbsp;2 közeli, egy háztartásban élő családt
 ag, ugyanazon </span><span style="font-size: 13.3333px; line-height: 20.4px
 ;">tanfolyamra történő jelentkezése esetén 20% kedvezmény</span><br s
 tyle="font-size: 13.3333px; line-height: 20.4px;" /><strong><span style="fo
 nt-size: 13.3333px; line-height: 20.4px;">-&nbsp;</span>Diák kedvezmény:<
 /strong><span style="font-size: 13.3333px; line-height: 20.4px;">&nbsp;12-1
 8 év közötti diákok részére ingyenes a tanfolyam&nbsp;</span><br styl
 e="font-size: 13.3333px; line-height: 20.4px;" /><strong><span style="font-
 size: 13.3333px; line-height: 20.4px;">-&nbsp;</span>Koránkelő kedvezmén
 y</strong><span style="font-size: 13.3333px; line-height: 20.4px;"><strong>
 :</strong> 1 000 Ft/fő/nap kedvezmény (családi kedvezmény esetén 700Ft
 /nap kedvezmény). </span><span style="font-size: 13.3333px; line-height: 2
 0.4px;">Ennek igénybevételéhez a teljes összeget a tanfolyam előtt 3 h
 éttel szükséges kifizetni.</span></span> <br /></span></p><p><span style
 ="font-size: 10pt;">jelentkezés:<span class="Apple-converted-space">&nbsp;
 </span></span><b><span style="color: #800000;"><span style="font-size: 10pt
 ;">írásos előregisztráció kötelező</span></span></b><span style="fon
 t-size: 10pt;"><span class="Apple-converted-space"> </span><span class="App
 le-converted-space">ezen a </span><a target="_blank" href="https://docs.goo
 gle.com/forms/d/e/1FAIpQLSf9n24zv9wHxj_FyGZ8fMqqYZm-Wlun_gdyIzJ2wKmDvaW0Pg/
 viewform?c=0&amp;w=1"><span style="text-decoration: underline;">Jelentkezé
 si lap</span></a>on.<br /><br /></span></p><p><span style="font-size: 10pt;
 ">Ezen a két napon agyunk működésének megértésén keresztül rálát
 unk biológiai létünk, érzelmi állapotaink vezéreltségére, konfliktu
 saink típusaira, okaira, végleges megoldásainak lehetőségére.</span><
 /p><p><span style="font-size: 10pt;">&nbsp;&nbsp;&nbsp; Ha megértjük agyu
 nk irányító szerepét érzelmi állapotaink, viselkedésünk, konfliktus
 aink tekintetében,</span><br /><span style="font-size: 10pt;">&nbsp;&nbsp;
 &nbsp; ha tudjuk, mi határozza meg, hogy mi okoz számunkra konfliktust, 
 s mi nem,</span><br /><span style="font-size: 10pt;">&nbsp;&nbsp;&nbsp; ha
  ismerjük érzelmi működésünk biológiai alapjait, és törvényszerű
 ségeit,</span><br /><span style="font-size: 10pt;">&nbsp;&nbsp;&nbsp; ha p
 éldákon keresztül rálátunk hiedelmeink, meggyőződéseink kialakulás
 ának módjára és jelentőségére,</span><br /><span style="font-size: 1
 0pt;">&nbsp;&nbsp;&nbsp; ha tudjuk, hol is tartunk emberként,</span><br />
 <span style="font-size: 10pt;">&nbsp;&nbsp;&nbsp; ha tisztában vagyunk a k
 onfliktusok föltárásához szükséges ismeretekkel,</span></p><p><span s
 tyle="font-size: 10pt;">AKKOR ESÉLYÜNK VAN:</span></p><p><span style="fon
 t-size: 10pt;">&nbsp;&nbsp;&nbsp; egyre kevesebb konfliktus megélésére,<
 /span><br /><span style="font-size: 10pt;">&nbsp;&nbsp;&nbsp; a betegségek
 ből való végleges felépülésre,</span><br /><span style="font-size: 10
 pt;">&nbsp;&nbsp;&nbsp; az életünkben tervezett változások, változtat
 sok sikeres megtételére,</span><br /><span style="font-size: 10pt;">&nbs
 p;&nbsp;&nbsp; életünk tudatos irányítójává válásra.</span></p><p>
 <strong><span style="font-size: 10pt;">A TANFOLYAM TEMATIKÁJA: <br /></spa
 n></strong></p><p>&nbsp;<span style="font-size: 10pt;"><br />1. nap</span><
 /p><p><span style="font-size: 10pt;">ÉRZELMI MŰKÖDÉSÜNK BIOLÓGIAI ALA
 PJAI</span></p><p><span style="font-size: 10pt;">- Az agy és a hormonrends
 zer szerepe az érzelmi állapotok alakulásában.</span><br /><span style=
 "font-size: 10pt;">- Agyi struktúránkat kialakító hatások.</span><br /
 ><span style="font-size: 10pt;">- Hiedelmeink, meggyőződéseink, szüksé
 gletrendszerünk kialakulásának folyamata, érzelmeinkre, viselkedésünk
 re gyakorolt hatása.</span><br /><span style="font-size: 10pt;">- A valós
 ág érzékelésének sorsdöntő jelentősége, és az ezt befolyásoló t
 ényezők.</span><br /><span style="font-size: 10pt;">- A nézőpont vált
 sok jelentősége, átalakításuk módja, folyamata.</span><br /><span st
 yle="font-size: 10pt;">- Érzelmi kompetencia, felelősségvállalás.</spa
 n><br /><span style="font-size: 10pt;">- Miért előnyös ismerni működé
 srendszerünket?</span></p><p><span style="font-size: 10pt;">2. nap</span><
 /p><p><span style="font-size: 10pt;">A KONFLIKTUSOK MEGOLDÁSÁHOZ SZÜKSÉ
 GES TUDNIVALÓK</span></p><p><span style="font-size: 10pt;">- Mi valójába
 n a DHS?</span><br /><span style="font-size: 10pt;">- Mi a konfliktus? Mi a
  stressz?</span><br /><span style="font-size: 10pt;">- Az Értelmes Biológ
 iai Különprogram lefutások érzelmi folyamata.</span><br /><span style="
 font-size: 10pt;">- A konfliktus oldás-megoldás kérdésköre.</span><br 
 /><span style="font-size: 10pt;">- Konfliktus típusok.</span><br /><span s
 tyle="font-size: 10pt;">- A sínek.</span><br /><span style="font-size: 10p
 t;">- A vakfolt</span><br /><span style="font-size: 10pt;">- Mi dönti el, 
 hogy milyen típusú konfliktusokra vagyunk érzékenyek?</span><br /><span
  style="font-size: 10pt;">- Az Értelmes Biológiai Különprogramok testi 
 tüneteinek és a lelki folyamatainak az összefüggései</span><br /><span
  style="font-size: 10pt;">- Az érzelmi és tudati többletállapotok (embe
 ri minőség) jellemzői, elérésének folyamata.</span></p><p><span style
 ="font-size: 10pt;"><br style="font-size: 10pt;" /></span></p><p>&nbsp;<em>
 <span style="font-size: 10pt;">Szeretettel várunk tanfolyamunkon!</span></
 em></p>
CONTACT:
 
 
 
 
 Ez az email cím védett a spam robotoktól, a megtekintéséhez engedélyezni kell a Javascriptet.
 
 
 , +36302079509

DTSTAMP:20260419T173140Z
DTSTART:20170422T080000Z
DTEND:20170422T150000Z
SEQUENCE:0
TRANSP:OPAQUE
END:VEVENT
END:VCALENDAR