BEGIN:VCALENDAR
VERSION:2.0
PRODID:-//jEvents 1.5 for Joomla//EN
BEGIN:VEVENT
CALSCALE:GREGORIAN
METHOD:PUBLISH

UID:e6fed1344af481d0bbb133626233c9e9
CATEGORIES:Egyéb kapcsolódó tanfolyam
SUMMARY:EgriBiologikaKör: Biologika KULCSOK tanfolyam 2/2 (Eger)
LOCATION:Ébredés Holisztikus Központ, Eger, Szálloda u. 5. IV.em
DESCRIPTION;ENCODING=QUOTED-PRINTABLE:\n\n&nbsp;\n\n\nBIOLOGIKA "KULCSOK" TANFOLYAM \n2 napos tanfolyam&nbsp; Ege
 rben\n\n\n\nelnevezés: Biologika (Új Medicina) haladó tanfolyam&nbsp;\n\
 n\nidőtartam: 4 nap, 2017. április 22-23. \n \n\n\nFigyelem! Ez egy több
  napos tréning, további információ az első napnál, ide kattintva.\n
CONTACT:
 
 
 
 
 Ez az email cím védett a spam robotoktól, a megtekintéséhez engedélyezni kell a Javascriptet.
 
 
 , +36302079509

DTSTAMP:20260419T145359Z
DTSTART:20170423T080000Z
DTEND:20170423T150000Z
SEQUENCE:0
TRANSP:OPAQUE
END:VEVENT
END:VCALENDAR